BEGIN:VCALENDAR
VERSION:2.0
PRODID:-//Teatro Olimpico - ECPv5.15.0.1//NONSGML v1.0//EN
CALSCALE:GREGORIAN
METHOD:PUBLISH
X-WR-CALNAME:Teatro Olimpico
X-ORIGINAL-URL:https://www.teatroolimpico.it
X-WR-CALDESC:Events for Teatro Olimpico
REFRESH-INTERVAL;VALUE=DURATION:PT1H
X-Robots-Tag:noindex
X-PUBLISHED-TTL:PT1H
BEGIN:VTIMEZONE
TZID:UTC
BEGIN:STANDARD
TZOFFSETFROM:+0000
TZOFFSETTO:+0000
TZNAME:UTC
DTSTART:20260101T000000
END:STANDARD
END:VTIMEZONE
BEGIN:VEVENT
DTSTART;VALUE=DATE:20260226
DTEND;VALUE=DATE:20260302
DTSTAMP:20260422T010143
CREATED:20250509T081715Z
LAST-MODIFIED:20260128T152447Z
UID:8750-1772064000-1772409599@www.teatroolimpico.it
SUMMARY:We Will Rock You
DESCRIPTION:IL MUSICAL TORNA CON UN NUOVO CAST\, UNA BAND ESPLOSIVA E TUTTA LA POTENZA DEI QUEEN \nDopo il successo delle passate stagioni\, We Will Rock You torna in scena con un’energia rinnovata\, pronto a far vivere al pubblico un’esperienza coinvolgente e più attuale che mai. Questa nuova attesissima tournée porterà l’energia e la magia dei Queen nei teatri delle principali città italiane. \nNato dalla penna irriverente di Ben Elton\, in collaborazione con Roger Taylor e Brian May dei leggendari Queen\, questo straordinario show\, da considerarsi una vera e propria opera Rock\, ha conquistato le scene internazionali con la sua energia travolgente\, il suo messaggio universale e\, soprattutto\, con la potenza senza tempo delle canzoni della band britannica. \nIl nuovo tour vedrà un cast rinnovato di grandi interpreti per quella che si preannuncia come l’esperienza musicale più entusiasmante dell’anno. L’irrequieto e tormentato Galileo\, affamato di verità\, sarà interpretato da Giorgio Adamo; Asia Retico vestirà i panni della spumeggiante Scaramouche; Giada Maragno sarà la spietata Killer Queen\, mentre Davide Bonafini e Francesco Cazzolla daranno vita rispettivamente al sadico Khashoggi e al determinato capo dei ribelli Brit. Tornerà sul palco Alessandra Ferrari\, già protagonista nelle precedenti edizioni\, ora di nuovo nei panni della carismatica Oz\, mentre Massimiliano Colonna\, presente nello spettacolo sin dal 2008\, interpreterà ancora una volta l’iconico Pop. Il grintoso ensemble\, che alterna i ruoli dei Yesmen e Yeswomen di Killer Queen e dei ribelli Bohemians\, sarà composto da Monica Ruggeri\, Davide Tagliento\, Giulia Gerola\, Erica Mariniello\, Emily Riva\, Mirco Di Santo\, Alessandro Savino e Gian Maria Picciau. \nUno spettacolo ormai cult\, capace di travolgere e coinvolgere il pubblico sin dalla prima nota\, grazie a una selezione esplosiva di brani leggendari che raccontano la storia di un gruppo di giovani impegnati nella ricerca della propria libertà di espressione in un mondo dove l’omologazione è legge e i gusti\, i sogni\, persino la musica\, sono imposti dall’alto.\nQuesti giovani\, molto diversi tra loro\, ma uniti dal desiderio di cambiamento\, trovano la forza di ribellarsi\, di fare gruppo e di dar vita a una battaglia collettiva per recuperare la propria voce e immaginare un futuro più libero\, più umano. Ed è proprio sulle note dei Queen che i giovani ribelli\, i Bohemians\, scrivono la loro rivoluzione. Se il futuro non è scritto\, allora il futuro appartiene a chi osa sognarlo.\nUn racconto epico e sempre attuale\, in cui si intrecciano temi di libertà\, identità\, coraggio\, sogno e ribellione\, accompagnati da un’ironia pungente e da un linguaggio visivo accattivante e coinvolgente. \nLa produzione si distingue per il suo impatto visivo e sonoro: coreografie travolgenti\, costumi futuristici\, luci spettacolari\, scenografia avvolgente e una cura maniacale per il suono. Ogni sera\, il palco prende vita grazie a una band di musicisti straordinari e a un cast di performer dal talento incredibile\, che con voci potenti e una presenza scenica magnetica restituiscono tutta la forza emotiva e fisica del repertorio dei Queen. È un’esperienza dal vivo autentica\, coinvolgente\, totale. \n👉CLICCA QUI PER GUARDARE IL TRAILER! 👈 \n\nSpettacoli 26-27 febbraio ore 20.30\, 28 febbraio ore 16 e 21\, 1° marzo ore 16 \n\n\n\nPrezzi\n\n\nSettore\nPrezzo intero\nPrevendita\nPrezzo 3-12 anni\nPrevendita 3-12 anni\n\n\n\n\nLa prevendita sarà sempre richiesta al momento dell’emissione del biglietto\n\n\n\n\nPoltronissima Gold\n€52\,20\n€7\,80\n—\n—\n\n\nPoltronissima Laterale\n€47\,00\n€7\,00\n€32\,90\n€4\,90\n\n\nPoltrona\n€39\,00\n€5\,90\n€27\,30\n€4\,10\n\n\nBalconata\n€39\,00\n€5\,90\n€27\,30\n€4\,10\n\n\nBalconata balaustra vis. ridotta\n€37\,00\n€5\,60\n€25\,90\n€3\,90\n\n\nBalconata Laterale\n€35\,00\n€5\,30\n€24\,50\n€3\,70\n\n\nBalconata Laterale balaustra vis. ridotta\n€33\,00\n€5\,00\n€23\,10\n€3\,50\n\n\n\n  \n\nACQUISTA ORA
URL:https://www.teatroolimpico.it/evento/we-will-rock-you-2/
CATEGORIES:Stagione 2025-2026
ATTACH;FMTTYPE=image/jpeg:https://www.teatroolimpico.it/wp-content/uploads/2025/05/WWRY_LAND.jpg
END:VEVENT
BEGIN:VEVENT
DTSTART;VALUE=DATE:20260302
DTEND;VALUE=DATE:20260303
DTSTAMP:20260422T010143
CREATED:20250923T150406Z
LAST-MODIFIED:20250926T154151Z
UID:9120-1772409600-1772495999@www.teatroolimpico.it
SUMMARY:Eugenio Finardi - Tutto '75 - '25
DESCRIPTION:Per festeggiare cinquant’anni dal suo primo album\, Eugenio Finardi torna con un nuovo tour e un nuovo disco intitolato TUTTO. \nDopo il successo di Euphonia Suite\, con ottanta date in tre anni\, Finardi presenta uno spettacolo in cui propone le canzoni più significative del suo vasto repertorio\, ripercorrendo mezzo secolo di carriera che lo ha consacrato come uno degli artisti più originali della Canzone d’Autore italiana. \nAccanto ai grandi successi\, non mancheranno brani tratti dal nuovo album omonimo\, un lavoro che stupisce per sonorità innovative e per la creatività inesauribile di un artista capace di raccontare il presente con lucidità e profondità. Sul palco\, insieme a lui\, tre talentuosi musicisti con cui crea atmosfere coinvolgenti e mai prevedibili. \nCon il passare degli anni\, la voce di Eugenio è diventata uno strumento duttile e raffinato\, capace di trasmettere emozioni profonde attraverso testi che toccano temi universali. Ciò che continua a distinguere Finardi è la sua spontaneità e la capacità di instaurare un autentico dialogo con il pubblico\, rendendo ogni concerto un’esperienza unica. \nSpettacolo ore 20.30 \n\n\n\n\nPrezzi\n\n\nSettore\nPrezzo intero\nPrevendita\n\n\n\n\nLa prevendita sarà sempre richiesta al momento dell’emissione del biglietto\n\n\n\n\nPoltronissima Gold\n€40\,00\n€6\,00\n\n\nPoltronissima Laterale\n€35\,00\n€5\,30\n\n\nPoltrona\n€30\,00\n€4\,50\n\n\nBalconata\n€25\,00\n€3\,80\n\n\nBalconata balaustra vis. ridotta\n€24\,00\n€3\,60\n\n\nBalconata Laterale\n€24\,00\n€3\,60\n\n\nBalconata Laterale balaustra vis. ridotta\n€22\,00\n€3\,30\n\n\n\n\nACQUISTA ORA
URL:https://www.teatroolimpico.it/evento/eugenio-finardi-tutto-75-25/
CATEGORIES:Stagione 2025-2026
ATTACH;FMTTYPE=image/jpeg:https://www.teatroolimpico.it/wp-content/uploads/2025/09/FINARDI_1920.jpg
END:VEVENT
BEGIN:VEVENT
DTSTART;VALUE=DATE:20260304
DTEND;VALUE=DATE:20260309
DTSTAMP:20260422T010143
CREATED:20250604T143306Z
LAST-MODIFIED:20260118T142600Z
UID:8802-1772582400-1773014399@www.teatroolimpico.it
SUMMARY:Titizé - A Venetian Dream
DESCRIPTION:© Viviana Cangialosi/Compagnia Finzi Pasca \nTitizé è un viaggio emozionante e unico tra sogno e realtà\, dove acrobazia\, clowneria\, magia\, musica e macchine sceniche sorprendenti danno vita a un teatro di pura meraviglia\, nell’inconfondibile universo poetico della Compagnia Finzi Pasca. \nUno spettacolo visivo e universale\, capace di incantare il pubblico di ogni età e di parlare a tutti attraverso il linguaggio delle emozioni. \nIn scena\, dieci straordinari artisti conducono il pubblico nel cuore di Venezia\, tra immagini poetiche\, leggerezza e stupore. \nTitizé porta la firma di Daniele Finzi Pasca\, che\, dopo aver creato per il Cirque du Soleil due celebri spettacoli\, Corteo e Luzia\, e numerose produzioni iconiche sui palcoscenici internazionali e nelle grandi cerimonie olimpiche – dove ha incantato milioni di spettatori – torna a dirigere in teatro\, dando vita a uno spettacolo che esplode di meraviglia visiva e acrobazie mozzafiato\, capace di far vivere al pubblico un vero sogno a occhi aperti. \netà consigliata: da 3 anni \nSpettacolo in collaborazione con Accademia Filarmonica Romana \n👉Clicca qui per guardare il trailer👈 \n\n\n\n        \n\n                            \n                                \n                                        Produzione                    \n                                                \n                                        Compagnia Finzi Pasca e Fondazione Teatro Stabile del Veneto – Teatro Nazionale\nin partnership con Gli Ipocriti Melina Balsamo                    \n                                        \n                            \n                                \n                                        Autore e Regia                    \n                                                \n                                        Daniele Finzi Pasca                    \n                                        \n                            \n                                \n                                        Artisti                    \n                                                \n                                        Gian Mattia Baldan\,\nAndrea Cerrato\,\nFrancesco Lanciotti\,\nLéa Kral\,\nLuca Morrocchi\,\nGloria Ninamor\,\nCaterina Pio\,\nRolando Tarquini\,\nMicol Veglia\,\nLeo Zappitelli                    \n                                        \n                            \n                                \n                                        Costumi                    \n                                                \n                                        Giovanna Buzzi                    \n                                        \n                            \n                                \n                                        Scene                    \n                                                \n                                        Scenografo: Hugo Gargiulo\nScenografo associato: Matteo Verlicchi                    \n                                        \n                            \n                                \n                                        Musiche                    \n                                                \n                                        Maria Bonzanigo                    \n                                        \n                            \n                                \n                                        Luci                    \n                                                \n                                        Daniele Finzi Pasca                    \n                                        \n                            \n                                \n                                        Produttore                    \n                                                \n                                        Antonio Vergamini                    \n                                        \n                            \n                                \n                                        Durata                    \n                                                \n                                        80 minuti (senza intervallo)                    \n                                        \n                    \n\n\n\nSpettacoli dal mercoledì al venerdì ore 20.30\, sabato ore 16.30 e 20.30 e domenica ore 17.00 \n\n\n\nPrezzi\n\n\nSettore\nPrezzo intero\nPrevendita\nPrezzo 3-12 anni\nPrevendita 3-12 anni\n\n\n\n\nLa prevendita sarà sempre richiesta al momento dell’emissione del biglietto\n\n\n\n\nPoltronissima Gold\n€42\,70\n€6\,30\n–\n–\n\n\nPoltronissima Laterale\n€38\,00\n€5\,70\n€26\,60\n€4\,00\n\n\nPoltrona\n€34\,00\n€5\,00\n€23\,80\n€3\,60\n\n\nBalconata\n€34\,00\n€5\,00\n€23\,80\n€3\,60\n\n\nBalconata balaustra vis. ridotta\n€31\,00\n€4\,60\n€21\,70\n€3\,20\n\n\nBalconata Laterale\n€28\,00\n€4\,20\n€19\,60\n€2\,90\n\n\nBalconata Laterale balaustra vis. ridotta\n€22\,00\n€3\,30\n€15\,40\n€2\,30\n\n\n\n  \n\nACQUISTA ORA
URL:https://www.teatroolimpico.it/evento/titize-a-venetian-dream/
CATEGORIES:Stagione 2025-2026
ATTACH;FMTTYPE=image/jpeg:https://www.teatroolimpico.it/wp-content/uploads/2025/06/TITIZe_1920_2.jpg
END:VEVENT
BEGIN:VEVENT
DTSTART;VALUE=DATE:20260311
DTEND;VALUE=DATE:20260406
DTSTAMP:20260422T010143
CREATED:20250313T212736Z
LAST-MODIFIED:20260327T141848Z
UID:8668-1773187200-1775433599@www.teatroolimpico.it
SUMMARY:Lillo e Greg - MOVIe ERCULeO
DESCRIPTION:Dopo il clamoroso successo di pubblico della prima edizione\, il Teatro Olimpico è felice di annunciare la ripresa di MOVIe ERCULeO\, l’ultimo e irriverente spettacolo di Lillo e Greg. Oltre due ore di risate in cui la famosa coppia comica romana porta in scena un incredibile viaggio metateatrale che stravolge i principali generali cinematografici: dal peplum all’horror\, dalla fantascienza al noir\, dal fantasy all’arte surreale\, dal poliziesco al musical. E per non parlare dell’importanza del product placement! Non sapete cos’è? Allora venite a seguire questa lezione magistrale che\, per quanto ci riguarda\, è impossibile da replicare! \n\nNUOVA REPLICA AGGIUNTA SABATO 4 APRILE ORE 16.30 BIGLIETTI DISPONIBILI\n4 APRILE ORE 16.30 \nAUTORI Claudio Gregori e Pasquale Petrolo\nREGIA Lillo&Greg\nCO REGIA Claudio Piccolotto\nCOSTUMI Nicoletta Fattibene\nCAST Lillo&Greg\, Federica Cifola\, Vania Della Bidia\, Marco Fiorini\, Attilio Di Giovanni.\nPRODUZIONE LSD Edizioni srl\nMUSICHE di Greg\, Lillo e Attilio Di Giovanni \nSpettacoli dal mercoledì al venerdì ore 20.30\, sabato ore 16.30 e 21\, domenica ore 16 e 20.30 (domenica 5 aprile ore 18) \n\n\n\n\nPrezzi\n\n\nSettore\nPrezzo intero\nPrevendita\n\n\n\n\nLa prevendita sarà sempre richiesta al momento dell’emissione del biglietto\n\n\n\n\nPoltronissima Gold\n€47\,00\n€7\,00\n\n\nPoltronissima Laterale\n€42\,00\n€6\,20\n\n\nPoltrona\n€37\,00\n€5\,50\n\n\nBalconata\n€37\,00\n€5\,50\n\n\nBalconata balaustra vis. ridotta\n€35\,00\n€5\,20\n\n\nBalconata Laterale\n€30\,00\n€4\,50\n\n\nBalconata Laterale balaustra vis. ridotta\n€29\,00\n€4\,30\n\n\n\n  \n\nACQUISTA ORA
URL:https://www.teatroolimpico.it/evento/lillo-e-greg-movie-erculeo-2/
CATEGORIES:Stagione 2025-2026
ATTACH;FMTTYPE=image/png:https://www.teatroolimpico.it/wp-content/uploads/2025/03/LILLO_GRAFICA2025.png
END:VEVENT
BEGIN:VEVENT
DTSTART;TZID=UTC:20260316T203000
DTEND;TZID=UTC:20260316T223000
DTSTAMP:20260422T010143
CREATED:20250627T094941Z
LAST-MODIFIED:20250628T143554Z
UID:8888-1773693000-1773700200@www.teatroolimpico.it
SUMMARY:Beatlestory - The Fabulous Tribute Show
DESCRIPTION:Dai palcoscenici di Broadway e del West End londinese ai teatri e alle arene di tutto il mondo\, BeatleStory riunisce un cast straordinario di musicisti con esperienza internazionale. \nNon si tratta di una semplice tribute band\, ma di uno spettacolo di livello mondiale che cattura lo spirito\, il suono e lo stile della band più influente di tutti i tempi. \nPer il tour 2025\, BeatleStory presenta con orgoglio una nuova produzione dedicata alle iconiche raccolte Red (1962–1966) e Blue (1967–1970) — un emozionante viaggio musicale attraverso i brani che hanno segnato un’intera generazione. \nBeatleStory è un concerto multimediale immersivo che racconta l’intera storia dei Beatles\, dagli esordi al Cavern Club fino all’ultimo storico concerto sul tetto a Londra. \nOltre 40 canzoni leggendarie eseguite dal vivo con straordinaria precisione e passione\, tra cui: Twist and Shout\, Yesterday\, Sgt. Pepper\, Hey Jude\, Come Together\, Let It Be. \nLo spettacolo è arricchito da strumenti d’epoca originali\, costumi e transizioni visive fedeli all’epoca\, scenografie e luci coinvolgenti\, proiezioni video immersive. \nSpettacolo ore 20.30 \n\n\n\n\nPrezzi\n\n\nSettore\nPrezzo intero\nPrevendita\nPrezzo 3-12 anni\nPrevendita 3-12 anni\n\n\n\n\nLa prevendita sarà sempre richiesta al momento dell’emissione del biglietto\n\n\n\n\nPoltronissima Gold\n€31\,00\n€4\,50\n–\n–\n\n\nPoltronissima Laterale\n€29\,50\n€4\,40\n€20\,60\n€3\,10\n\n\nPoltrona\n€27\,00\n€4\,10\n€18\,90\n€2\,80\n\n\nBalconata\n€27\,00\n€4\,10\n€18\,90\n€2\,80\n\n\nBalconata balaustra vis. ridotta\n€26\,00\n€3\,90\n€18\,20\n€2\,70\n\n\nBalconata Laterale\n€24\,00\n€3\,60\n€16\,80\n€2\,50\n\n\nBalconata Laterale balaustra vis. ridotta\n€22\,00\n€3\,30\n€15\,40\n€2\,30\n\n\n\n\nACQUISTA ORA
URL:https://www.teatroolimpico.it/evento/beatlestory-the-fabulous-tribute-show/
CATEGORIES:Stagione 2025-2026
ATTACH;FMTTYPE=image/jpeg:https://www.teatroolimpico.it/wp-content/uploads/2025/06/BEATLES_1920.jpg
END:VEVENT
BEGIN:VEVENT
DTSTART;TZID=UTC:20260323T203000
DTEND;TZID=UTC:20260323T223000
DTSTAMP:20260422T010143
CREATED:20240708T131230Z
LAST-MODIFIED:20251120T142315Z
UID:8090-1774297800-1774305000@www.teatroolimpico.it
SUMMARY:Latte e i suoi Derivati
DESCRIPTION:Nata dall’idea di Lillo e Greg nei mitici anni ’80\, la band “Latte e i suoi derivati” torna a calcare le scene del Teatro Olimpico.\nII loro rock demenziale fatto di straordinaria musica unita a testi ironici\, divertenti\, irrazionali e graffianti è assolutamente da non perdere. \nSpettacolo  ore 20.30 \n\n\n\n\nPrezzi\n\n\nSettore\nPrezzo intero\nPrevendita\nPrezzo 3-12 anni\nPrevendita 3-12 anni\n\n\n\n\nLa prevendita sarà sempre richiesta al momento dell’emissione del biglietto\n\n\n\n\nPoltronissima Gold\n€35\,00\n€5\,00\n–\n–\n\n\nPoltronissima Laterale\n€31\,00\n€4\,70\n€21\,70\n€3\,30\n\n\nPoltrona\n€29\,00\n€4\,40\n€20\,30\n€3\,00\n\n\nBalconata\n€28\,00\n€4\,20\n€19\,60\n€2\,90\n\n\nBalconata balaustra vis. ridotta\n€27\,00\n€4\,10\n€18\,90\n€2\,80\n\n\nBalconata Laterale\n€22\,00\n€3\,30\n€15\,40\n€2\,30\n\n\nBalconata Laterale balaustra vis. ridotta\n€21\,00\n€3\,20\n€14\,70\n€2\,20\n\n\n\n\nACQUISTA ORA
URL:https://www.teatroolimpico.it/evento/latte-e-i-suoi-derivati/
CATEGORIES:Stagione 2025-2026
ATTACH;FMTTYPE=image/png:https://www.teatroolimpico.it/wp-content/uploads/2024/07/LSD_1920x1080.png
END:VEVENT
BEGIN:VEVENT
DTSTART;TZID=UTC:20260330T203000
DTEND;TZID=UTC:20260330T223000
DTSTAMP:20260422T010143
CREATED:20250625T192824Z
LAST-MODIFIED:20260324T172737Z
UID:8869-1774902600-1774909800@www.teatroolimpico.it
SUMMARY:Massimo Bagnato - Io mi chiamo Massimo Bagnato
DESCRIPTION:“Io mi chiamo Massimo Bagnato” non è solo un titolo\, è una dichiarazione d’identità comica. È il punto di partenza (e spesso anche quello d’arrivo) di un viaggio teatrale nel mondo assurdo\, raffinato e involontariamente geniale di uno dei comici più imprevedibili della scena italiana. Sul palco del Teatro Olimpico di Roma\, Massimo Bagnato presenta il suo primo grande one-man show teatrale\, dove il pubblico sarà spettatore e complice di una serata che sfida ogni logica comica convenzionale. Uno spettacolo antologico\, ma non nostalgico\, che raccoglie i momenti più iconici della sua carriera i suoi celebri “interventi” a Zelig\, LOL\, Tale e Quale Show e Festivallo. Un’occasione imperdibile per ritrovare il surreale mondo di un artista che ha rovesciato ogni cliché del comicità moderna. \n\nSpettacolo ore 20.30 \n\nDurata: 130 min senza intervallo \n\n\n\nPrezzi\n\n\nSettore\nPrezzo intero\nPrevendita\nPrezzo 3-12 anni\nPrevendita 3-12 anni\n\n\n\n\nLa prevendita sarà sempre richiesta al momento dell’emissione del biglietto\n\n\n\n\nPoltronissima Gold\n€33\,00\n€5\,00\n–\n–\n\n\nPoltronissima Laterale\n€29\,00\n€4\,40\n€20\,30\n€3\,00\n\n\nPoltrona\n€25\,00\n€3\,80\n€17\,50\n€2\,60\n\n\nBalconata\n€25\,00\n€3\,80\n€17\,50\n€2\,60\n\n\nBalconata balaustra vis. ridotta\n€24\,00\n€3\,60\n€16\,80\n€2\,50\n\n\nBalconata Laterale\n€24\,00\n€3\,60\n€16\,80\n€2\,50\n\n\nBalconata Laterale balaustra vis. ridotta\n€22\,00\n€3\,30\n€15\,40\n€2\,30\n\n\n\n  \n\nACQUISTA ORA
URL:https://www.teatroolimpico.it/evento/massimo-bagnato-io-mi-chiamo-massimo-bagnato/
CATEGORIES:Stagione 2025-2026
ATTACH;FMTTYPE=image/png:https://www.teatroolimpico.it/wp-content/uploads/2025/06/BAGNATO_1920.png
END:VEVENT
END:VCALENDAR