BEGIN:VCALENDAR
VERSION:2.0
PRODID:-//Teatro Olimpico - ECPv5.15.0.1//NONSGML v1.0//EN
CALSCALE:GREGORIAN
METHOD:PUBLISH
X-WR-CALNAME:Teatro Olimpico
X-ORIGINAL-URL:https://www.teatroolimpico.it
X-WR-CALDESC:Events for Teatro Olimpico
REFRESH-INTERVAL;VALUE=DURATION:PT1H
X-Robots-Tag:noindex
X-PUBLISHED-TTL:PT1H
BEGIN:VTIMEZONE
TZID:UTC
BEGIN:STANDARD
TZOFFSETFROM:+0000
TZOFFSETTO:+0000
TZNAME:UTC
DTSTART:20250101T000000
END:STANDARD
END:VTIMEZONE
BEGIN:VEVENT
DTSTART;TZID=UTC:20250407T203000
DTEND;TZID=UTC:20250407T223000
DTSTAMP:20260422T210602
CREATED:20241112T144239Z
LAST-MODIFIED:20241129T163812Z
UID:8451-1744057800-1744065000@www.teatroolimpico.it
SUMMARY:Sabina Guzzanti - Liberidì Liberidà
DESCRIPTION:Da ormai un paio d’anni\, Guzzanti\, figlia\, sorella e soprattutto madre di tanti orfani dei bei tempi andati\, si dedica al dialogo sia con Meloni che con Schlein\, con l’unico obiettivo di attenuare il danno. Un lavoro impegnativo\, spesso estenuante\, portato avanti con abnegazione e sacrificio e senza che nulla gliene venga in tasca. Di qui l’idea di cominciare a monetizzare questa attività con una serie di conferenze spettacolo\, che i giovani d’oggi chiamano stand up comedy\, sul nostro presente travagliato. Ovviamente non si parlerà solo di politica ma anche di argomenti veramente importanti come lo sviluppo tecnologico in mano a quattro esaltati irresponsabili e più in generale di come conservare una qualche forma di dignità nel XXI secolo. \nSpettacoli ore 20.30 \n\n\n\n\nPrezzi\n\n\nSettore\nPrezzo intero\nPrevendita\nPrezzo 3-12 anni\nPrevendita 3-12 anni\n\n\n\n\nCommissione online €1\,50\n\n\nLa prevendita sarà sempre richiesta al momento dell’emissione del biglietto\n\n\n\n\nPoltronissima Centrale\n€34\,00\n€5\,00\n–\n–\n\n\nPoltronissima Laterale\n€30\,00\n€4\,50\n€21\,00\n€3\,00\n\n\nPoltrona\n€27\,00\n€4\,00\n€19\,00\n€2\,50\n\n\nBalconata\n€27\,00\n€4\,00\n€19\,00\n€2\,50\n\n\nBalconata Laterale\n€24\,00\n€3\,50\n€16\,50\n€2\,00\n\n\n\n  \n\nACQUISTA ORA
URL:https://www.teatroolimpico.it/evento/sabina-guzzanti-liberidi-liberida/
CATEGORIES:Stagione 2024-2025
ATTACH;FMTTYPE=image/jpeg:https://www.teatroolimpico.it/wp-content/uploads/2024/11/GUZZANTI_SITO.jpg
END:VEVENT
BEGIN:VEVENT
DTSTART;VALUE=DATE:20250414
DTEND;VALUE=DATE:20250417
DTSTAMP:20260422T210602
CREATED:20240611T142752Z
LAST-MODIFIED:20241218T150459Z
UID:7992-1744588800-1744847999@www.teatroolimpico.it
SUMMARY:Emiliano Luccisano - Rivoluzioni Reloaded
DESCRIPTION:Una tempesta\, un uragano\, un ciclone…Emiliano Luccisano è una diga che crolla ed investe come uno tsunami il suo pubblico con la sua incredibile ironia! \nUn monologo in cui affronta temi che toccano la vita di tutti i giorni con prorompente ironia e con i suoi sketch\, ormai diventati un tormentone\, che lo hanno reso una star del web. \n\nREGIA Emiliano Luccisano\nAUTORE Emiliano Luccisano\nMUSICHE ORIGINALI Pino Iodice\nPRODUZIONE Opera \nDurata 100 min (senza intervallo) \nSpettacoli  ore 20.30 \n\n\n\n\nPrezzi\n\n\nSettore\nPrezzo intero\nPrevendita\nPrezzo 3-12 anni\nPrevendita 3-12 anni\n\n\n\n\nCommissione online €1\,50\n\n\nLa prevendita sarà sempre richiesta al momento dell’emissione del biglietto\n\n\n\n\nPoltronissima Centrale\n€30\,00\n€4\,50\n€15\,00\n€2\,00\n\n\nPoltronissima Laterale\n€27\,00\n€4\,00\n€15\,00\n€2\,00\n\n\nPoltrona\n€24\,50\n€3\,50\n€15\,00\n€2\,00\n\n\nBalconata\n€24\,50\n€3\,50\n€15\,00\n€2\,00\n\n\nBalconata Laterale\n€22\,00\n€3\,00\n€15\,00\n€2\,00\n\n\n\n  \n\nACQUISTA ORA
URL:https://www.teatroolimpico.it/evento/emiliano-luccisano-rivoluzioni-reloaded/
CATEGORIES:Stagione 2024-2025
ATTACH;FMTTYPE=image/jpeg:https://www.teatroolimpico.it/wp-content/uploads/2024/06/Rivoluzioni-1920-x-1080_SCALE.jpg
END:VEVENT
BEGIN:VEVENT
DTSTART;VALUE=DATE:20250418
DTEND;VALUE=DATE:20250421
DTSTAMP:20260422T210602
CREATED:20240610T085008Z
LAST-MODIFIED:20241129T163939Z
UID:7967-1744934400-1745193599@www.teatroolimpico.it
SUMMARY:Incanti
DESCRIPTION:Dopo il successo della scorsa stagione\, la grande magia torna al Teatro Olimpico dal 18 al 20 aprile! \nINCANTI – lo spettacolo di illusionismo più atteso dell’anno – vede in scena sei dei più giovani e più premiati illusionisti italiani che si alterneranno sul palco nell’arco di una serata all’insegna della magia del teatro. \nPrendendo le mosse dalle riflessioni di alcuni dei più grandi autori del teatro\, tra cui Shakespeare\, Goethe\, Pirandello e altri\, il pubblico sarà chiamato a risvegliare il «fanciullino» che ciascuno di noi è stato per riscoprire nelle piccole cose la capacità di meravigliarci di ciò che troppo spesso diamo per scontato. \nUno spettacolo capace di far sognare i più piccoli e di far riflettere i più grandi grazie ad un nuovo modo di presentare l’illusionismo a teatro che abbandona una volta per tutte le scatole ricoperte di paillettes\, i cappelli a cilindro\, i conigli\, le colombe e le ballerine semi-nude\, per mettere in scena la nostra umanità e\, con essa\, le nostre speranze e le nostre disillusioni. \nLo spettacolo è consigliato a partire dagli 8 anni in su. \n\nREGIA Andrea Rizzolini\nAUTORE Andrea Rizzolini\nASSISTENTE ALLA REGIA E ALLA DRAMMATURGIA Pietro Venesia\nSCENE Laura Benzi\nMUSICHE Federico Venturini\nPRODUZIONE Officine dell’Incanto\nLUCI Andrea Rizzolini \nDurata 90 min (senza intervallo) \n\n\nSpettacoli venerdì e sabato  ore 16.30 e 20.30\, domenica ore 18 \n\n\nPrezzi\n\n\nSettore\nPrezzo intero\nPrevendita\nPrezzo 3-12 anni\nPrevendita 3-12 anni\n\n\n\n\nCommissione online €1\,50\n\n\nLa prevendita sarà sempre richiesta al momento dell’emissione del biglietto\n\n\n\n\nPoltronissima VIP\n€48\,00\n€7\,00\n–\n–\n\n\nPoltronissima Centrale\n€40\,00\n€6\,00\n€22\,70\n€3\,30\n\n\nPoltronissima Laterale\n€35\,00\n€5\,00\n€20\,00\n€3\,00\n\n\nPoltrona\n€30\,50\n€4\,50\n€17\,50\n€2\,50\n\n\nBalconata\n€30\,50\n€4\,50\n€17\,50\n€2\,50\n\n\nBalconata Laterale\n€24\,50\n€3\,50\n€14\,00\n€2\,00\n\n\n\n  \n\nACQUISTA ORA
URL:https://www.teatroolimpico.it/evento/incanti-2/
CATEGORIES:Stagione 2024-2025
ATTACH;FMTTYPE=image/jpeg:https://www.teatroolimpico.it/wp-content/uploads/2024/05/Olimpico-1124x806-1.jpg
END:VEVENT
BEGIN:VEVENT
DTSTART;TZID=UTC:20250423T203000
DTEND;TZID=UTC:20250423T223000
DTSTAMP:20260422T210602
CREATED:20240909T145339Z
LAST-MODIFIED:20241230T113957Z
UID:8361-1745440200-1745447400@www.teatroolimpico.it
SUMMARY:The Beatbox - The Beatles Legend
DESCRIPTION:The Beatles Legend è un viaggio teatrale imperdibile che celebra la straordinaria carriera dei Beatles\, portando il pubblico attraverso le epoche e le evoluzioni che hanno caratterizzato il leggendario quartetto di Liverpool. Sul palco\, la rinomata tribute band The Beatbox\, acclamata dalla critica e dai fan come il miglior live act beatlesiano europeo\, ricrea con maniacale precisione i suoni e le atmosfere che hanno reso immortali i Beatles.\nLo spettacolo si articola in sei quadri\, ciascuno rappresentativo di un periodo cruciale della carriera dei Beatles\, accompagnato da cambi di scena e costumi fedelmente riprodotti. Ecco una panoramica delle sezioni dello spettacolo: \n1. Cavern Club – L’inizio al celebre club di Liverpool\, dove tutto ebbe inizio.\n2. Beatles-mania – L’ascesa vertiginosa e il fenomeno globale dei Beatles.\n3. Shea Stadium – La conquista dell’America con il memorabile concerto allo Shea Stadium.\n4. Sgt. Pepper – Il rivoluzionario primo concept album della storia del rock.\n5. Power Flower – La fase psichedelica e il viaggio spirituale in India.\n6. Abbey Road / Let it Be – Gli ultimi due album prima della separazione definitiva. \nOgni sezione è arricchita da spettacolari contributi video curati dal celebre regista Giorgio Verdelli\, che evocano le atmosfere di ciascun periodo storico attraverso immagini d’archivio\, animazioni e filmati originali. Questi intermezzi visivi\, proiettati su un grande schermo\, non solo raccontano la storia dei Beatles\, ma immergono il pubblico in un’esperienza visiva unica e coinvolgente.\nLa strumentazione utilizzata dai The Beatbox è composta da strumenti originali dell’epoca\, identici a quelli usati dai Beatles\, mentre i costumi\, realizzati dalle stesse ditte che li produssero per il quartetto originale\, completano la perfetta ricostruzione storica.\n“The Beatles Legend” è uno spettacolo multimediale che unisce musica dal vivo\, video\, scenografie e giochi di luce\, creando un’esperienza indimenticabile per i fan di ogni età. Dal celebre “Yesterday” a “Let It Be”\, passando per “Get Back” e “Ticket to Ride”\, lo spettacolo fa rivivere i momenti salienti della carriera dei Beatles\, offrendo un tributo autentico e appassionato a una delle band più influenti della storia della musica. Non perdere l’occasione di vivere un’esperienza unica con “The Beatles Legend”\, un tributo che non solo celebra la musica dei Beatles\, ma anche il loro impatto culturale rivoluzionario. \n\nSpettacolo ore 20.30 \n\n\n\n\nPrezzi\n\n\nSettore\nPrezzo intero\nPrevendita\nPrezzo 3-12 anni\nPrevendita 3-12 anni\n\n\n\n\nCommissione online €2\,00\n\n\nLa prevendita sarà sempre richiesta al momento dell’emissione del biglietto\n\n\n\n\nPoltronissima Centrale\n€38\,00\n€5\,50\n–\n–\n\n\nPoltronissima Laterale\n€32\,00\n€4\,50\n€22\,00\n€3\,00\n\n\nPoltrona\n€27\,00\n€4\,00\n€19\,00\n€2\,50\n\n\nBalconata\n€27\,00\n€4\,00\n€19\,00\n€2\,50\n\n\nBalconata Laterale\n€24\,00\n€2\,50\n€16\,50\n€2\,00\n\n\n\n  \n\nACQUISTA ORA
URL:https://www.teatroolimpico.it/evento/the-beatbox-the-beatles-legend/
CATEGORIES:Stagione 2024-2025
ATTACH;FMTTYPE=image/jpeg:https://www.teatroolimpico.it/wp-content/uploads/2024/09/1124-x-806.jpg
END:VEVENT
BEGIN:VEVENT
DTSTART;TZID=UTC:20250424T203000
DTEND;TZID=UTC:20250424T223000
DTSTAMP:20260422T210602
CREATED:20240919T104306Z
LAST-MODIFIED:20241129T164229Z
UID:8380-1745526600-1745533800@www.teatroolimpico.it
SUMMARY:SHAMZY- Testa di Caos
DESCRIPTION:Nel secondo spettacolo teatrale del celebre comico del web\, Shamzy affronta temi di attualità e situazioni quotidiane\, trasformando ogni argomento in un’occasione per sorprendere e divertire\, mescolando irriverenza\, sincerità e improvvisazione in un vortice di comicità esagerata! Volgare\, provocatorio\, canzonatorio… ma questo spettacolo ha anche dei difetti. \nConsigliato a chi\, come lui\, in fondo non è altro che una Testa di Caos \n\nSpettacolo ore 20.30 \n\n\n\n\nPrezzi\n\n\nSettore\nPrezzo intero\nPrevendita\nPrezzo 3-12 anni\nPrevendita 3-12 anni\n\n\n\n\nCommissione online €2\,00\n\n\nLa prevendita sarà sempre richiesta al momento dell’emissione del biglietto\n\n\n\n\nPoltronissima Centrale\n€30\,50\n€4\,50\n–\n–\n\n\nPoltronissima Laterale\n€29\,00\n€4\,00\n€20\,50\n€3\,00\n\n\nPoltrona\n€27\,00\n€4\,00\n€19\,00\n€2\,50\n\n\nBalconata\n€27\,00\n€4\,00\n€19\,00\n€2\,50\n\n\nBalconata Laterale\n€25\,00\n€3\,50\n€17\,50\n€2\,50\n\n\n\n  \n\nACQUISTA ORA
URL:https://www.teatroolimpico.it/evento/shamzy-testa-di-caos/
CATEGORIES:Stagione 2024-2025
ATTACH;FMTTYPE=image/jpeg:https://www.teatroolimpico.it/wp-content/uploads/2024/09/SHAMZY_SITO.jpg
END:VEVENT
BEGIN:VEVENT
DTSTART;VALUE=DATE:20250427
DTEND;VALUE=DATE:20250429
DTSTAMP:20260422T210602
CREATED:20240712T130620Z
LAST-MODIFIED:20250104T152940Z
UID:8147-1745712000-1745884799@www.teatroolimpico.it
SUMMARY:LIVEPLAY - Coldplay Experience
DESCRIPTION:I LIVEPLAY sono il tributo ai Coldplay di riferimento in Italia ed Europa\, in attività dal 2013 con numerose tournée nazionali ed internazionali.\nL’idea di fondo è di superare il concetto di “semplice tribute band”\, offrendo al pubblico uno spettacolo non solo musicale ma anche visivo ed emotivo\, ricco di costumi\, scenografie ed effetti speciali che possano coinvolgere lo spettatore a 360 gradi.\nScenografie e strumentazioni all’avanguardia\, ledwall\, light e laser show\, effetti speciali e braccialetti led sincronizzati con la musica live: uno show esclusivo ed indimenticabile! \nSpettacoli 27 aprile ore 19\, 28 aprile ore 20.30 \n\n\n\n\nPrezzi\n\n\nSettore\nPrezzo intero\nPrevendita\nPrezzo 3-12 anni\nPrevendita 3-12 anni\n\n\n\n\nCommissione online €2\,00\n\n\nLa prevendita sarà sempre richiesta al momento dell’emissione del biglietto\n\n\n\n\nPoltronissima Centrale\n€34\,00\n€5\,00\n–\n–\n\n\nPoltronissima Laterale\n€31\,00\n€4\,50\n€22\,00\n€3\,00\n\n\nPoltrona\n€27\,00\n€4\,00\n€19\,00\n€2\,50\n\n\nBalconata\n€27\,00\n€4\,00\n€19\,00\n€2\,50\n\n\nBalconata Laterale\n€23\,00\n€3\,00\n€16\,00\n€2\,00\n\n\n\n  \n\nACQUISTA ORA
URL:https://www.teatroolimpico.it/evento/liveplay-coldplay-experience/
CATEGORIES:Stagione 2024-2025
ATTACH;FMTTYPE=image/jpeg:https://www.teatroolimpico.it/wp-content/uploads/2024/07/LIVEPLAY_SITO_nodata.jpg
END:VEVENT
BEGIN:VEVENT
DTSTART;TZID=UTC:20250429T203000
DTEND;TZID=UTC:20250429T223000
DTSTAMP:20260422T210602
CREATED:20240723T124450Z
LAST-MODIFIED:20250327T144648Z
UID:8198-1745958600-1745965800@www.teatroolimpico.it
SUMMARY:Musicanti Ensamble - Senza 'e te - Omaggio a Pino Daniele
DESCRIPTION:La tradizione e l’innovazione\, l’estro e la semplicità\, il dolore velato\, la voce di velluto di chi ha impastato amore e nostalgia al tocco di una chitarra. L’immenso patrimonio musicale di Pino Daniele è il protagonista assoluto del nuovo incredibile show  “Senza ‘e te” de Musicanti Ensamble che\, dopo il successo del concerto evento “Contaminazioni\, suoni dal Mediterraneo” tornano sul palco del Teatro Olimpico per raccontarci l’anima di Napoli attraverso la poesia di uno dei suoi figli più geniali. \nFondamentali Elisabetta Serio al piano e Fabio Massimo Colasanti alla chitarra accompagnati dal travolgente ritmo di Tony Esposito.  \n﻿ \nSpettacolo ore 20.30 \n\n\n\n\nPrezzi\n\n\nSettore\nPrezzo intero\nPrevendita\nPrezzo 3-12 anni\nPrevendita 3-12 anni\n\n\n\n\nCommissione online €1\,50\n\n\nLa prevendita sarà sempre richiesta al momento dell’emissione del biglietto\n\n\n\n\nPoltronissima Centrale\n€34\,00\n€5\,00\n–\n–\n\n\nPoltronissima Laterale\n€30\,00\n€4\,50\n€19\,50\n€2\,50\n\n\nPoltrona\n€27\,00\n€4\,00\n€17\,50\n€2\,50\n\n\nBalconata\n€27\,00\n€4\,00\n€17\,50\n€2\,50\n\n\nBalconata Laterale\n€24\,00\n€3\,50\n€15\,00\n€2\,00\n\n\n\n  \n\nACQUISTA ORA
URL:https://www.teatroolimpico.it/evento/musicanti-senza-e-te/
CATEGORIES:Stagione 2024-2025
ATTACH;FMTTYPE=image/jpeg:https://www.teatroolimpico.it/wp-content/uploads/2024/07/MUSICANTI_SITO.jpg
END:VEVENT
BEGIN:VEVENT
DTSTART;TZID=UTC:20250430T210000
DTEND;TZID=UTC:20250430T230000
DTSTAMP:20260422T210602
CREATED:20240711T161433Z
LAST-MODIFIED:20250404T092620Z
UID:8140-1746046800-1746054000@www.teatroolimpico.it
SUMMARY:DADO - Titolo di studio: La Strada
DESCRIPTION:Dall’omonimo podcast “Titolo di studio: La Strada”\, prende vita il nuovo spettacolo di Dado che torna in teatro per fare un’analisi schietta e veritiera di fatti di cronaca\, politica e società rielaborati dalla mente semplice e “dannosa” di chi rifiuta in maniera preconcetta la cultura per affidarsi al suo sapere. Il sapere di chi si è laureato all’università della vita. Tra risate miste ad un vago senso di preoccupazione per la società e per il nostro futuro\, il popolare comico di Zelig ci regalerà una visione del reale del tutto inaspettata e irriverente. \n\nSi avvisa il gentile pubblico che saranno effettuate riprese audio e video durante lo spettacolo. \nSpettacolo ore 21 \n\n\nPrezzi\n\n\nSettore\nPrezzo intero\nPrevendita\nPrezzo 3-12 anni\nPrevendita 3-12 anni\n\n\n\n\nCommissione online €1\,50\n\n\nLa prevendita sarà sempre richiesta al momento dell’emissione del biglietto\n\n\n\n\nPoltronissima Centrale\n€30\,00\n€4\,50\n€14\,00\n€2\,00\n\n\nPoltronissima Laterale\n€27\,00\n€4\,00\n€14\,00\n€2\,00\n\n\nPoltrona\n€25\,00\n€3\,50\n€14\,00\n€2\,00\n\n\nBalconata\n€25\,00\n€3\,50\n€14\,00\n€2\,00\n\n\nBalconata Laterale\n€22\,00\n€3\,00\n€14\,00\n€2\,00\n\n\n\n\nACQUISTA ORA
URL:https://www.teatroolimpico.it/evento/dado-titolo-di-studio-la-strada/
CATEGORIES:Stagione 2024-2025
ATTACH;FMTTYPE=image/jpeg:https://www.teatroolimpico.it/wp-content/uploads/2024/07/DADO_SITO.jpg
END:VEVENT
END:VCALENDAR