BEGIN:VCALENDAR
VERSION:2.0
PRODID:-//Teatro Olimpico - ECPv5.15.0.1//NONSGML v1.0//EN
CALSCALE:GREGORIAN
METHOD:PUBLISH
X-WR-CALNAME:Teatro Olimpico
X-ORIGINAL-URL:https://www.teatroolimpico.it
X-WR-CALDESC:Events for Teatro Olimpico
REFRESH-INTERVAL;VALUE=DURATION:PT1H
X-Robots-Tag:noindex
X-PUBLISHED-TTL:PT1H
BEGIN:VTIMEZONE
TZID:UTC
BEGIN:STANDARD
TZOFFSETFROM:+0000
TZOFFSETTO:+0000
TZNAME:UTC
DTSTART:20240101T000000
END:STANDARD
END:VTIMEZONE
BEGIN:VEVENT
DTSTART;VALUE=DATE:20241031
DTEND;VALUE=DATE:20241104
DTSTAMP:20260423T060011
CREATED:20240607T152904Z
LAST-MODIFIED:20240826T143833Z
UID:7958-1730332800-1730678399@www.teatroolimpico.it
SUMMARY:Miguel Ángel Zotto - Tango. Historias de Astor
DESCRIPTION:«La mia famiglia era di Trani…»: è questo l’incipit\, affidato alla voce registrata di Astor Piazzolla\, dello spettacolo Tango. Historias de Astor con cui il ballerino e coreografo argentino Miguel Ángel Zotto\, leggenda vivente del tango\, omaggia il musicista e compositore argentino di origine italiana Astor Pantaléon Piazzolla\, nato a Mar Del Plata nel 1921 e morto a Buenos Aires del 1992. \nIn scena per la stagione dell’Accademia Filarmonica Romana al Teatro Olimpico\, lo spettacolo scritto\, coreografato e diretto da Miguel Ángel Zotto\, è la storia di Piazzolla\, considerato universalmente il padre del tango moderno. Rappresentato per la prima volta a Trani nel 2021\, in occasione del centenario della nascita del musicista\, Tango. Historias de Astor torna a Roma. \n«Ho conosciuto Astor Piazzolla nel 1989 a Parigi. Portavo in scena un mio spettacolo a Parigi e lui mi avvicinò tramite un amico comune\, José Pons\, per complimentarsi con me»\, ricorda Zotto che considera Piazzolla il suo nume tutelare. La stima per il lavoro di Zotto fu tale che Piazzolla gli affidò le coreografie dell’allestimento di Broadway di Maria de Buenos Aires\, opera-tango su libretto di Horacio Ferrer. Quest’ultimo\, in una lettera custodita gelosamente dal ballerino\, lo descrive come «il più grande rivoluzionario dell’epoca attuale della storia del tango». \nInsieme alla vita di Astor Piazzolla\, Zotto porterà in scena la storia di un genere musicale e di un ballo che è l’essenza stessa dell’Argentina. A guidare la narrazione dello spettacolo sarà un angelo\, identificato come l’angelo del tango\, cui Astor racconta la sua vita dall’infanzia all’incontro con il tango\, dalle orchestre in cui suonò alla direzione dell’Orchestra Fiorentina alla messa in scena di Maria de Buenos Aires. \nSpettacolo in collaborazione con Accademia Filarmonica Romana \nREGIA Miguel Angel Zotto\nCOSTUMI Miguel Angel Zotto e Daiana Guspero\nSCENE Miguel Angel Zotto\nMUSICHE Tango Sonos Orquestra\nPRODUZIONE TangoX2 Company Tango Star\nLUCI Miguel Angel Zotto \nDurata 2 ore (compreso intervallo) \nSpettacoli giovedì e venerdì ore 20.30\, sabato ore 16.30 e 20.30\, domenica ore 17.30 \n\n\n\n\nPrezzi\n\n\nSettore\nPrezzo intero\nPrevendita\nPrezzo 3-12 anni\nPrevendita 3-12 anni\n\n\n\n\nLa prevendita sarà sempre richiesta al momento dell’emissione del biglietto\n\n\n\n\nPoltronissima Centrale\n€40\,00\n€6\,00\n–\n–\n\n\nPoltronissima Laterale\n€34\,00\n€5\,00\n€17\,00\n€2\,50\n\n\nPoltrona\n€29\,00\n€4\,00\n€14\,50\n€2\,00\n\n\nBalconata\n€29\,00\n€4\,00\n€14\,50\n€2\,00\n\n\nBalconata Laterale\n€25\,00\n€3\,50\n€12\,50\n€1\,50\n\n\n\n  \n\nACQUISTA ORA
URL:https://www.teatroolimpico.it/evento/tango-historias-de-astor-spettacolo-di-parole-musica-e-tango/
CATEGORIES:Stagione 2024-2025
ATTACH;FMTTYPE=image/jpeg:https://www.teatroolimpico.it/wp-content/uploads/2024/06/ZOTTO_SITO.jpg
END:VEVENT
BEGIN:VEVENT
DTSTART;VALUE=DATE:20241104
DTEND;VALUE=DATE:20241106
DTSTAMP:20260423T060011
CREATED:20240422T094425Z
LAST-MODIFIED:20240906T150838Z
UID:7806-1730678400-1730851199@www.teatroolimpico.it
SUMMARY:ESPERIENZE D.M. - Seconda Stagione AWED – DOSE – DADDA
DESCRIPTION:Dopo una prima stagione esaltante che ha visto Esperienze D. M. in 46 teatri con tutti Sold Out e oltre 50.000 spettatori\, tornano i tre ragazzacci terribili con una seconda stagione completamente nuova\, nuove esperienze\, nuove storie con la stessa coinvolgente energia. Unica cosa a non cambiare il tema\, storie di sesso con un finale non proprio a lieto fine.\nSimone Paciello\, Content Creator da 2 Milioni di Follower su Instagram\, 2.100.000 su Tik Tok e 2.350.000 su You Tube\, Riccardo Dose con 1.600.000 su Instagram\, 2.540.000 su You Tube e 700.000 su Tik Tok e Daniel D’addetta con 480.000 Follower su Instagram tornano Live dopo aver conquistato il premio come spettacolo rivelazione della scorsa stagione teatrale.\nLa seconda stagione riporterà il medesimo schema narrativo della prima edizione ma con storie completamente inedite\, nuove esperienze e sorprese inaspettate.\nIl coinvolgimento del pubblico è garantito!!\nLa seconda Stagione di ESPERIENZE D. M. è consigliata ai maggiori di 18 anni e fortemente sconsigliata a genitori deboli di Cuore. \nDurata Circa 120 min  \nSpettacolo ore 20.30 \n\n\n\nPrezzi\n\n\nSettore\nPrezzo intero\nPrevendita\n\n\n\n\nLa prevendita sarà sempre richiesta al momento dell’emissione del biglietto\n\n\n\n\nPoltronissima Centrale\n€35\,00\n€5\,00\n\n\nPoltronissima Laterale\n€32\,00\n€4\,50\n\n\nPoltrona\n€30\,00\n€4\,50\n\n\nBalconata\n€29\,00\n€4\,00\n\n\nBalconata Laterale\n€25\,00\n€3\,50\n\n\n\n  \n\nACQUISTA ORA
URL:https://www.teatroolimpico.it/evento/esperienze-d-m-la-seconda-stagione-awed-dose-dadda/
CATEGORIES:Stagione 2024-2025
ATTACH;FMTTYPE=image/jpeg:https://www.teatroolimpico.it/wp-content/uploads/2024/04/Progetto-senza-titolo-7.jpg
END:VEVENT
BEGIN:VEVENT
DTSTART;TZID=UTC:20241106T210000
DTEND;TZID=UTC:20241106T223000
DTSTAMP:20260423T060011
CREATED:20240802T131454Z
LAST-MODIFIED:20241030T164632Z
UID:8237-1730926800-1730932200@www.teatroolimpico.it
SUMMARY:ANAT Gran Galà 2024
DESCRIPTION:Chi c’è dietro la carriera brillante di un artista? Ve lo siete mai chiesti? Arriva al Teatro Olimpico un intero galà che festeggia la figura professionale dell’agente\, una grande festa con artisti sensazionali che sono la rappresentazione dell’ottimo operato di ANAT\, Associazione Nazionale Agenti Teatrali e Spettacolo. Un inno alle arti e a chi scova il talento per le strade del mondo. \n﻿ \nAnat è un’associazione di categoria che riunisce Impresari\, Manager\, Organizzatori di eventi e\, in generale\, gli Operatori del settore radio-televisivo e dello spettacolo. L’associazione promuove gli interessi della categoria che rappresenta\, facendosi promotrice presso le Istituzioni di tutte quelle istanze e problematiche che\, di volta in volta\, emergono dal dialogo interno tra gli associati. Inoltre organizza corsi e stage di formazione per i giovani che vogliono avvicinarsi alla professione di agenti di spettacolo. Questo nella convinzione dell’importanza della professionalità e preparazione di ogni singola figura professionale. \nPresentano David Romano e Antonella Ponziani \nInterverranno \nAntonio Mezzancella\nMarco Marzocca\nCarmine Faraco\nAnnalisa Minetti\nMarco Morandi\nLittle Tony’s Family\nDanilo Amerio\nDaniele Si Nasce (Vincitore Tali e Quali)\nAgostino Penna (Vincitore Tale e Quale Show)\nAndrea Paris (Vincitore Tù sì que vales)\nStefano Sani\nDavide Rossi (X Factor)\nLos Locos\nKelly Joice\nEnrico Capuano\nMariella Nava\nDr Gam\nGigione \n\nSpettacolo ore 21.00 \n\n\n\n\nPrezzi\n\n\nSettore\nPrezzo intero\nPrevendita\nPrezzo 3-12 anni\nPrevendita 3-12 anni\n\n\n\n\nLa prevendita sarà sempre richiesta al momento dell’emissione del biglietto\n\n\n\n\nPoltronissima Centrale\n€30\,00\n€4\,50\n–\n–\n\n\nPoltronissima Laterale\n€27\,00\n€4\,00\n€16\,00\n€2\,00\n\n\nPoltrona\n€25\,00\n€3\,50\n€15\,00\n€2\,00\n\n\nBalconata\n€25\,00\n€3\,50\n€15\,00\n€2\,00\n\n\nBalconata Laterale\n€22\,00\n€3\,00\n€14\,00\n€2\,00\n\n\n\n  \n\nACQUISTA ORA
URL:https://www.teatroolimpico.it/evento/anat-gran-gala-2024/
CATEGORIES:Stagione 2024-2025
ATTACH;FMTTYPE=image/jpeg:https://www.teatroolimpico.it/wp-content/uploads/2024/08/ANAT_SITO.jpg
END:VEVENT
BEGIN:VEVENT
DTSTART;TZID=UTC:20241111T203000
DTEND;TZID=UTC:20241111T223000
DTSTAMP:20260423T060011
CREATED:20240717T100429Z
LAST-MODIFIED:20240826T144924Z
UID:8160-1731357000-1731364200@www.teatroolimpico.it
SUMMARY:La Sera dei Miracoli - Omaggio a Lucio Dalla
DESCRIPTION:Uno spettacolo speciale per rivivere la storia musicale di uno dei più grandi autori del nostro secolo con la produzione di Good Vibrations Entertainment\, nota anche tra le altre cose per lo spettacolo “Canto Libero” dedicato a Battisti & Mogol. Reduce dal primo tour teatrale che ha registrato sold out in ogni data e ospitando in alcuni casi anche Ricky Portera (storico chitarrista di Dalla e co-fondatore degli Stadio) lo spettacolo si è affermato come il tributo più autorevole in circolazione. Con un repertorio che spazia da “4 marzo 1943” a “Come è profondo il mare”\, passando per “L’anno che verrà”\, “Caruso” e tante altre\, interpretato dalla voce potente di Lorenzo Campani che è il cuore pulsante dello spettacolo. Già noto per il suo ruolo in “Notre Dame de Paris” di Riccardo Cocciante e per la sua partecipazione a “The Voice of Italy”\, ha collaborato con artisti del calibro di Ligabue e Vasco Rossi\, dimostrando una versatilità e una presenza scenica eccezionali. Campani sarà affiancato da una band di musicisti di prim’ordine: Luigi Buggio (direzione artistica e tastiere)\, Marco Vattovani (batteria)\, Max Pasut (basso)\, Marco Locatelli e Ivan Geronazzo (chitarre). Questi talentuosi musicisti offriranno una serata emozionante\, arricchita da una scenografia suggestiva e da un avvincente e curato show di luci. Lucio Dalla è stato un cantautore\, musicista e attore di straordinario talento\, nato a Bologna il 4 marzo 1943\, con le sue canzoni\, caratterizzate da testi poetici e melodie avvolgenti\, ha raccontato storie di vita quotidiana e temi universali\, conquistando il cuore di diverse generazioni. Con successi come “Futura”\, “Attenti al lupo” e “Piazza Grande”\, ha saputo innovare e sperimentare\, lasciando un’eredità musicale inestimabile che continua a ispirare artisti e appassionati di musica in tutto il mondo; brani sempre attuali e commoventi\, che ora avremo modo di riascoltare dal vivo in un evento memorabile.  \n«La musica è l’unica cosa che ha un senso compiuto e logico.\nÈ come una formula matematica perfetta.»\nLucio Dalla \n\nSpettacolo ore 20.30 \n\n\n\n\nPrezzi\n\n\nSettore\nPrezzo intero\nPrevendita\nPrezzo 3-12 anni\nPrevendita 3-12 anni\n\n\n\n\nLa prevendita sarà sempre richiesta al momento dell’emissione del biglietto\n\n\n\n\nPoltronissima Centrale\n€29\,00\n€4\,00\n–\n–\n\n\nPoltronissima Laterale\n€27\,00\n€4\,00\n€17\,00\n€2\,50\n\n\nPoltrona\n€25\,00\n€3\,50\n€15\,00\n€2\,00\n\n\nBalconata\n€25\,00\n€3\,50\n€15\,00\n€2\,00\n\n\nBalconata Laterale\n€23\,00\n€3\,00\n€14\,00\n€2\,00\n\n\n\n  \n\nACQUISTA ORA
URL:https://www.teatroolimpico.it/evento/la-sera-dei-miracoli-omaggio-a-lucio-dalla/
CATEGORIES:Stagione 2024-2025
ATTACH;FMTTYPE=image/jpeg:https://www.teatroolimpico.it/wp-content/uploads/2024/07/1124x806_scale.jpg
END:VEVENT
BEGIN:VEVENT
DTSTART;TZID=UTC:20241112T203000
DTEND;TZID=UTC:20241112T223000
DTSTAMP:20260423T060011
CREATED:20240424T152538Z
LAST-MODIFIED:20241112T145115Z
UID:7822-1731443400-1731450600@www.teatroolimpico.it
SUMMARY:Raffaella! - Omaggio alla Carrà
DESCRIPTION:Raffaella! – Omaggio alla Carrà \n\n\n\nUn progetto completamente inedito. Un omaggio doveroso. \n\n\n\n\nUno spettacolo musicale che porta sul palco le note dei brani più famosi e significativi della grande Raffaella Carrà\, donna e artista indimenticabile. \n\n\n\nUn tributo a colei che è stata un’icona per molte generazioni e che attraverso le sue canzoni e il suo sguardo sorridente\, ci ha insegnato bellezza\, eleganza\, coraggio e ironia. \n\n\n\n\n\n\n\nLo spettacolo prevede una band di 5 elementi interamente dal vivo e 6 performer\, che attraverso recitazione e canto tratteggeranno l’arte\, la spettacolarità e il carattere della regina della Tv italiana. \nTutto questo ruoterà intorno alla “nostra” Raffaella\, interpretata da una delle protagoniste femminili indiscusse del musical italiano: Beatrice Baldaccini \n\n\n\nDirezione Artistica Claudia Campolongo \n\n\n\nRegia Gabriele Colferai \n\n\n\nCoreografie Angelo Di Figlia \n\n\n\n\n\n\n\n\n\n\n\n\n\n\n\n\n\n\nSpettacolo 12 novembre ore 20.30 \nDurata circa 120 min senza intervallo  \n\n\n\n		\n				\n						\n			\n				\n			\n		\n							\n			\n				\n						\n			\n				\n			\n		\n							\n			\n				\n						\n			\n				\n			\n		\n							\n			\n				\n						\n			\n				\n			\n		\n							\n			\n				\n						\n			\n				\n			\n		\n							\n			\n				\n						\n			\n				\n			\n		\n							\n			\n				\n						\n			\n				\n			\n		\n							\n			\n				\n						\n			\n				\n			\n		\n							\n			\n	\n	\n\n	\n		\n			\n\n\n﻿ \n\n\n\n\n \n\n\n\n  \n\n\n\n\n\nPrezzi\n\n\nSettore\nPrezzo intero\nPrevendita\nPrezzo 3-12 anni\nPrevendita 3-12 anni\n\n\n\n\nCommissione online €1\,50\n\n\nLa prevendita sarà sempre richiesta al momento dell’emissione del biglietto\n\n\n\n\nPoltronissima Centrale\n€30\,50\n€4\,50\n–\n–\n\n\nPoltronissima Laterale\n€27\,00\n€4\,00\n€17\,00\n€2\,50\n\n\nPoltrona\n€25\,00\n€3\,50\n€15\,00\n€2\,00\n\n\nBalconata\n€25\,00\n€3\,50\n€15\,00\n€2\,00\n\n\nBalconata Laterale\n€23\,50\n€3\,50\n€14\,00\n€2\,00\n\n\n\nACQUISTA ORA
URL:https://www.teatroolimpico.it/evento/raffaella-omaggio-alla-carra/
CATEGORIES:Stagione 2024-2025
ATTACH;FMTTYPE=image/jpeg:https://www.teatroolimpico.it/wp-content/uploads/2024/04/carrà_sito.jpg
END:VEVENT
BEGIN:VEVENT
DTSTART;VALUE=DATE:20241114
DTEND;VALUE=DATE:20241118
DTSTAMP:20260423T060011
CREATED:20240607T151331Z
LAST-MODIFIED:20241112T145312Z
UID:7974-1731542400-1731887999@www.teatroolimpico.it
SUMMARY:Parsons Dance - Balance of Power
DESCRIPTION:“Vivere le meraviglie della danza” questo è l’obiettivo della storica compagnia  americana che torna al Teatro Olimpico dopo essersi esibita in oltre 30 paesi e 445 città nei più̀ importanti teatri e festival del mondo. Parsons Dance incarna alla perfezione la forza dirompente di una danza carica di energia e positività\, acrobatica\, corale\,  atletica e vitale che punta dritto all’emozione e al desiderio nascosto di ogni spettatore di ballare\, saltare e gioire insieme ai ballerini. \nLe creazioni di Parsons\, accompagnate da una eccezionale colonna sonora\, portano il segno di una straordinaria teatralità capace di trasmettere emozioni semplici e dirette\, adatte ad un pubblico di tutte le età. \nSpettacolo in collaborazione con Accademia Filarmonica Romana \n\nDirettore Artistico David Parsons  \nBallerini Zoey Anderson\, Megan Garcia\, Téa Pérez\, Luke Romanzi\, Joseph Cyranski\, Justine Delius\, Joanne Hwang\, Luke Biddinger\, Emerson Earnshaw con la partecipazione straordinaria di Elena D’Amario \nLighting Designer Howell Binkley \nDurata 70 min (senza intervallo) \n\nSpettacoli giovedì e venerdì ore 20.30\, sabato  ore 16.30 e 20.30\, domenica ore 17.30 \n\n\n\n\nPrezzi\n\n\nSettore\nPrezzo intero\nPrevendita\nPrezzo 3-12 anni\nPrevendita 3-12 anni\n\n\n\n\nCommissione online €1\,50\n\n\nLa prevendita sarà sempre richiesta al momento dell’emissione del biglietto\n\n\n\n\nPoltronissima Centrale\n€40\,00\n€6\,00\n€25\,00\n€3\,50\n\n\nPoltronissima Laterale\n€38\,00\n€5\,50\n€21\,00\n€3\,00\n\n\nPoltrona\n€35\,00\n€5\,00\n€17\,50\n€2\,50\n\n\nBalconata\n€35\,00\n€5\,00\n€17\,50\n€2\,50\n\n\nBalconata Laterale\n€30\,00\n€4\,50\n€15\,00\n€2\,00\n\n\n\n  \n\nACQUISTA ORA
URL:https://www.teatroolimpico.it/evento/parsons-dance-balance-of-power/
CATEGORIES:Stagione 2024-2025
ATTACH;FMTTYPE=image/jpeg:https://www.teatroolimpico.it/wp-content/uploads/2024/06/PARSONS_SITO.jpg
END:VEVENT
BEGIN:VEVENT
DTSTART;TZID=UTC:20241118T203000
DTEND;TZID=UTC:20241118T223000
DTSTAMP:20260423T060011
CREATED:20240717T155514Z
LAST-MODIFIED:20241112T145415Z
UID:8164-1731961800-1731969000@www.teatroolimpico.it
SUMMARY:Serata di Gala per Adriana Panni
DESCRIPTION:© ritratto di Adriana Panni realizzato da Francesco Pennisi\n\nAdriana Panni è stata tra le figure più rilevanti per la storia recente dell’Accademia Filarmonica Romana. Entrata nel consiglio direttivo nel 1945\, ne è stata Presidente dal 1973 al 1993\, animando la vita musicale di Roma con una forza d’animo e una capacità di progettazione artistica uniche. Spinta da una sincera passione per la danza\, portò a Roma personalità di primo piano della danza moderna\, come i Momix e Angelin Prejlocaj. Impossibile non menzionare inoltre il rapporto privilegiato con Igor’ Stravinskij\, le cui musiche furono eseguite in numerosi e importanti concerti. Nel trentennale della sua scomparsa l’Accademia Filarmonica Romana in collaborazione Teatro Olimpico omaggia la sua figura dedicandole un gala con le musiche di compositori che hanno attraversato la storia della Filarmonica al suo fianco. \nSerata organizzata da Accademia Filarmonica Romana. \nSi ringraziano l’Accademia di Santa Cecilia e Daniele Cipriani Entertainment. \nPresentazione di Sandro Cappelletto\, con la partecipazione di Marcello Panni\, la voce in absentia di Adriana Panni \nCon la partecipazione di\nSara Mingardo contralto\nAlessandro Carbonare clarinetto\nAndrea Lucchesini pianoforte\nMassimo Spada pianoforte\nVincenzo Bolognese violino\nAntonio Bossone viola\nEttore Pagano violoncello\nArs Ludi (Antonio Caggiano\, Rodolfo Rossi\, Gianluca Ruggeri) percussioni\nSimone Repele e Sasha Riva coreografi/danzatori \nProgramma \nIgor Stravinskij\nTre pezzi per clarinetto                                                                              \nJohannes Brahms\nZwei Gesänge per contralto\, viola e pianoforte op. 91                          \nPaolo Arcà\nBagatelle per pianoforte \nMatteo D’Amico\nCouplet per violoncello                                                                           \nGiorgio Battistelli\nPsychopompos\, per tre percussionisti                                            \nGoffredo Petrassi\nDuetto per violino e viola (dedicato ad Adriana Panni 1986) \nLuciano Berio\n6 Encores per pianoforte solo                                                                            \nIgor Stravinskij\nPulcinella\, balletto sulla Suite Italienne per violoncello e pianoforte\, con un costume originale di Picasso \n\nSpettacolo ore 20.30 \n\n\n\n\n\n\nPrezzi\n\n\nSettore\nPrezzo intero\nPrevendita\n\n\n\n\nCommissione online €1\,50\n\n\nLa prevendita sarà sempre richiesta al momento dell’emissione del biglietto\n\n\n\n\nPoltronissima Centrale\n€28\,00\n€2\,00\n\n\nPoltronissima Laterale\n€23\,00\n€2\,00\n\n\nPoltrona\n€18\,00\n€2\,00\n\n\n\n  \n\nACQUISTA ORA
URL:https://www.teatroolimpico.it/evento/serata-di-gala-per-adriana-panni/
CATEGORIES:Stagione 2024-2025
ATTACH;FMTTYPE=image/jpeg:https://www.teatroolimpico.it/wp-content/uploads/2024/07/Serata-di-gala-per-Adriana-Panni-2.jpg
END:VEVENT
BEGIN:VEVENT
DTSTART;VALUE=DATE:20241120
DTEND;VALUE=DATE:20241202
DTSTAMP:20260423T060011
CREATED:20240521T134201Z
LAST-MODIFIED:20241130T141959Z
UID:7905-1732060800-1733097599@www.teatroolimpico.it
SUMMARY:Massimo Lopez Tullio Solenghi - Dove eravamo rimasti
DESCRIPTION:COMUNICAZIONE IMPORTANTE \nSi avvisano i gentili spettatori che lo spettacolo “Dove eravamo rimasti” di oggi 30 novembre ore 16.30 è stato annullato a causa di un lieve infortunio occorso a Massimo Lopez.\nI biglietti verranno rimborsati interamente nei prossimi giorni secondo modalità che verranno presto comunicate.\nAndrà regolarmente in scena la replica delle ore 20.30. \n_______________________ \nLa sensazione più esaltante del loro ultimo spettacolo\, “Massimo Lopez e Tullio Solenghi Show” è stata quella di avere in sala ogni sera non soltanto un pubblico empatico e festoso\, ma una sorta di famiglia allargata\, dei veri e propri parenti che hanno condiviso alcuni momenti di un’incredibile avventura scenica con frammenti della loro vita. Ed ecco che subito subentra l’idea di ripartire proprio da questa splendida sinergia\, “Dove eravamo rimasti” non è un titolo lasciato al caso.\nQuesto  nuovo spettacolo proporrà numeri/sketch/brani musicali/contributi video\, con alcuni picchi di comicità come una lectio magistralis di Sgarbi/Lopez\, un affettuoso omaggio all’avanspettacolo ed il confronto Mattarella/ Papa Bergoglio\, inseriti nella nostra ormai collaudata dimensione dello Show.\nIl filo conduttore sarà quello di una chiacchierata tra amici\, la famiglia allargata di cui sopra\, che collegherà i vari momenti di spettacolo.\nLa band del maestro Gabriele Comeglio sarà ancora una volta sul palco\, irrinunciabile “spalla” della cornice musicale.\nL’intento è quello di stupire ed emozionare ancora una volta quei meravigliosi “parenti” seduti giù in platea. \nDurata: 100 minuti \nSpettacoli dal mercoledì al sabato ore 20.30\, sabato 30 novembre ore 16.30 e 20.30\, domenica ore 17.30 \n\n\n\n\nPrezzi\n\n\nSettore\nPrezzo intero\nPrevendita\nPrezzo 3-12 anni\nPrevendita 3-12 anni\n\n\n\n\nCommissione online €2\,00\n\n\nLa prevendita sarà sempre richiesta al momento dell’emissione del biglietto\n\n\n\n\nPoltronissima Centrale\n€40\,00\n€6\,00\n–\n–\n\n\nPoltronissima Laterale\n€37\,00\n€5\,50\n€25\,00\n€3\,50\n\n\nPoltrona\n€30\,00\n€4\,50\n€21\,00\n€3\,00\n\n\nBalconata\n€30\,00\n€4\,50\n€21\,00\n€3\,00\n\n\nBalconata Laterale\n€27\,00\n€4\,00\n€19\,00\n€2\,50\n\n\n\n  \n\nACQUISTA ORA
URL:https://www.teatroolimpico.it/evento/solenghi-lopez-dove-eravamo-rimasti/
CATEGORIES:Stagione 2024-2025
ATTACH;FMTTYPE=image/jpeg:https://www.teatroolimpico.it/wp-content/uploads/2024/05/SOLENGHI_LOPEZ-SITO.jpg
END:VEVENT
END:VCALENDAR