BEGIN:VCALENDAR
VERSION:2.0
PRODID:-//Teatro Olimpico - ECPv5.15.0.1//NONSGML v1.0//EN
CALSCALE:GREGORIAN
METHOD:PUBLISH
X-WR-CALNAME:Teatro Olimpico
X-ORIGINAL-URL:https://www.teatroolimpico.it
X-WR-CALDESC:Events for Teatro Olimpico
REFRESH-INTERVAL;VALUE=DURATION:PT1H
X-Robots-Tag:noindex
X-PUBLISHED-TTL:PT1H
BEGIN:VTIMEZONE
TZID:UTC
BEGIN:STANDARD
TZOFFSETFROM:+0000
TZOFFSETTO:+0000
TZNAME:UTC
DTSTART:20240101T000000
END:STANDARD
END:VTIMEZONE
BEGIN:VEVENT
DTSTART;VALUE=DATE:20241001
DTEND;VALUE=DATE:20241003
DTSTAMP:20260423T075321
CREATED:20240124T134245Z
LAST-MODIFIED:20240826T135608Z
UID:7490-1727740800-1727913599@www.teatroolimpico.it
SUMMARY:Stefano Nazzi - Indagini Live
DESCRIPTION:Il grande successo ottenuto dal podcast ha spinto il giornalista e scrittore STEFANO NAZZI\, a portare dal vivo “INDAGINI”. \nStefano Nazzi è un giornalista e ha lavorato per importanti testate nazionali. Si è sempre occupato di cronaca\, seguendo i casi più conosciuti e di maggiore risonanza\, ma anche vicende meno note. Oggi racconta la cronaca e l’attualità per Il Post. È ideatore e autore di Indagini\, ai primi posti delle classifiche dei podcast\, e autore de Il volto del male (Mondadori\, 2023)\, un libro che racconta la storia di persone che hanno ucciso altre persone ma non solo\, racconta chi erano prima\, come sono arrivate a uccidere\, e che cosa è successo dopo. \nSi avvisa il gentile pubblico che la data del 2 ottobre è già sold out\, pertanto è disponibile all’acquisto la replica del 1° ottobre al link in basso (acquista ora). \nSpettacolo ore 20.30 \nDurata: 90 min senza intervallo.  \n\n\n\nPrezzi\n\n\nSettore\nPrezzo intero\nPrevendita\n\n\n\n\nLa prevendita sarà sempre richiesta al momento dell’emissione del biglietto\n\n\n\n\nPoltronissima Centrale\n€35\,00\n€5\,00\n\n\nPoltronissima Laterale\n€30\,00\n€4\,50\n\n\nPoltrona\n€28\,00\n€4\,00\n\n\nBalconata\n€25\,00\n€3\,50\n\n\nBalconata Laterale\n€22\,00\n€3\,00\n\n\n\n\nLa prevendita sarà sempre richiesta al momento dell’emissione del biglietto\n  \n\nACQUISTA ORA
URL:https://www.teatroolimpico.it/evento/stefano-nazzi-indagini-live-2/
CATEGORIES:Stagione 2024-2025
ATTACH;FMTTYPE=image/jpeg:https://www.teatroolimpico.it/wp-content/uploads/2023/12/Stefano-Nazzi-ph-Stefania-Casellato.jpg
END:VEVENT
BEGIN:VEVENT
DTSTART;TZID=UTC:20241003T210000
DTEND;TZID=UTC:20241003T230000
DTSTAMP:20260423T075321
CREATED:20240124T171022Z
LAST-MODIFIED:20240826T140054Z
UID:7497-1727989200-1727996400@www.teatroolimpico.it
SUMMARY:Filippo Giardina - Cabaret
DESCRIPTION:Fra i più amati (e odiati) stand-up comedian italiani\, Filippo Giardina torna nei teatri di tutta la penisola a partire dal mese di ottobre per proseguire il tour di Cabaret\, suo undicesimo monologo satirico: uno spettacolo comico\, coraggioso\, trasgressivo\, scorretto\, che ha come fine ultimo l’alleggerire il pubblico dal peso del nostro tempo. Cabaret smaschera un essere umano sempre più solo nel proprio delirio egoico\, incastrato in una  tecnologia aleatoria che dipinge un futuro angosciante e spersonalizzato.\nCabaret è un viaggio paradossale tra passato\, presente e futuro condito da cattiverie gratuite e ingiustizie lessicali.\nCabaret è un disincantato monologo di stand-up comedy che vuole prendere le distanze dalla comicità banale e improvvisata e rivendica l’appartenenza alla storica tradizione della letteratura orale. \nSpettacolo consigliato dai 16 anni in su \nSpettacolo ore 21.00 \nOrganizzatore: Ventidieci Srl  \nDurata: circa 120 min \n\n\nPrezzi\n\n\nSettore\nPrezzo intero\nPrevendita\n\n\n\n\nLa prevendita sarà sempre richiesta al momento dell’emissione del biglietto\n\n\n\n\nPoltronissima Centrale\n€33\,00\n€5\,00\n\n\nPoltronissima Laterale\n€30\,50\n€4\,50\n\n\nPoltrona\n€30\,50\n€4\,50\n\n\nBalconata\n€26\,10\n€3\,90\n\n\nBalconata Laterale\n€23\,50\n€3\,50\n\n\n\n\n  \n\nACQUISTA ORA
URL:https://www.teatroolimpico.it/evento/filippo-giardina-cabaret/
CATEGORIES:Stagione 2024-2025
ATTACH;FMTTYPE=image/jpeg:https://www.teatroolimpico.it/wp-content/uploads/2024/01/cabaret.jpg
END:VEVENT
BEGIN:VEVENT
DTSTART;VALUE=DATE:20241010
DTEND;VALUE=DATE:20241014
DTSTAMP:20260423T075321
CREATED:20240514T151648Z
LAST-MODIFIED:20240831T084747Z
UID:7881-1728518400-1728863999@www.teatroolimpico.it
SUMMARY:C'era una volta Cenerentola - Balletto di Roma
DESCRIPTION:Nel nuovo riallestimento 2024 C’era una volta Cenerentola di Fabrizio Monteverde non cambiano l’atmosfera\, il sapore\, l’ambientazione e i valori di una preziosa coreografia del repertorio del Balletto di Roma\, che torna in scena con una danza cui bastano pochi tratti di riferimento per proiettarsi in temi d’attualità\, colti con umana sensibilità.  \nSi percepisce\, nei brividi di Händel\, una malinconica tristezza che caratterizza anche il tempo presente\, svelata dalle angosce dei soprusi familiari\, patriarcali e di genere. Secondo Monteverde quella di Cenerentola è una storia apparentemente semplice: rivalità tra sorelle\, desideri inespressi che finalmente si realizzano\, la virtù premiata anche se vestita di stracci\, la punizione per i malvagi e gli sfruttatori. In realtà sotto questa superficie lineare e apparentemente trasparente si nascondono dei complessi sentimenti inconsci\, che sono poi alla base del successo della storia di Cenerentola nel corso dei secoli\, e che tracciano il percorso di crescita e di sviluppo della personalità\, fino alla piena realizzazione del sé. È una fiaba che continua a parlare di adolescenza\, della fatica di crescere specialmente per chi è ai margini\, delle prove da superare per raggiungere l’autonomia\, ma soprattutto del ruolo effimero dell’immagine esteriore\, come parametro considerato ieri come oggi – il “c’era una volta”\, ma che oggi c’è ancora – fondamentale per potersi affermare nella vita e nelle relazioni sociali.  \nQuest’opera di Fabrizio Monteverde\, come tutte le sue famose rivisitazioni di grandi classici\, tende a svuotare l’antica favola da tutti gli elementi più noti\, conosciuti attraverso i balletti di repertorio e la filmografia recente\, rovesciando la tipica ambientazione fiabesca in un mondo crudo e opprimente\, di cui sono sottolineati i contenuti soprattutto negativi\, ma che alla fine sfociano in una profonda e innocente introspezione. Nel linguaggio del coreografo c’è richiamo all’ingiustizia\, voglia di emancipazione e insieme quell’umiltà destinata a durare per sempre: la convinzione che questi valori possano esplodere ed esprimersi in sentimenti puri e folli come l’amore e la felicità\, trasuda in tutto lo spettacolo dalle luci ai costumi e al trucco\, sino all’originale scenografia. \n\nSpettacolo in collaborazione con Accademia Filarmonica Romana \nCon la partecipazione di Marisol Castellanos nel ruolo di Cenerentola \nCoreografia Fabrizio Monteverde\nMusiche Georg Friedrich Händel \nScene Fabrizio Monteverde\nIdeazione costumi Santi Rinciari \nLight designer Emanuele De Maria \nSpettacoli giovedì e venerdì ore 20.30\, sabato  ore 16.30 e 20.30\, domenica ore 17.30 \n\n\n\n\nPrezzi\n\n\nSettore\nPrezzo intero\nPrevendita\nPrezzo 3-12 anni\nPrevendita 3-12 anni\n\n\n\n\nLa prevendita sarà sempre richiesta al momento dell’emissione del biglietto\n\n\n\n\nPoltronissima Centrale\n€37\,00\n€5\,50\n€24\,00\n€3\,50\n\n\nPoltronissima Laterale\n€30\,00\n€4\,50\n€17\,00\n€2\,50\n\n\nPoltrona\n€27\,00\n€4\,00\n€16\,00\n€2\,00\n\n\nBalconata\n€27\,00\n€4\,00\n€16\,00\n€2\,00\n\n\nBalconata Laterale\n€22\,00\n€3\,00\n€14\,00\n€2\,00\n\n\n\n  \n\nACQUISTA ORA
URL:https://www.teatroolimpico.it/evento/cera-una-volta-cenerentola-balletto-di-roma/
CATEGORIES:Stagione 2024-2025
ATTACH;FMTTYPE=image/jpeg:https://www.teatroolimpico.it/wp-content/uploads/2024/05/WhatsApp-Image-2024-08-30-at-18.06.56-1.jpeg
END:VEVENT
BEGIN:VEVENT
DTSTART;VALUE=DATE:20241031
DTEND;VALUE=DATE:20241104
DTSTAMP:20260423T075321
CREATED:20240607T152904Z
LAST-MODIFIED:20240826T143833Z
UID:7958-1730332800-1730678399@www.teatroolimpico.it
SUMMARY:Miguel Ángel Zotto - Tango. Historias de Astor
DESCRIPTION:«La mia famiglia era di Trani…»: è questo l’incipit\, affidato alla voce registrata di Astor Piazzolla\, dello spettacolo Tango. Historias de Astor con cui il ballerino e coreografo argentino Miguel Ángel Zotto\, leggenda vivente del tango\, omaggia il musicista e compositore argentino di origine italiana Astor Pantaléon Piazzolla\, nato a Mar Del Plata nel 1921 e morto a Buenos Aires del 1992. \nIn scena per la stagione dell’Accademia Filarmonica Romana al Teatro Olimpico\, lo spettacolo scritto\, coreografato e diretto da Miguel Ángel Zotto\, è la storia di Piazzolla\, considerato universalmente il padre del tango moderno. Rappresentato per la prima volta a Trani nel 2021\, in occasione del centenario della nascita del musicista\, Tango. Historias de Astor torna a Roma. \n«Ho conosciuto Astor Piazzolla nel 1989 a Parigi. Portavo in scena un mio spettacolo a Parigi e lui mi avvicinò tramite un amico comune\, José Pons\, per complimentarsi con me»\, ricorda Zotto che considera Piazzolla il suo nume tutelare. La stima per il lavoro di Zotto fu tale che Piazzolla gli affidò le coreografie dell’allestimento di Broadway di Maria de Buenos Aires\, opera-tango su libretto di Horacio Ferrer. Quest’ultimo\, in una lettera custodita gelosamente dal ballerino\, lo descrive come «il più grande rivoluzionario dell’epoca attuale della storia del tango». \nInsieme alla vita di Astor Piazzolla\, Zotto porterà in scena la storia di un genere musicale e di un ballo che è l’essenza stessa dell’Argentina. A guidare la narrazione dello spettacolo sarà un angelo\, identificato come l’angelo del tango\, cui Astor racconta la sua vita dall’infanzia all’incontro con il tango\, dalle orchestre in cui suonò alla direzione dell’Orchestra Fiorentina alla messa in scena di Maria de Buenos Aires. \nSpettacolo in collaborazione con Accademia Filarmonica Romana \nREGIA Miguel Angel Zotto\nCOSTUMI Miguel Angel Zotto e Daiana Guspero\nSCENE Miguel Angel Zotto\nMUSICHE Tango Sonos Orquestra\nPRODUZIONE TangoX2 Company Tango Star\nLUCI Miguel Angel Zotto \nDurata 2 ore (compreso intervallo) \nSpettacoli giovedì e venerdì ore 20.30\, sabato ore 16.30 e 20.30\, domenica ore 17.30 \n\n\n\n\nPrezzi\n\n\nSettore\nPrezzo intero\nPrevendita\nPrezzo 3-12 anni\nPrevendita 3-12 anni\n\n\n\n\nLa prevendita sarà sempre richiesta al momento dell’emissione del biglietto\n\n\n\n\nPoltronissima Centrale\n€40\,00\n€6\,00\n–\n–\n\n\nPoltronissima Laterale\n€34\,00\n€5\,00\n€17\,00\n€2\,50\n\n\nPoltrona\n€29\,00\n€4\,00\n€14\,50\n€2\,00\n\n\nBalconata\n€29\,00\n€4\,00\n€14\,50\n€2\,00\n\n\nBalconata Laterale\n€25\,00\n€3\,50\n€12\,50\n€1\,50\n\n\n\n  \n\nACQUISTA ORA
URL:https://www.teatroolimpico.it/evento/tango-historias-de-astor-spettacolo-di-parole-musica-e-tango/
CATEGORIES:Stagione 2024-2025
ATTACH;FMTTYPE=image/jpeg:https://www.teatroolimpico.it/wp-content/uploads/2024/06/ZOTTO_SITO.jpg
END:VEVENT
END:VCALENDAR