BEGIN:VCALENDAR
VERSION:2.0
PRODID:-//Teatro Olimpico - ECPv5.15.0.1//NONSGML v1.0//EN
CALSCALE:GREGORIAN
METHOD:PUBLISH
X-WR-CALNAME:Teatro Olimpico
X-ORIGINAL-URL:https://www.teatroolimpico.it
X-WR-CALDESC:Events for Teatro Olimpico
REFRESH-INTERVAL;VALUE=DURATION:PT1H
X-Robots-Tag:noindex
X-PUBLISHED-TTL:PT1H
BEGIN:VTIMEZONE
TZID:UTC
BEGIN:STANDARD
TZOFFSETFROM:+0000
TZOFFSETTO:+0000
TZNAME:UTC
DTSTART:20240101T000000
END:STANDARD
END:VTIMEZONE
BEGIN:VEVENT
DTSTART;TZID=UTC:20240604T203000
DTEND;TZID=UTC:20240604T220000
DTSTAMP:20260425T134935
CREATED:20240321T162302Z
LAST-MODIFIED:20240526T131556Z
UID:7721-1717533000-1717538400@www.teatroolimpico.it
SUMMARY:Serata Lions Club per la Fondazione Bambino Gesù
DESCRIPTION:“Le Compagnie Teatrali amatoriali “dell’Albagia” e “La Rocca”\,  portano in scena lo spettacolo “Sogno di una notte di vana fantasia” nell’ambito del  progetto “A Teatro per la Vita”\, proposto dal Lions International con la regia di Carlo Del Giudice e Alessandra De Mattia. \nOrganizzatore: Lions Club Valle Tiberina \nLions Club Valle Tiberina destinerà l’intero incasso dello spettacolo\, al netto della SIAE\,  per acquistare dei letti pediatrici necessari per il completamento degli arredi del  “Centro Cure Palliative Pediatriche” di Passoscuro (RM)  dell’Ospedale Bambino Gesù. \nLa Fondazione Bambino Gesù – Ente Filantropico ha confermato la propria partecipazione a questa speciale serata teatrale\, in favore dei bambini che saranno ospitati nel Centro Cure Palliative di Passoscuro. \nQuesto spettacolo non si potrà acquistare con il BONUS DOCENTI \nSpettacolo 4 giugno ore 20.30 \n\n\n\n\n\n\nPREZZI\n\n\n \nIntero\nRidotto 3-12 anni\n\n\nPoltronissima centrale\n      35\,00 €\n      17\,50 €\n\n\nPoltronissima laterale\n      30\,00 €\n      15\,00 €\n\n\nPoltrona\n      20\,00 €\n      10\,00 €\n\n\nBalconata centrale\n      20\,00 €\n      10\,00 €\n\n\nBalconata laterale\n      20\,00 €\n      10\,00 €\n\n\n\n  \n\nACQUISTA ORA
URL:https://www.teatroolimpico.it/evento/sogno-di-una-notte-di-vana-fantasia-lions/
CATEGORIES:Stagione 2023-2024
ATTACH;FMTTYPE=image/jpeg:https://www.teatroolimpico.it/wp-content/uploads/2024/03/GRAFICA-SITO_NEW-1.jpg
END:VEVENT
BEGIN:VEVENT
DTSTART;TZID=UTC:20240607T203000
DTEND;TZID=UTC:20240607T230000
DTSTAMP:20260425T134935
CREATED:20240105T155912Z
LAST-MODIFIED:20240410T161134Z
UID:7409-1717792200-1717801200@www.teatroolimpico.it
SUMMARY:TRA PALCO E REALTÀ
DESCRIPTION:Uno show dinamico e coinvolgente con un cast d’eccezione\, formato da artisti provenienti da Amici e dal panorama musicale italiano che tra danza e musica si raccontano al pubblico attraverso anche un momento talk che renderà partecipi gli spettatori. Presentano Klaudia Pepa e Garrison Rochelle \nArte\, simpatia\, e tante emozioni…vi aspettano! \nOspiti speciali: Virginio – Deborah Iurato – Alex Wyse – Piccolo G – Christian Stefanelli – Carola Puddu – Ramon Agnelli – Ivanhoe & Jasper – Samuelino Palumbo – Jefferson Creus e gli Hermes \nDurata: 120 min \nSpettacolo ore 20.30 \n\n\n\n\nPREZZI \n(escluso diritto di prevendita)\n\n\n\nPoltronissima centrale\n      35\,00 €\n\n\nPoltronissima laterale\n      30\,50 €\n\n\nPoltrona\n      27\,50 €\n\n\nBalconata centrale\n      27\,50 €\n\n\nBalconata laterale\n      22\,00 €\n\n\nRidotto 3-10 anni\n      15\,00 €\n\n\n\n  \n\nACQUISTA ORA
URL:https://www.teatroolimpico.it/evento/tra-palco-e-realta/
CATEGORIES:Stagione 2023-2024
ATTACH;FMTTYPE=image/jpeg:https://www.teatroolimpico.it/wp-content/uploads/2024/01/TRA-PALCO_SITO_2.jpg
END:VEVENT
END:VCALENDAR