BEGIN:VCALENDAR
VERSION:2.0
PRODID:-//Teatro Olimpico - ECPv5.15.0.1//NONSGML v1.0//EN
CALSCALE:GREGORIAN
METHOD:PUBLISH
X-WR-CALNAME:Teatro Olimpico
X-ORIGINAL-URL:https://www.teatroolimpico.it
X-WR-CALDESC:Events for Teatro Olimpico
REFRESH-INTERVAL;VALUE=DURATION:PT1H
X-Robots-Tag:noindex
X-PUBLISHED-TTL:PT1H
BEGIN:VTIMEZONE
TZID:UTC
BEGIN:STANDARD
TZOFFSETFROM:+0000
TZOFFSETTO:+0000
TZNAME:UTC
DTSTART:20260101T000000
END:STANDARD
END:VTIMEZONE
BEGIN:VEVENT
DTSTART;TZID=UTC:20261102T203000
DTEND;TZID=UTC:20261102T223000
DTSTAMP:20260423T005804
CREATED:20260220T133028Z
LAST-MODIFIED:20260220T140137Z
UID:9262-1793651400-1793658600@www.teatroolimpico.it
SUMMARY:Fabio De Luigi - BIOL - In Carne e Ossa Tour
DESCRIPTION:Dopo 25 anni di lontananza dai palcoscenici\, Fabio De Luigi torna finalmente alle origini con un tour teatrale in carne e ossa. \nDa ottobre sarà protagonista nei principali teatri italiani con BIOL – In Carne e Ossa Tour\, uno spettacolo intimamente generoso costruito a immagine e somiglianza del suo interprete\, dove registro comico e anima poetica convivono in perfetta armonia. \nScritto insieme a Paolo Cananzi\, il progetto segna un ritorno significativo alla dimensione live e al contatto diretto con il pubblico. In scena\, De Luigi alterna monologhi\, racconti e momenti di pura improvvisazione\, mettendo in luce tutta la sua esperienza di attore e autore. È qui che ritrova la sua forma più autentica\, quella dell’incontro dal vivo\, senza filtri né mediazioni\, costruito sera dopo sera insieme agli spettatori. \nSpettacolo organizzato da Live Nation Italia \nSpettacolo ore 20.30 \n\n\n\n\nPrezzi\n\n\nSettore\nPrezzo intero\nPrevendita\n\n\n\n\nCommissioni online a biglietto: €3\,00\n\n\nLa prevendita sarà sempre richiesta al momento dell’emissione del biglietto\n\n\n\n\nPoltronissima Gold\n€60\,00\n€9\,00\n\n\nPoltronissima Laterale\n€55\,00\n€8\,25\n\n\nPoltrona\n€50\,00\n€7\,50\n\n\nBalconata\n€45\,00\n€6\,75\n\n\n\n\nACQUISTA ORA
URL:https://www.teatroolimpico.it/evento/fabio-de-luigi-biol-in-carne-e-ossa-tour/
CATEGORIES:Stagione 2026-2027
ATTACH;FMTTYPE=image/jpeg:https://www.teatroolimpico.it/wp-content/uploads/2026/02/Fabio-De-Luigi-2026_1920x1080.jpg
END:VEVENT
BEGIN:VEVENT
DTSTART;VALUE=DATE:20261104
DTEND;VALUE=DATE:20261130
DTSTAMP:20260423T005804
CREATED:20260207T211315Z
LAST-MODIFIED:20260401T193826Z
UID:9238-1793750400-1795996799@www.teatroolimpico.it
SUMMARY:Maurizio Battista - Se non vinco...imparo
DESCRIPTION:Maurizio Battista torna al Teatro Olimpico con un one-man show divertente e coinvolgente\, capace di mettere a nudo vizi e virtù dell’animo umano. \nIl cuore dello spettacolo è una riflessione profonda e allo stesso tempo ironica: se è vero che nella vita capita di cadere e non arrivare primi\, è altrettanto vero che ci si deve rialzare. Quella caduta non è una sconfitta\, ma una lezione: perché se non vinco… imparo… \nIn due ore di spettacolo\, Battista sarà a tu per tu con il suo pubblico\, portando in scena quella passione e quella capacità di coinvolgimento che lo hanno reso unico. Sarà un momento di divertimento collettivo\, dove ogni ricordo diventa lo spunto per una battuta e l’emozione si fonde con la risata. \nPerché\, come dice sempre Maurizio: “Il vero spettacolo lo facciamo insieme. Il vero spettacolo siete voi!” \nVi aspettiamo dal 4 novembre \nSpettacoli mercoledì e giovedì ore 20.30\, venerdì e sabato ore 21\, domenica ore 17.30 \n\n\n\nPrezzi\n\n\nSettore\nPrezzo intero\nPrevendita\n\n\n\n\nCommissioni online: €2\,50\n\n\nLa prevendita sarà sempre richiesta al momento dell’emissione del biglietto\n\n\n\n\nPoltronissima Gold\n€43\,50\n€6\,50\n\n\nPoltronissima Laterale\n€37\,50\n€5\,50\n\n\nPoltrona\n€35\,00\n€5\,30\n\n\nBalconata\n€35\,00\n€5\,30\n\n\nBalconata balaustra vis. ridotta\n€33\,00\n€5\,00\n\n\nBalconata Laterale\n€28\,00\n€4\,00\n\n\nBalconata Laterale balaustra vis. ridotta\n€25\,50\n€3\,50\n\n\n\n\nACQUISTA ORA
URL:https://www.teatroolimpico.it/evento/maurizio-battista-se-non-vinco-imparo/
CATEGORIES:Stagione 2026-2027
ATTACH;FMTTYPE=image/jpeg:https://www.teatroolimpico.it/wp-content/uploads/2026/02/MAURIZIO-BATTISTA-SE-NON-VINCO-IMPARO.jpeg
END:VEVENT
BEGIN:VEVENT
DTSTART;VALUE=DATE:20261116
DTEND;VALUE=DATE:20261118
DTSTAMP:20260423T005804
CREATED:20260308T123706Z
LAST-MODIFIED:20260308T124743Z
UID:9290-1794787200-1794959999@www.teatroolimpico.it
SUMMARY:Giorgia Fumo - Out Of Office
DESCRIPTION:Dopo il successo della scorsa stagione che l’ha vista protagonista di un tour accolto con entusiasmo in tutte le città italiane\, Giorgia Fumo torna in scena anche nel 26-27 con Out Of Office\, lo spettacolo prodotto da Savà Produzioni Creative che consolida il suo percorso artistico e la consacra tra i nomi più affermati e riconoscibili della stand-up italiana. \nIronia tagliente\, sguardo sul presente e racconto personale sono gli elementi che definiscono lo stile di Giorgia Fumo\, oggi tra le voci più riconoscibili e originali della comicità contemporanea. \nIn “Out Of Office”\, Giorgia Fumo ci guida in un viaggio attraverso le sfide e le assurdità della vita da ufficio\, analizzando come il mondo del lavoro sia radicalmente mutato negli ultimi quindici anni. Con il suo stile tagliente e ironico\, Giorgia usa i suoi tredici anni in ufficio per raccontare un mondo del lavoro fatto di presentazioni PowerPoint e burnout\, fogli Excel e figure che si vantano di “lavorare con le persone”\, storie strappalacrime su LinkedIn e risse per l’aria condizionata. \n“Out Of Office” è più di una semplice performance comica: è un ritratto vivace e autentico di un microcosmo in cui\, volenti o nolenti\, trascorriamo gran parte delle nostre giornate mescolando aspettative\, frustrazioni e limiti. Con il suo umorismo acuto\, Giorgia ci ricorda che\, anche tra una call e l’altra in cui dare il peggio di sé\, c’è sempre spazio per una risata e una riflessione. \nSpettacoli ore 20.30 \n\n\n\nPrezzi\n\n\nSettore\nPrezzo intero\nPrevendita\n\n\n\n\nCommissioni online a biglietto: €2\,00\n\n\nLa prevendita sarà sempre richiesta al momento dell’emissione del biglietto\n\n\n\n\nPoltronissima Gold\n€33\,00\n€5\,00\n\n\nPoltronissima Laterale\n€30\,00\n€4\,50\n\n\nPoltrona\n€26\,00\n€3\,90\n\n\nBalconata\n€26\,00\n€3\,90\n\n\nBalconata balaustra vis. ridotta\n€25\,00\n€3\,80\n\n\nBalconata Laterale\n€22\,00\n€3\,30\n\n\nBalconata Laterale balaustra vis. ridotta\n€20\,00\n€3\,00\n\n\n\n\nACQUISTA ORA
URL:https://www.teatroolimpico.it/evento/giorgia-fumo-out-of-office-2/
CATEGORIES:Stagione 2026-2027
ATTACH;FMTTYPE=image/jpeg:https://www.teatroolimpico.it/wp-content/uploads/2026/03/FUMO_2627.jpg
END:VEVENT
BEGIN:VEVENT
DTSTART;VALUE=DATE:20261130
DTEND;VALUE=DATE:20261202
DTSTAMP:20260423T005804
CREATED:20260415T152204Z
LAST-MODIFIED:20260415T152638Z
UID:9342-1795996800-1796169599@www.teatroolimpico.it
SUMMARY:Legend The Show con Jennifer Batten
DESCRIPTION:Uno straordinario spettacolo tributo che celebra l’indiscusso genio della musica pop\, Michael Jackson. Questo evento unico nel suo genere offre un’esperienza mozzafiato\, rendendo omaggio all’eccezionale carriera del Re del Pop. \nWendel Gama\, impersonator brasiliano di Michael Jackson con oltre 4 milioni di follower sui social media\, catturerà l’anima unica del Re del Pop con una performance magistrale. Ogni movimento\, ogni gesto è un tributo rispettoso e appassionato al grande artista. \nInoltre\, “Legend – The Show” presenta un ospite speciale di eccezionale prestigio: Jennifer Batten\, la leggendaria chitarrista che ha accompagnato Michael Jackson in tutti i suoi principali tour per molti anni. La sua presenza sul palco aggiunge un tocco autentico ed emozionante\, riportando in vita gli indimenticabili assoli di chitarra che hanno contribuito a definire il suono distintivo delle canzoni di Michael. \nImmergiti nella magica atmosfera di uno spettacolo straordinario\, dove il palco prende vita grazie alla potenza di una live band che riproduce fedelmente gli arrangiamenti musicali iconici di Michael Jackson. Per la prima volta in assoluto\, una maestosa orchestra dal vivo esalta la grandezza delle sue indimenticabili composizioni. \nLa compagnia di ballerini\, con coreografie curate nei minimi dettagli\, trasporterà il pubblico nel mondo affascinante di Michael\, ricreando le sue leggendarie performance dal vivo. Ogni movimento\, ogni passo di danza catturerà l’energia contagiosa che ha reso Michael Jackson un’icona globale. \n“Legend – The Show” non è solo uno spettacolo\, ma un viaggio attraverso il tempo e la musica. Rivivi successi intramontabili come “Thriller”\, “Billie Jean”\, “Beat It” e molti altri\, mentre la magia di Michael Jackson prende vita davanti ai tuoi occhi. \nPreparati a lasciarti incantare da una serata straordinaria che celebra l’eterno talento di Michael Jackson. “Legend – The Show” è più di una performance: è un tributo emozionante\, un’esperienza indimenticabile che ti farà ballare\, cantare e innamorare ancora una volta del Re del Pop. \nSpettacoli ore 20.30 \n\n\n\nPrezzi\n\n\nSettore\nPrezzo intero\nPrevendita\n\n\n\n\nCommissioni online a biglietto: €1\,50\n\n\nLa prevendita sarà sempre richiesta al momento dell’emissione del biglietto\n\n\n\n\nPoltronissima Gold\n€45\,00\n€6\,80\n\n\nPoltronissima Laterale\n€39\,00\n€6\,00\n\n\nPoltrona\n€35\,00\n€5\,30\n\n\nBalconata\n€35\,00\n€5\,30\n\n\nBalconata con balaustra\n€32\,00\n€4\,80\n\n\nBalconata Laterale\n€30\,00\n€4\,50\n\n\nBalconata Laterale con balaustra\n€27\,00\n€4\,10\n\n\n\n\nACQUISTA ORA
URL:https://www.teatroolimpico.it/evento/legend-the-show-con-jennifer-batten/
CATEGORIES:Stagione 2026-2027
ATTACH;FMTTYPE=image/jpeg:https://www.teatroolimpico.it/wp-content/uploads/2026/04/LEGEND26_1920.jpg
END:VEVENT
BEGIN:VEVENT
DTSTART;TZID=UTC:20261202T203000
DTEND;TZID=UTC:20261202T220000
DTSTAMP:20260423T005804
CREATED:20260218T171051Z
LAST-MODIFIED:20260223T150849Z
UID:9250-1796243400-1796248800@www.teatroolimpico.it
SUMMARY:Umberto Galimberti - Il Bene e il Male - Educare le nuove generazioni
DESCRIPTION:Ragazzi di oggi sono incapaci di sentire la differenza tra bene e male.  \nIl filosofo sottolinea l’importanza della “risonanza emotiva”\, un processo attraverso il quale si comprendono le conseguenze emotive dei propri comportamenti. Questa mancanza\, sostiene Galimberti\, può portare a non riconoscere la differenza tra bene e male\, un principio che secondo Kant dovrebbe essere intuitivo. Galimberti sottolinea come questa percezione intuitiva sia meno evidente nelle nuove generazioni. \nQueste osservazioni aprono un dibattito più ampio sulla responsabilità sociale ed educativa. Se la capacità di distinguere tra bene e male non è più intrinseca\, si pongono interrogativi significativi riguardo l’educazione emozionale e morale fornita ai giovani. La questione riguarda non solo le famiglie ma anche le istituzioni educative\, invitando a riflettere sull’importanza di un’educazione che vada oltre la semplice trasmissione di conoscenze\, per abbracciare anche lo sviluppo emotivo ed etico. \nSpettacolo ore 20.30 \n\n\n\nPrezzi\n\n\nSettore\nPrezzo intero\nPrevendita\n\n\n\n\nCommissioni online a biglietto: €2\,00\n\n\nLa prevendita sarà sempre richiesta al momento dell’emissione del biglietto\n\n\n\n\nPoltronissima Gold\n€38\,00\n€5\,70\n\n\nPoltronissima Laterale\n€36\,00\n€5\,40\n\n\nPoltrona\n€34\,00\n€5\,10\n\n\nBalconata\n€34\,00\n€5\,10\n\n\nBalconata balaustra vis. ridotta\n€33\,00\n€5\,00\n\n\nBalconata Laterale\n€29\,00\n€4\,40\n\n\nBalconata Laterale balaustra vis. ridotta\n€28\,00\n€4\,20\n\n\n\n\nACQUISTA ORA
URL:https://www.teatroolimpico.it/evento/umberto-galimberti-il-bene-e-il-male-educare-le-nuove-generazioni/
CATEGORIES:Stagione 2026-2027
ATTACH;FMTTYPE=image/jpeg:https://www.teatroolimpico.it/wp-content/uploads/2026/02/Il-bene-e-il-male-1920x1080px.jpg
END:VEVENT
BEGIN:VEVENT
DTSTART;VALUE=DATE:20261221
DTEND;VALUE=DATE:20261223
DTSTAMP:20260423T005804
CREATED:20260417T143252Z
LAST-MODIFIED:20260420T132212Z
UID:9348-1797811200-1797983999@www.teatroolimpico.it
SUMMARY:Maccio Capatonda - Spettacolo Teatrale
DESCRIPTION:Un direttore di teatro sull’orlo del fallimento\, un gruppo di attori disperati e un colpo di genio: convincere Maccio Capatonda a debuttare in teatro per salvare la compagnia e il palcoscenico stesso dalla demolizione. Da qui prende vita una commedia surreale e metateatrale\, dove il confine tra realtà e finzione si dissolve: Maccio dialoga con il suo alter ego in video\, si confronta con il linguaggio del palcoscenico e con la fragilità – e la verità – dell’essere dal vivo. Tra equivoci\, satire\, pubblicità impossibili e improvvisi momenti di poesia\, lo spettacolo diventa una riflessione comica e vertiginosa sul mestiere dell’attore\, sul potere dell’immaginazione e sul senso stesso del teatro oggi. Un viaggio ironico e umano che mescola cinema\, televisione e palcoscenico\, fino a trasformare il teatro in un set… e il set\, finalmente\, in teatro. \nSe acquisti il biglietto entro il 20 maggio potrai accedere a una live esclusiva su YouTube con Maccio Capatonda.\nCompila il form nel link sotto e ottieni il link della live\nhttps://forms.gle/RrST3QHYoR5dMVTS9  \n\nISTRUZIONI PER L’USO (Per chi non sa da che parte si inizia) \n1. Scegliere lo spettacolo e pagare: prima di tutto\, devi decidere di andare a vedere lo Spettacolo Teatrale. Una volta scelto\, devi dare dei soldi in cambio di un pezzetto di carta chiamato “biglietto”. Se non paghi\, l’uomo alla porta non ti sorride e non ti fa passare. \n2. Entrare nell’edificio e cercare l’umano: varcata la soglia\, cerca una persona vestita bene (la “Maschera”). Non aver paura: il suo lavoro è guardare il tuo biglietto e puntare il dito verso una porta. Tu devi camminare esattamente dove punta il dito. \n3. Decifrare le coordinate (Fila e Numero): una volta in sala\, inizia la sfida matematica. Devi trovare la tua poltrona usando le coordinate: le Lettere (A\, B\, C…) sono le file e servono a capire quanto sei lontano dal palco; i Numeri (1\, 2\, 3…) sono i sedili. Se sul biglietto c’è scritto “Fila B\, Numero 12”\, non sederti nella “Fila F\, Numero 40” \, lo puoi fare solo se la poltrona ti sembra più morbida. \n4. Gestione del buio e dei sentimenti: a un certo punto le luci si spegneranno. È normale\, serve a vedere meglio gli attori che sono illuminati. Se l’oscurità ti spaventa\, puoi stringere la mano della persona che hai portato con te. Puoi anche stringere la mano a uno sconosciuto: a teatro si usa e potrebbe nascere un equivoco piacevole. \n5. Neutralizzazione del dispositivo: prendi il telefono cellulare. Cerca il tasto “Accensione/Spegnimento” e premilo con forza per circa tre secondi. Quando lo schermo diventa nero l’operazione è riuscita. Se il telefono suona mentre un attore sta morendo in scena\, l’attore potrebbe risorgere e lo spettacolo non finirebbe mai. \n6. L’Applauso e lo sgombero dei locali: quando gli attori smettono di parlare e iniziano a inchinarsi\, significa che è finita. A questo punto devi battere le mani l’una contro l’altra ripetutamente: serve a far capire che eri sveglio o che\, almeno\, hai gradito il disturbo. Una volta terminato il rumore\, alzati in piedi usando le gambe e dirigiti verso la scritta luminosa “USCITA”. Se segui la scritta\, finirai magicamente in strada; se provi a passare dal palco\, diventerai parte della scenografia e dovrai restare lì anche per la replica del giorno dopo. \ndi Marcello Macchia\, Paola Pessot\, Alessandro Mannucci\nregia Daniele Russo e Maccio Capatonda \ncon Maccio Capatonda\ne con Angela De Matteo\, Paola Sambo\, Andrea Buscemi\, Marika De Chiara\, Manuel Severino\, Davide Mazzella \nscene Roberto Crea\ncostumi Enzo Pirozzi\nluci Alessandro Caso e Daniele Russo\nvideo designer Alessandro Papa\nmusiche Mariano Bellopede\ncoreografie Isacco Venturini\nproduzione Fondazione Teatro di Napoli – Teatro Bellini\, Show Bees\, Micidial \n\nSpettacoli ore 20.30 \n\n\n\nPrezzi\n\n\nSettore\nPrezzo intero\nPrevendita\n\n\n\n\nCommissioni online a biglietto: €2\,50\n\n\nLa prevendita sarà sempre richiesta al momento dell’emissione del biglietto\n\n\n\n\nPoltronissima Gold\n€47\,80\n€7\,20\n\n\nPoltronissima Laterale\n€40\,00\n€6\,00\n\n\nPoltrona\n€37\,00\n€5\,60\n\n\nBalconata\n€35\,00\n€5\,30\n\n\nBalconata con balaustra\n€32\,00\n€4\,80\n\n\nBalconata Laterale\n€30\,00\n€4\,50\n\n\nBalconata Laterale con balaustra\n€27\,00\n€4\,10\n\n\n\n\nACQUISTA ORA
URL:https://www.teatroolimpico.it/evento/maccio-capatonda-spettacolo-teatrale/
CATEGORIES:Stagione 2026-2027
ATTACH;FMTTYPE=image/jpeg:https://www.teatroolimpico.it/wp-content/uploads/2026/04/MACCIO_1920-1.jpg
END:VEVENT
BEGIN:VEVENT
DTSTART;VALUE=DATE:20270119
DTEND;VALUE=DATE:20270125
DTSTAMP:20260423T005804
CREATED:20260319T200229Z
LAST-MODIFIED:20260319T201223Z
UID:9305-1800316800-1800835199@www.teatroolimpico.it
SUMMARY:Riccardo Rossi - Non ho l'età!
DESCRIPTION:Riccardo Rossi torna con un nuovo show che affronta il vero problema dell’esistenza di un maschio: dare un senso alla propria vita. L’uomo moderno nasce\, cresce\, invecchia ma non diventa mai adulto. \nAttraversando la pubertà\, l’adolescenza e l’età adulta\, cercherà di scansare le responsabilità che gli cadono addosso\, e per tutta la vita proverà a crescere senza riuscirci mai.   \nCercherà di farlo ispirandosi alle imprese degli “eroi modello” che gli hanno inculcato da ragazzo: esplorare lo spazio\, scoprire l’America\, unire l’Italia oppure\, molto più concretamente\, affrontare e chiudere un matrimonio\, per poi imparare finalmente a fare la spesa da solo!  \nCi sarebbe anche da fare il padre. Ma qual è il problema? “Tanto poi ci pensa la madre!”. Perché l’uomo non ha mai l’età per diventare adulto.  \nFidatevi di chi non ci è riuscito! \nUna produzione Jando Music. \nSpettacoli dal martedì al sabato ore 20.30\, domenica ore 17.30 \n\n\n\nPrezzi\n\n\nSettore\nPrezzo intero\nPrevendita\n\n\n\n\nCommissioni online a biglietto: €1\,50\n\n\nLa prevendita sarà sempre richiesta al momento dell’emissione del biglietto\n\n\n\n\nPoltronissima Gold\n€35\,00\n€5\,30\n\n\nPoltronissima Laterale\n€31\,00\n€4\,70\n\n\nPoltrona\n€28\,00\n€4\,20\n\n\nBalconata\n€28\,00\n€4\,20\n\n\nBalconata balaustra vis. ridotta\n€28\,00\n€4\,20\n\n\nBalconata Laterale\n€26\,00\n€3\,90\n\n\nBalconata Laterale balaustra vis. ridotta\n€25\,00\n€3\,80\n\n\n\n\nACQUISTA ORA
URL:https://www.teatroolimpico.it/evento/riccardo-rossi-non-ho-leta/
CATEGORIES:Stagione 2026-2027
ATTACH;FMTTYPE=image/jpeg:https://www.teatroolimpico.it/wp-content/uploads/2026/03/Riccardo-in-scena-scaled.jpeg
END:VEVENT
END:VCALENDAR