BEGIN:VCALENDAR
VERSION:2.0
PRODID:-//Teatro Olimpico - ECPv5.15.0.1//NONSGML v1.0//EN
CALSCALE:GREGORIAN
METHOD:PUBLISH
X-WR-CALNAME:Teatro Olimpico
X-ORIGINAL-URL:https://www.teatroolimpico.it
X-WR-CALDESC:Events for Teatro Olimpico
REFRESH-INTERVAL;VALUE=DURATION:PT1H
X-Robots-Tag:noindex
X-PUBLISHED-TTL:PT1H
BEGIN:VTIMEZONE
TZID:UTC
BEGIN:STANDARD
TZOFFSETFROM:+0000
TZOFFSETTO:+0000
TZNAME:UTC
DTSTART:20260101T000000
END:STANDARD
END:VTIMEZONE
BEGIN:VEVENT
DTSTART;VALUE=DATE:20261104
DTEND;VALUE=DATE:20261130
DTSTAMP:20260422T094206
CREATED:20260207T211315Z
LAST-MODIFIED:20260401T193826Z
UID:9238-1793750400-1795996799@www.teatroolimpico.it
SUMMARY:Maurizio Battista - Se non vinco...imparo
DESCRIPTION:Maurizio Battista torna al Teatro Olimpico con un one-man show divertente e coinvolgente\, capace di mettere a nudo vizi e virtù dell’animo umano. \nIl cuore dello spettacolo è una riflessione profonda e allo stesso tempo ironica: se è vero che nella vita capita di cadere e non arrivare primi\, è altrettanto vero che ci si deve rialzare. Quella caduta non è una sconfitta\, ma una lezione: perché se non vinco… imparo… \nIn due ore di spettacolo\, Battista sarà a tu per tu con il suo pubblico\, portando in scena quella passione e quella capacità di coinvolgimento che lo hanno reso unico. Sarà un momento di divertimento collettivo\, dove ogni ricordo diventa lo spunto per una battuta e l’emozione si fonde con la risata. \nPerché\, come dice sempre Maurizio: “Il vero spettacolo lo facciamo insieme. Il vero spettacolo siete voi!” \nVi aspettiamo dal 4 novembre \nSpettacoli mercoledì e giovedì ore 20.30\, venerdì e sabato ore 21\, domenica ore 17.30 \n\n\n\nPrezzi\n\n\nSettore\nPrezzo intero\nPrevendita\n\n\n\n\nCommissioni online: €2\,50\n\n\nLa prevendita sarà sempre richiesta al momento dell’emissione del biglietto\n\n\n\n\nPoltronissima Gold\n€43\,50\n€6\,50\n\n\nPoltronissima Laterale\n€37\,50\n€5\,50\n\n\nPoltrona\n€35\,00\n€5\,30\n\n\nBalconata\n€35\,00\n€5\,30\n\n\nBalconata balaustra vis. ridotta\n€33\,00\n€5\,00\n\n\nBalconata Laterale\n€28\,00\n€4\,00\n\n\nBalconata Laterale balaustra vis. ridotta\n€25\,50\n€3\,50\n\n\n\n\nACQUISTA ORA
URL:https://www.teatroolimpico.it/evento/maurizio-battista-se-non-vinco-imparo/
CATEGORIES:Stagione 2026-2027
ATTACH;FMTTYPE=image/jpeg:https://www.teatroolimpico.it/wp-content/uploads/2026/02/MAURIZIO-BATTISTA-SE-NON-VINCO-IMPARO.jpeg
END:VEVENT
END:VCALENDAR