BEGIN:VCALENDAR
VERSION:2.0
PRODID:-//Teatro Olimpico - ECPv5.15.0.1//NONSGML v1.0//EN
CALSCALE:GREGORIAN
METHOD:PUBLISH
X-WR-CALNAME:Teatro Olimpico
X-ORIGINAL-URL:https://www.teatroolimpico.it
X-WR-CALDESC:Events for Teatro Olimpico
REFRESH-INTERVAL;VALUE=DURATION:PT1H
X-Robots-Tag:noindex
X-PUBLISHED-TTL:PT1H
BEGIN:VTIMEZONE
TZID:UTC
BEGIN:STANDARD
TZOFFSETFROM:+0000
TZOFFSETTO:+0000
TZNAME:UTC
DTSTART:20260101T000000
END:STANDARD
END:VTIMEZONE
BEGIN:VEVENT
DTSTART;TZID=UTC:20261011T173000
DTEND;TZID=UTC:20261011T193000
DTSTAMP:20260422T061351
CREATED:20260218T171446Z
LAST-MODIFIED:20260219T164118Z
UID:9253-1791739800-1791747000@www.teatroolimpico.it
SUMMARY:K-POP MANIA
DESCRIPTION:Arriva a teatro il fenomeno record di streaming che sta spopolando in tutto il mondo. \nUno spettacolo che ripercorre le più famose hit mondiali Kpop – Demon Hunters\, BTS\, Blackpink\, Twice\, Saja Boys. \nUn’esplosione di energia\, stile e passione prende vita sul palco. KpopMania è un viaggio travolgente tra coreografie potenti\, visual iconici e hit che hanno conquistato il mondo. Una crew di 7 strepitosi cantanti e ballerini\, uno show in cui ogni dettaglio è curato per farti vivere l’adrenalina dei grandi concerti coreani: movimenti precisi\, look mozzafiato e una performance che unisce talento\, emozione e pura idol vibe. Dai ritmi irresistibili alle emozioni più intense. \n2 ore di musica e coreografie mozzafiato per rivivere dal vivo le canzoni più cool del momento. \nSe ami il Kpop\, KpopMania non è solo uno show: è un’esperienza! \nSpettacolo ore 17.30 \n\n\n\nPrezzi\n\n\nSettore\nPrezzo intero\nPrevendita\n\n\n\n\nCommissioni online a biglietto: €3\,00\n\n\nLa prevendita sarà sempre richiesta al momento dell’emissione del biglietto\n\n\n\n\nPoltronissima Gold\n€40\,00\n€6\,00\n\n\nPoltronissima Laterale\n€37\,00\n€5\,60\n\n\nPoltrona\n€34\,00\n€5\,10\n\n\nBalconata\n€34\,00\n€5\,10\n\n\nBalconata balaustra vis. ridotta\n€33\,00\n€5\,00\n\n\nBalconata Laterale\n€29\,00\n€4\,40\n\n\nBalconata Laterale balaustra vis. ridotta\n€28\,00\n€4\,20\n\n\n\n\nACQUISTA ORA
URL:https://www.teatroolimpico.it/evento/kpop-mania/
CATEGORIES:Stagione 2026-2027
ATTACH;FMTTYPE=image/jpeg:https://www.teatroolimpico.it/wp-content/uploads/2026/02/KPop-1920x1080px.jpg
END:VEVENT
END:VCALENDAR