BEGIN:VCALENDAR
VERSION:2.0
PRODID:-//Teatro Olimpico - ECPv5.15.0.1//NONSGML v1.0//EN
CALSCALE:GREGORIAN
METHOD:PUBLISH
X-WR-CALNAME:Teatro Olimpico
X-ORIGINAL-URL:https://www.teatroolimpico.it
X-WR-CALDESC:Events for Teatro Olimpico
REFRESH-INTERVAL;VALUE=DURATION:PT1H
X-Robots-Tag:noindex
X-PUBLISHED-TTL:PT1H
BEGIN:VTIMEZONE
TZID:UTC
BEGIN:STANDARD
TZOFFSETFROM:+0000
TZOFFSETTO:+0000
TZNAME:UTC
DTSTART:20260101T000000
END:STANDARD
END:VTIMEZONE
BEGIN:VEVENT
DTSTART;VALUE=DATE:20260924
DTEND;VALUE=DATE:20260926
DTSTAMP:20260422T043741
CREATED:20260307T094637Z
LAST-MODIFIED:20260307T110145Z
UID:9284-1790208000-1790380799@www.teatroolimpico.it
SUMMARY:Gianluca Gotto - Questione di Karma
DESCRIPTION:Il dolore è inevitabile. La sofferenza no. Solo che nessuno ce lo ha insegnato. E così vaghiamo in questa vita ripetendo gli stessi errori\, guidati da paure che abbiamo ereditato e da comportamenti che detestiamo ma non riusciamo a eliminare.\nDiciamo che è il nostro carattere. O la nostra genetica. A volte lo chiamiamo destino. E se fosse\, invece\, una questione di karma?\nGianluca Gotto torna nei migliori teatri italiani e non solo con “Questione di karma”\, un viaggio dentro il senso di colpa\, il perdono\, il cambiamento\, il karma famigliare e quello personale\, per riscoprire il potere di quelle scelte che cambiano il nostro destino.\nUna serata per imparare a spezzare il filo invisibile che ci lega al dolore e ritrovare la leggerezza del vivere.\nPerché se è vero che non possiamo scegliere cosa abbiamo ricevuto\, possiamo sempre scegliere cosa lasciare.\nLa sofferenza non nasce da noi\, ma con noi può finire. \nSpettacolo ore 21 \n\n\n\nPrezzi\n\n\nSettore\nPrezzo intero\nPrevendita\n\n\n\n\nCommissioni online a biglietto: €2\,50\n\n\nLa prevendita sarà sempre richiesta al momento dell’emissione del biglietto\n\n\n\n\nPoltronissima Gold\n€42\,00\n€6\,30\n\n\nPoltronissima Laterale\n€38\,00\n€5\,70\n\n\nPoltrona\n€34\,00\n€5\,10\n\n\nBalconata\n€32\,00\n€4\,80\n\n\nBalconata balaustra vis. ridotta\n€29\,00\n€4\,40\n\n\nBalconata Laterale\n€27\,00\n€4\,10\n\n\nBalconata Laterale balaustra vis. ridotta\n€26\,00\n€3\,90\n\n\n\n\nACQUISTA ORA
URL:https://www.teatroolimpico.it/evento/gianluca-gotto-questione-di-karma/
CATEGORIES:Stagione 2026-2027
ATTACH;FMTTYPE=image/jpeg:https://www.teatroolimpico.it/wp-content/uploads/2026/03/GOTTO_ticket-1138x508-1.jpg
END:VEVENT
END:VCALENDAR