BEGIN:VCALENDAR
VERSION:2.0
PRODID:-//Teatro Olimpico - ECPv5.15.0.1//NONSGML v1.0//EN
CALSCALE:GREGORIAN
METHOD:PUBLISH
X-WR-CALNAME:Teatro Olimpico
X-ORIGINAL-URL:https://www.teatroolimpico.it
X-WR-CALDESC:Events for Teatro Olimpico
REFRESH-INTERVAL;VALUE=DURATION:PT1H
X-Robots-Tag:noindex
X-PUBLISHED-TTL:PT1H
BEGIN:VTIMEZONE
TZID:UTC
BEGIN:STANDARD
TZOFFSETFROM:+0000
TZOFFSETTO:+0000
TZNAME:UTC
DTSTART:20260101T000000
END:STANDARD
END:VTIMEZONE
BEGIN:VEVENT
DTSTART;TZID=UTC:20260524T210000
DTEND;TZID=UTC:20260524T223000
DTSTAMP:20260422T010003
CREATED:20260303T102720Z
LAST-MODIFIED:20260305T152701Z
UID:9277-1779656400-1779661800@www.teatroolimpico.it
SUMMARY:Michele Bravi - Commedia Musicale tour
DESCRIPTION:A poche ore dal debutto sul palco di Sanremo 2026\, in gara con il brano “Prima o poi”\, Michele Bravi annuncia un altro atteso ritorno: quello che lo riporterà dal vivo davanti al suo pubblico con “Commedia Musicale Tour”. \nProdotta da Vivo Concerti\, la tournée prenderà il via con due speciali anteprime\, il 22 maggio a Milano all’Auditorium Fondazione Cariplo e il 24 maggio a Roma al Teatro Olimpico\, per attraversare poi tutta l’Italia nel corso dell’estate\, fino all’autunno. \nSpettacolo ore 21 \nL’evento è organizzato da Vivo Concerti srl \n\n\nPrezzi\n\n\nSettore\nPrezzo intero\nPrevendita\n\n\n\n\nLa prevendita sarà sempre richiesta al momento dell’emissione del biglietto\n\n\n\n\nPoltronissima Gold\n€60\,00\n€9\,00\n\n\nPoltronissima Laterale\n€51\,30\n€7\,70\n\n\nPoltrona\n€47\,83\n€7\,17\n\n\nBalconata\n€42\,61\n€6\,39\n\n\nBalconata balaustra vis. ridotta\n€42\,61\n€6\,39\n\n\nBalconata Laterale\n€40\,00\n€6\,00\n\n\nBalconata Laterale balaustra vis. ridotta\n€40\,00\n€6\,00\n\n\n\n\nACQUISTA ORA
URL:https://www.teatroolimpico.it/evento/michele-bravi-commedia-musicale-tour/
CATEGORIES:Stagione 2025-2026
ATTACH;FMTTYPE=image/jpeg:https://www.teatroolimpico.it/wp-content/uploads/2026/03/MicheleBravi_26_1920x1080_roma.jpg
END:VEVENT
END:VCALENDAR