BEGIN:VCALENDAR
VERSION:2.0
PRODID:-//Teatro Olimpico - ECPv5.15.0.1//NONSGML v1.0//EN
CALSCALE:GREGORIAN
METHOD:PUBLISH
X-WR-CALNAME:Teatro Olimpico
X-ORIGINAL-URL:https://www.teatroolimpico.it
X-WR-CALDESC:Events for Teatro Olimpico
REFRESH-INTERVAL;VALUE=DURATION:PT1H
X-Robots-Tag:noindex
X-PUBLISHED-TTL:PT1H
BEGIN:VTIMEZONE
TZID:UTC
BEGIN:STANDARD
TZOFFSETFROM:+0000
TZOFFSETTO:+0000
TZNAME:UTC
DTSTART:20260101T000000
END:STANDARD
END:VTIMEZONE
BEGIN:VEVENT
DTSTART;TZID=UTC:20260522T203000
DTEND;TZID=UTC:20260522T223000
DTSTAMP:20260422T005953
CREATED:20260228T210336Z
LAST-MODIFIED:20260410T152449Z
UID:9270-1779481800-1779489000@www.teatroolimpico.it
SUMMARY:Forever - Omaggio a Pino Daniele
DESCRIPTION:Lo spettacolo\, condotto dal musicologo Federico Vacalebre\, capo della redazione Cultura e Spettacoli de Il Mattino e storico biografo dell’artista\, nonché autore del soggetto del Film “PINO” prodotto dalla Fondazione Pino Daniele\, intreccia narrazione e musica dal vivo in un percorso emozionale e culturale di grande intensità. \nProtagonista sul palco sarà la band “Musicanti Ensamble”\, composta dai musicisti che\, negli ultimi vent’anni\, hanno condiviso con Pino Daniele un significativo percorso artistico e umano.\nLa direzione artistica è affidata a Fabio Massimo Colasanti\, con Elisabetta Serio insieme a Sasà Brancaccio (basso)\, Ivano Petti (batteria)\, Noemi Smorra e Francesco Viglietti (voci)\, oltre alla partecipazione di un quartetto d’archi ospiti speciali dell’evento.\nNel corso dello spettacolo saranno eseguite dal vivo alcune tra le pagine più significative\, rappresentative ed amate del repertorio del “Mascalzone Latino”. \nAttraverso arrangiamenti di altissimo livello tecnico e artistico\, il concerto-evento fa rivivere le canzoni che hanno emozionato intere generazioni\, restituendo al pubblico il ritratto autentico del poeta\, del musicista e del suonatore. \nL’ambizione del progetto è quella di avvicinare pubblici diversi e nuove generazioni alla straordinaria produzione artistica e culturale di Pino Daniele. \nSpettacolo ore 20.30 \n\n\n\nPrezzi\n\n\nSettore\nPrezzo intero\nPrevendita\nPrezzo 3-12 anni\nPrevendita 3-12 anni\n\n\n\n\nLa prevendita sarà sempre richiesta al momento dell’emissione del biglietto\n\n\n\n\nPoltronissima Gold\n€43\,50\n€6\,50\n–\n–\n\n\nPoltronissima Laterale\n€37\,50\n€5\,50\n€26\,30\n€3\,90\n\n\nPoltrona\n€35\,00\n€5\,50\n€24\,50\n€3\,70\n\n\nBalconata\n€34\,00\n€5\,00\n€23\,80\n€3\,60\n\n\nBalconata con balaustra \n€33\,00\n€5\,00\n€23\,10\n€3\,50\n\n\nBalconata Laterale\n€28\,00\n€4\,00\n€19\,60\n€2\,90\n\n\nBalconata Laterale con balaustra\n€25\,50\n€4\,00\n€17\,90\n€2\,70\n\n\n\n\nACQUISTA ORA
URL:https://www.teatroolimpico.it/evento/forever-omaggio-a-pino-daniele/
CATEGORIES:Stagione 2025-2026
ATTACH;FMTTYPE=image/jpeg:https://www.teatroolimpico.it/wp-content/uploads/2026/02/PINODANIELE_1920.jpg
END:VEVENT
END:VCALENDAR