BEGIN:VCALENDAR
VERSION:2.0
PRODID:-//Teatro Olimpico - ECPv5.15.0.1//NONSGML v1.0//EN
CALSCALE:GREGORIAN
METHOD:PUBLISH
X-WR-CALNAME:Teatro Olimpico
X-ORIGINAL-URL:https://www.teatroolimpico.it
X-WR-CALDESC:Events for Teatro Olimpico
REFRESH-INTERVAL;VALUE=DURATION:PT1H
X-Robots-Tag:noindex
X-PUBLISHED-TTL:PT1H
BEGIN:VTIMEZONE
TZID:UTC
BEGIN:STANDARD
TZOFFSETFROM:+0000
TZOFFSETTO:+0000
TZNAME:UTC
DTSTART:20260101T000000
END:STANDARD
END:VTIMEZONE
BEGIN:VEVENT
DTSTART;TZID=UTC:20260521T210000
DTEND;TZID=UTC:20260521T223000
DTSTAMP:20260422T005238
CREATED:20250918T134815Z
LAST-MODIFIED:20260410T152417Z
UID:9107-1779397200-1779402600@www.teatroolimpico.it
SUMMARY:90 Mania - The Musical
DESCRIPTION:Gli anni ’90 stanno per tornare…ma in una versione che non avete mai visto prima! \n“90 Mania – The Musical” è pronto a fare il suo debutto regalando al pubblico uno spettacolo travolgente\, pieno di musica\, comicità e un’ondata di pura nostalgia. Un viaggio emozionante nel decennio che ha segnato intere generazioni\, tra hit iconiche\, mode indimenticabili e riferimenti cult che faranno scatenare il pubblico di tutte le età. Non importa se hai vissuto gli anni ’90 in prima persona o se li conosci solo dai racconti: questo musical è per tutti! \n“90 Mania – The Musical” è uno show pensato per coinvolgere grandi e piccoli. Per chi ha ballato al ritmo delle boyband\, vissuto l’era dei Tamagotchi e aspettato ore per scaricare una canzone su Napster\, sarà un tuffo nella memoria. Per i più giovani\, sarà un modo per scoprire un decennio leggendario\, fatto di colori sgargianti\, videogiochi epici e musica indimenticabile. Uno spettacolo che fonde teatro\, musica dal vivo e coreografie spettacolari\, con un cast straordinario pronto a far rivivere il meglio degli anni ’90 con ironia e tanto\, tanto divertimento. Dalle canzoni di Britney Spears e gli 883\, passando per i Backstreet Boys e le Spice Girls\, fino alle sigle dei cartoni animati più amati di quel periodo: momento dello show è una festa! \n“90 Mania – The Musical” non è il solito spettacolo teatrale: è un nuovo concetto di musical\, dove il pubblico è coinvolto attivamente\, dove la musica e il racconto si fondono in un’esperienza coinvolgente e dinamica. Un mix di sketch comici\, momenti emozionanti e performance mozzafiato\, che faranno ridere\, ballare e cantare tutta la platea. \nSpettacolo ore 21 \n\n\n\nPrezzi\n\n\nSettore\nPrezzo intero\nPrevendita\nPrezzo 3-12 anni\nPrevendita 3-12 anni\n\n\n\n\nLa prevendita sarà sempre richiesta al momento dell’emissione del biglietto\n\n\n\n\nPoltronissima Gold\n€35\,00\n€5\,30\n–\n–\n\n\nPoltronissima Laterale\n€32\,00\n€4\,80\n€19\,20\n€2\,90\n\n\nPoltrona\n€30\,00\n€4\,50\n€18\,00\n€2\,70\n\n\nBalconata\n€29\,00\n€4\,40\n€17\,40\n€2\,60\n\n\nBalconata con balaustra\n€27\,00\n€4\,10\n€16\,20\n€2\,40\n\n\nBalconata Laterale\n€27\,00\n€4\,10\n€16\,20\n€2\,40\n\n\nBalconata Laterale con balaustra \n€26\,00\n€3\,90\n€15\,60\n€2\,30\n\n\n\n\nACQUISTA ORA
URL:https://www.teatroolimpico.it/evento/90-mania-the-musical/
CATEGORIES:Stagione 2025-2026
ATTACH;FMTTYPE=image/jpeg:https://www.teatroolimpico.it/wp-content/uploads/2025/09/90MANIA_1920.jpg
END:VEVENT
END:VCALENDAR