BEGIN:VCALENDAR
VERSION:2.0
PRODID:-//Teatro Olimpico - ECPv5.15.0.1//NONSGML v1.0//EN
CALSCALE:GREGORIAN
METHOD:PUBLISH
X-WR-CALNAME:Teatro Olimpico
X-ORIGINAL-URL:https://www.teatroolimpico.it
X-WR-CALDESC:Events for Teatro Olimpico
REFRESH-INTERVAL;VALUE=DURATION:PT1H
X-Robots-Tag:noindex
X-PUBLISHED-TTL:PT1H
BEGIN:VTIMEZONE
TZID:UTC
BEGIN:STANDARD
TZOFFSETFROM:+0000
TZOFFSETTO:+0000
TZNAME:UTC
DTSTART:20260101T000000
END:STANDARD
END:VTIMEZONE
BEGIN:VEVENT
DTSTART;TZID=UTC:20260520T210000
DTEND;TZID=UTC:20260520T223000
DTSTAMP:20260422T010009
CREATED:20250722T140033Z
LAST-MODIFIED:20260410T152338Z
UID:9027-1779310800-1779316200@www.teatroolimpico.it
SUMMARY:Marcello Cirillo Demo Morselli - Tu vuo' fa l'americano
DESCRIPTION:Si può vivere nella nostalgia pur di realizzare un sogno? “Tu vuo’ fa l’americano” non è solo uno spettacolo\, ma un vero e proprio omaggio ai 40 milioni di emigranti italiani che dai primi anni del ‘900 fino agli anni ‘60 misero in discussione la loro vita per perseguire il famoso “American Dream”. Una riflessione sulle difficoltà e le speranze\, sulle aspirazioni e lo spirito di adattamento dei nostri avi che mescola sapientemente musica\, canto e racconto. \nAttraverso un’orchestra diretta dal Maestro Demo Morselli\, la voce di Marcello Cirillo e la narrazione dell’attrice Barbara De Rossi\, il pubblico sarà catapultato in un tempo in cui gli uomini avevano sì le radici\, ma avevano anche forti gambe per andare altrove. \nSpettacolo ore 21 \n\n\n\nPrezzi\n\n\nSettore\nPrezzo intero\nPrevendita\nPrezzo 3-12 anni\nPrevendita 3-12 anni\n\n\n\n\nLa prevendita sarà sempre richiesta al momento dell’emissione del biglietto\n\n\n\n\nPoltronissima Gold\n€35\,00\n€5\,30\n€21\,00\n€3\,20\n\n\nPoltronissima Laterale\n€32\,00\n€4\,80\n€19\,20\n€2\,90\n\n\nPoltrona\n€30\,00\n€4\,50\n€18\,00\n€2\,70\n\n\nBalconata\n€29\,00\n€4\,40\n€17\,40\n€2\,60\n\n\nBalconata con balaustra \n€27\,00\n€4\,10\n€16\,20\n€2\,40\n\n\nBalconata Laterale\n€27\,00\n€4\,10\n€16\,20\n€2\,40\n\n\nBalconata Laterale con balaustra \n€26\,00\n€3\,90\n€15\,60\n€2\,30\n\n\n\n\nACQUISTA ORA
URL:https://www.teatroolimpico.it/evento/marcello-cirillo-demo-morselli-tu-vuo-fa-lamericano/
CATEGORIES:Stagione 2025-2026
ATTACH;FMTTYPE=image/jpeg:https://www.teatroolimpico.it/wp-content/uploads/2025/07/AMERICANO_1920-1.jpg
END:VEVENT
END:VCALENDAR