BEGIN:VCALENDAR
VERSION:2.0
PRODID:-//Teatro Olimpico - ECPv5.15.0.1//NONSGML v1.0//EN
CALSCALE:GREGORIAN
METHOD:PUBLISH
X-WR-CALNAME:Teatro Olimpico
X-ORIGINAL-URL:https://www.teatroolimpico.it
X-WR-CALDESC:Events for Teatro Olimpico
REFRESH-INTERVAL;VALUE=DURATION:PT1H
X-Robots-Tag:noindex
X-PUBLISHED-TTL:PT1H
BEGIN:VTIMEZONE
TZID:UTC
BEGIN:STANDARD
TZOFFSETFROM:+0000
TZOFFSETTO:+0000
TZNAME:UTC
DTSTART:20260101T000000
END:STANDARD
END:VTIMEZONE
BEGIN:VEVENT
DTSTART;VALUE=DATE:20260428
DTEND;VALUE=DATE:20260511
DTSTAMP:20260421T230841
CREATED:20250430T143027Z
LAST-MODIFIED:20260410T151832Z
UID:8721-1777334400-1778457599@www.teatroolimpico.it
SUMMARY:MOMIX - Botanica - Season 2
DESCRIPTION:BOTANICA – SEASON 2 \nDirezione artistica di Moses Pendleton \n“Con BOTANICA – Season 2 siamo tornati al nostro giardino originario e abbiamo lasciato che nuove idee mettessero radici“\, afferma il Direttore Artistico Moses Pendleton. \nPiù che una ripresa\, questo secondo capitolo fa rifiorire Botanica\, il grande successo MOMIX del 2008\, arricchendolo di nuove sorprese e di proiezioni visive aggiornate che trasformano il palcoscenico in un terrario vivente. I danzatori diventano vespe leggere come colibrì\, calendule luminose\, tronchi e architetture arboree\, rendendo visibile la stessa energia che attraversa il mondo naturale. \nDella durata di circa 90 minuti\, con un intervallo\, Botanica Season 2 fonde danza atletica\, illusione visiva e immaginario naturale in un viaggio scenico di straordinaria forza poetica. Il risultato è uno spettacolo capace di lasciare gli spettatori\, come dice Pendleton\, “con un po’ meno gravità nel passo”: la prova che la fotosintesi può avvenire anche nell’oscurità di un teatro. \n“Ci piace lavorare con l’alchimia della percezione: un modo di vedere che trasforma il quotidiano in qualcosa di elementare. Sono costantemente ispirato dall’energia del sole\, da come scolpisce un paesaggio\, nutre un fiore\, proietta un’ombra che diventa parte della danza. BOTANICA non significa soltanto creare qualcosa di bello\, ma risvegliare i sensi\, riconnettersi con le materie prime della vita e ricordarci che non siamo separati dalla natura: ne siamo parte\, e da essa siamo plasmati.” – Moses Pendleton\, Fondatore e Direttore Artistico\, MOMIX \nSpettacolo in collaborazione con Accademia Filarmonica Romana \n\nSpettacoli dal martedì al venerdì ore 20.30\, sabato ore 16.30 e 20.30 e domenica ore 17.30 \nDurata: 90 min compreso intervallo \n\n\n\nPrezzi\n\n\nSettore\nPrezzo intero\nPrevendita\nPrezzo 3-12 anni\nPrevendita 3-12 anni\n\n\n\n\nLa prevendita sarà sempre richiesta al momento dell’emissione del biglietto\n\n\n\n\nPoltronissima Gold\n€50\,50\n€7\,50\n–\n–\n\n\nPoltronissima Laterale\n€42\,00\n€6\,30\n€29\,40\n€4\,40\n\n\nPoltrona\n€39\,00\n€5\,90\n€27\,30\n€4\,10\n\n\nBalconata\n€39\,00\n€5\,90\n€27\,30\n€4\,10\n\n\nBalconata con balaustra\n€35\,00\n€5\,20\n€24\,50\n€3\,70\n\n\nBalconata Laterale\n€33\,00\n€5\,00\n€23\,10\n€3\,50\n\n\nBalconata Laterale con balaustra \n€31\,00\n€4\,60\n€21\,70\n€3\,20\n\n\n\n  \n\nACQUISTA ORA
URL:https://www.teatroolimpico.it/evento/momix-botanica-season-2/
CATEGORIES:Stagione 2025-2026
ATTACH;FMTTYPE=image/jpeg:https://www.teatroolimpico.it/wp-content/uploads/2025/04/MOMIX2_1920_scale-3.jpg
END:VEVENT
END:VCALENDAR