BEGIN:VCALENDAR
VERSION:2.0
PRODID:-//Teatro Olimpico - ECPv5.15.0.1//NONSGML v1.0//EN
CALSCALE:GREGORIAN
METHOD:PUBLISH
X-WR-CALNAME:Teatro Olimpico
X-ORIGINAL-URL:https://www.teatroolimpico.it
X-WR-CALDESC:Events for Teatro Olimpico
REFRESH-INTERVAL;VALUE=DURATION:PT1H
X-Robots-Tag:noindex
X-PUBLISHED-TTL:PT1H
BEGIN:VTIMEZONE
TZID:UTC
BEGIN:STANDARD
TZOFFSETFROM:+0000
TZOFFSETTO:+0000
TZNAME:UTC
DTSTART:20260101T000000
END:STANDARD
END:VTIMEZONE
BEGIN:VEVENT
DTSTART;TZID=UTC:20260420T203000
DTEND;TZID=UTC:20260420T214500
DTSTAMP:20260422T010141
CREATED:20260129T180812Z
LAST-MODIFIED:20260410T151719Z
UID:9224-1776717000-1776721500@www.teatroolimpico.it
SUMMARY:Harmony of Light
DESCRIPTION:L’incontro tra Inpungnyu\, compagnia di performance tradizionali coreane\, e la Saeng Dong Gam Crew dà vita allo spettacolo Harmony of Light\, che costruisce una narrazione attraverso la sintonia tra movimento e luce. \nDue identità diverse si uniscono: da un lato la performance carica di vitalità(in coreano saeng dong gam) dall’altro la luminosità della tradizione coreana. Le percussioni di Inpungnyu\, raffinate ma al tempo stesso potenti\, guidano la narrazione e orientano l’energia scenica dello spettacolo. \nL’abbattimento dei confini genera una nuova fusione: Harmony of Light\, uno spazio in cui il movimento diventa luce\, la luce si trasforma in emozione e insieme si crea “un’unica luce”. \nEvento organizzato da Accademia Filarmonica Romana \nSpettacolo ore 20.30 \nDurata 75 min circa \n\n\n\nPrezzi\n\n\nSettore\nPrezzo intero\nPrevendita\n\n\n\n\nLa prevendita sarà sempre richiesta al momento dell’emissione del biglietto\n\n\n\n\nPoltronissima Gold\n€17\,40\n€2\,60\n\n\nPoltronissima Laterale\n€13\,00\n€2\,00\n\n\nPoltrona\n€13\,00\n€2\,00\n\n\nBalconata\n€13\,00\n€2\,00\n\n\nBalconata con balaustra \n€12\,00\n€2\,00\n\n\nBalconata Laterale\n€12\,00\n€2\,00\n\n\nBalconata Laterale con balaustra \n€12\,00\n€2\,00\n\n\n\n  \n\nACQUISTA ORA
URL:https://www.teatroolimpico.it/evento/harmony-of-light/
CATEGORIES:Stagione 2025-2026
ATTACH;FMTTYPE=image/jpeg:https://www.teatroolimpico.it/wp-content/uploads/2026/01/v3_HOL_1920x1080.jpg
END:VEVENT
END:VCALENDAR