BEGIN:VCALENDAR
VERSION:2.0
PRODID:-//Teatro Olimpico - ECPv5.15.0.1//NONSGML v1.0//EN
CALSCALE:GREGORIAN
METHOD:PUBLISH
X-WR-CALNAME:Teatro Olimpico
X-ORIGINAL-URL:https://www.teatroolimpico.it
X-WR-CALDESC:Events for Teatro Olimpico
REFRESH-INTERVAL;VALUE=DURATION:PT1H
X-Robots-Tag:noindex
X-PUBLISHED-TTL:PT1H
BEGIN:VTIMEZONE
TZID:UTC
BEGIN:STANDARD
TZOFFSETFROM:+0000
TZOFFSETTO:+0000
TZNAME:UTC
DTSTART:20260101T000000
END:STANDARD
END:VTIMEZONE
BEGIN:VEVENT
DTSTART;VALUE=DATE:20260414
DTEND;VALUE=DATE:20260420
DTSTAMP:20260421T230900
CREATED:20230717T143654Z
LAST-MODIFIED:20260410T151647Z
UID:6984-1776124800-1776643199@www.teatroolimpico.it
SUMMARY:STOMP
DESCRIPTION:Irresistibile e travolgente\, STOMP\, la sensazionale compagnia britannica diventata ormai un fenomeno globale\, è un mix contagioso di percussioni\, danza\, musica\, teatro. La colonna sonora dello spettacolo si ispira ai mille suoni e rumori della vita quotidiana mentre l’atmosfera è decisamente metropolitana. Otto performer\, formidabili ballerini- acrobati – percussionisti dotati di orecchio assoluto\, “suonano” oggetti di uso comune: accendini\, scatole di fiammiferi\, coperchi dei bidoni\, scope\, pneumatici\, lavandini e riempiono il palco con un ritmo esplosivo ed incalzante applauditi da un pubblico di tutte le età. Lo spettacolo nasce a Brighton nel 1991 da Luke Cresswell e Steve McNicholas e da allora ha girato tutti gli angoli della Terra fino a raggiungere cinque cast in tournée contemporaneamente. Senza trama\, personaggi né parole\, STOMP mette in scena il suono del nostro tempo\, una maestosa coreografia urbana\, traducendo in una sinfonia intensa e ritmica i rumori e le sonorità della civiltà contemporanea.  \n\nSpettacolo in collaborazione con Accademia Filarmonica Romana e LSD Edizioni \n\n\n\n		\n				\n						\n			\n				\n			\n		\n							\n			\n				\n						\n			\n				\n			\n		\n							\n			\n				\n						\n			\n				\n			\n		\n							\n			\n				\n						\n			\n				\n			\n		\n							\n			\n				\n						\n			\n				\n			\n		\n							\n			\n				\n						\n			\n				\n			\n		\n							\n			\n				\n						\n			\n				\n			\n		\n							\n			\n				\n						\n			\n				\n			\n		\n							\n			\n	\n	\n\n	\n		\n			\nSpettacoli dal martedì al venerdì ore 20.30\, sabato e domenica ore 16.00 e 20.30 \nDurata: 120 min  \n\n\n\nPrezzi\n\n\nSettore\nPrezzo intero\nPrevendita\nPrezzo 3-12 anni\nPrevendita 3-12 anni\n\n\n\n\nLa prevendita sarà sempre richiesta al momento dell’emissione del biglietto\n\n\n\n\nPoltronissima Gold\n€50\,00\n€7\,50\n–\n–\n\n\nPoltronissima Laterale\n€41\,50\n€6\,00\n€24\,90\n€3\,70\n\n\nPoltrona\n€38\,50\n€5\,80\n€23\,10\n€3\,50\n\n\nBalconata\n€38\,50\n€5\,80\n€23\,10\n€3\,50\n\n\nBalconata con balaustra\n€37\,50\n€5\,60\n€22\,50\n€3\,40\n\n\nBalconata Laterale\n€30\,00\n€4\,50\n€18\,00\n€2\,70\n\n\nBalconata Laterale con balaustra \n€28\,00\n€4\,20\n€16\,80\n€2\,50\n\n\n\n\nACQUISTA ORA
URL:https://www.teatroolimpico.it/evento/stomp/
CATEGORIES:Stagione 2025-2026
ATTACH;FMTTYPE=image/jpeg:https://www.teatroolimpico.it/wp-content/uploads/2023/07/STOMP2_1920.jpg
END:VEVENT
END:VCALENDAR