BEGIN:VCALENDAR
VERSION:2.0
PRODID:-//Teatro Olimpico - ECPv5.15.0.1//NONSGML v1.0//EN
CALSCALE:GREGORIAN
METHOD:PUBLISH
X-WR-CALNAME:Teatro Olimpico
X-ORIGINAL-URL:https://www.teatroolimpico.it
X-WR-CALDESC:Events for Teatro Olimpico
REFRESH-INTERVAL;VALUE=DURATION:PT1H
X-Robots-Tag:noindex
X-PUBLISHED-TTL:PT1H
BEGIN:VTIMEZONE
TZID:UTC
BEGIN:STANDARD
TZOFFSETFROM:+0000
TZOFFSETTO:+0000
TZNAME:UTC
DTSTART:20260101T000000
END:STANDARD
END:VTIMEZONE
BEGIN:VEVENT
DTSTART;TZID=UTC:20260412T173000
DTEND;TZID=UTC:20260412T193000
DTSTAMP:20260421T231040
CREATED:20250716T142937Z
LAST-MODIFIED:20260410T151610Z
UID:8989-1776015000-1776022200@www.teatroolimpico.it
SUMMARY:I Legnanesi - Promessa d'amore
DESCRIPTION:La trama del nuovo spettacolo de I LEGNANESI non vuole essere una rivisitazione in chiave moderna del più celebre romanzo di tutti i tempi: “I promessi sposi” \, ma un\nomaggio alla capacità di analisi profonda dei sentimenti del suo autore: Alessandro Manzoni\, chiamato simpaticamente dagli amici lombardi “Lisander”. È un viaggio nei sentimenti più profondi questa storia che inizia con una notizia incredibile annunciata da un Giovanni triste ed abbattuto e accettata con stupore e clamore da un’effervescente e sempre in forma Mabilia e con gioia incontenibile da una Teresa spumeggiante come mai abbiamo visto! Forse i nostri consorti Teresa e Giovanni per uno strano errore di scartoffie comunali non sono mai stati sposati…vi immaginate? Come sarebbe la vostra vita se un giorno qualcuno vi comunicasse che la persona con la quale credete di essere sposati da più di 40 anni non è mai stata la vostra\, o il vostro consorte? Provate a pensare all’impatto che questa notizia potrebbe avere sulla vostra vita e quella dei vostri figli!\nUn caos\, una bomba\, una miscela esplosiva di malintesi\, imprevisti\, gag divertenti e colpi di scena ci travolgeranno in un gioco di identità confuse dove ognuno giocherà un ruolo diverso dal proprio ma rimarrà sempre se stesso\, fedele ai propri sentimenti…confermando quello che diceva appunto Il Manzoni: “ il cuore é un guazzabuglio”! \nSpettacolo ore 17.30 \nDurata: 120 min circa senza intervallo \n\n\n\nPrezzi\n\n\nSettore\nPrezzo intero\nPrevendita\nPrezzo 3-12 anni\nPrevendita 3-12 anni\n\n\n\n\nLa prevendita sarà sempre richiesta al momento dell’emissione del biglietto\n\n\n\n\nPoltronissima Gold\n€38\,00\n€5\,70\n–\n–\n\n\nPoltronissima Laterale\n€31\,00\n€4\,70\n€18\,60\n€2\,80\n\n\nPoltrona\n€27\,00\n€4\,10\n€16\,20\n€2\,40\n\n\nBalconata\n€27\,00\n€4\,10\n€16\,20\n€2\,40\n\n\nBalconata con balaustra \n€26\,00\n€3\,90\n€15\,60\n€2\,30\n\n\nBalconata Laterale\n€24\,00\n€3\,60\n€14\,40\n€2\,20\n\n\nBalconata Laterale con balaustra \n€22\,00\n€3\,30\n€13\,20\n€2\,00\n\n\n\n\nACQUISTA ORA
URL:https://www.teatroolimpico.it/evento/i-legnanesi-promessa-damore/
CATEGORIES:Stagione 2025-2026
ATTACH;FMTTYPE=image/jpeg:https://www.teatroolimpico.it/wp-content/uploads/2025/07/LEGNESI_1920.jpg
END:VEVENT
END:VCALENDAR