BEGIN:VCALENDAR
VERSION:2.0
PRODID:-//Teatro Olimpico - ECPv5.15.0.1//NONSGML v1.0//EN
CALSCALE:GREGORIAN
METHOD:PUBLISH
X-WR-CALNAME:Teatro Olimpico
X-ORIGINAL-URL:https://www.teatroolimpico.it
X-WR-CALDESC:Events for Teatro Olimpico
REFRESH-INTERVAL;VALUE=DURATION:PT1H
X-Robots-Tag:noindex
X-PUBLISHED-TTL:PT1H
BEGIN:VTIMEZONE
TZID:UTC
BEGIN:STANDARD
TZOFFSETFROM:+0000
TZOFFSETTO:+0000
TZNAME:UTC
DTSTART:20260101T000000
END:STANDARD
END:VTIMEZONE
BEGIN:VEVENT
DTSTART;VALUE=DATE:20260407
DTEND;VALUE=DATE:20260409
DTSTAMP:20260421T230851
CREATED:20250428T112040Z
LAST-MODIFIED:20260324T172612Z
UID:8722-1775520000-1775692799@www.teatroolimpico.it
SUMMARY:Federico Buffa - Otto Infinito - Vita e morte di un Mamba
DESCRIPTION:NUOVA DATA: 7 aprile ore 20.30! \nFederico Buffa torna a teatro con uno spettacolo dedicato a Kobe Bryant\, una delle più grandi leggende del basket. Attraverso una narrazione avvincente\, ricca di aneddoti e spunti di riflessione\, racconta la sua ossessione per il successo e la sete di conoscenza che lo hanno reso un’icona dello sport. \nCon questo spettacolo Federico Buffa porta in scena la sua grande passione\, il basket\, e lo fa esplorando la condizione umana attraverso tematiche come i sogni\, la lotta interiore e il desiderio di superare i propri limiti. \nBuffa\, per mezzo della storia di Bryant\, parla di perseveranza\, fallimento e riscatto\, mostrando come ogni persona possa aspirare a lasciare un segno: un omaggio a un campione\, una riflessione sui valori universali\, alla ricerca di un significato che va oltre il successo sportivo. Nel raccontare la vita di Kobe Bryant\, Buffa umanizza l’atleta\, mettendo in evidenza le difficoltà che l’atleta è riuscito a superare\, creando una connessione profonda tra il personaggio e il pubblico. \ndi e con Federico Buffa\npianoforte Alessandro Nidi\npercussioni Sebastiano Nidi\ntrombone Filippo Nidi \nregia Maria Elisabetta Marelli\nvisual Francesco Poroli\nanimazione e postproduzione visual Mattia Galione\ndisegno luci Luca de Candido \n\nSpettacoli 7 e 8 aprile ore 20.30 \n\nDurata: 120 min circa senza intervallo \n\n\n\nPrezzi\n\n\nSettore\nPrezzo intero\nPrevendita\nPrezzo 3-12 anni\nPrevendita 3-12 anni\n\n\n\n\nLa prevendita sarà sempre richiesta al momento dell’emissione del biglietto\n\n\n\n\nPoltronissima Gold\n€38\,00\n€5\,70\n–\n–\n\n\nPoltronissima Laterale\n€34\,50\n€5\,20\n€24\,20\n€3\,60\n\n\nPoltrona\n€30\,00\n€4\,50\n€21\,00\n€3\,20\n\n\nBalconata\n€30\,00\n€4\,50\n€21\,00\n€3\,20\n\n\nBalconata balaustra vis. ridotta\n€29\,00\n€4\,30\n€20\,30\n€3\,00\n\n\nBalconata Laterale\n€24\,50\n€3\,70\n€17\,10\n€2\,60\n\n\nBalconata Laterale balaustra vis. ridotta\n€22\,00\n€3\,30\n€15\,40\n€2\,30\n\n\n\n  \n\nACQUISTA ORA
URL:https://www.teatroolimpico.it/evento/federico-buffa-otto-infinito/
CATEGORIES:Stagione 2025-2026
ATTACH;FMTTYPE=image/jpeg:https://www.teatroolimpico.it/wp-content/uploads/2025/04/8-INFINITO_NEUTRO_1920x1080-scaled.jpg
END:VEVENT
END:VCALENDAR