BEGIN:VCALENDAR
VERSION:2.0
PRODID:-//Teatro Olimpico - ECPv5.15.0.1//NONSGML v1.0//EN
CALSCALE:GREGORIAN
METHOD:PUBLISH
X-WR-CALNAME:Teatro Olimpico
X-ORIGINAL-URL:https://www.teatroolimpico.it
X-WR-CALDESC:Events for Teatro Olimpico
REFRESH-INTERVAL;VALUE=DURATION:PT1H
X-Robots-Tag:noindex
X-PUBLISHED-TTL:PT1H
BEGIN:VTIMEZONE
TZID:UTC
BEGIN:STANDARD
TZOFFSETFROM:+0000
TZOFFSETTO:+0000
TZNAME:UTC
DTSTART:20260101T000000
END:STANDARD
END:VTIMEZONE
BEGIN:VEVENT
DTSTART;VALUE=DATE:20260311
DTEND;VALUE=DATE:20260406
DTSTAMP:20260421T230906
CREATED:20250313T212736Z
LAST-MODIFIED:20260327T141848Z
UID:8668-1773187200-1775433599@www.teatroolimpico.it
SUMMARY:Lillo e Greg - MOVIe ERCULeO
DESCRIPTION:Dopo il clamoroso successo di pubblico della prima edizione\, il Teatro Olimpico è felice di annunciare la ripresa di MOVIe ERCULeO\, l’ultimo e irriverente spettacolo di Lillo e Greg. Oltre due ore di risate in cui la famosa coppia comica romana porta in scena un incredibile viaggio metateatrale che stravolge i principali generali cinematografici: dal peplum all’horror\, dalla fantascienza al noir\, dal fantasy all’arte surreale\, dal poliziesco al musical. E per non parlare dell’importanza del product placement! Non sapete cos’è? Allora venite a seguire questa lezione magistrale che\, per quanto ci riguarda\, è impossibile da replicare! \n\nNUOVA REPLICA AGGIUNTA SABATO 4 APRILE ORE 16.30 BIGLIETTI DISPONIBILI\n4 APRILE ORE 16.30 \nAUTORI Claudio Gregori e Pasquale Petrolo\nREGIA Lillo&Greg\nCO REGIA Claudio Piccolotto\nCOSTUMI Nicoletta Fattibene\nCAST Lillo&Greg\, Federica Cifola\, Vania Della Bidia\, Marco Fiorini\, Attilio Di Giovanni.\nPRODUZIONE LSD Edizioni srl\nMUSICHE di Greg\, Lillo e Attilio Di Giovanni \nSpettacoli dal mercoledì al venerdì ore 20.30\, sabato ore 16.30 e 21\, domenica ore 16 e 20.30 (domenica 5 aprile ore 18) \n\n\n\n\nPrezzi\n\n\nSettore\nPrezzo intero\nPrevendita\n\n\n\n\nLa prevendita sarà sempre richiesta al momento dell’emissione del biglietto\n\n\n\n\nPoltronissima Gold\n€47\,00\n€7\,00\n\n\nPoltronissima Laterale\n€42\,00\n€6\,20\n\n\nPoltrona\n€37\,00\n€5\,50\n\n\nBalconata\n€37\,00\n€5\,50\n\n\nBalconata balaustra vis. ridotta\n€35\,00\n€5\,20\n\n\nBalconata Laterale\n€30\,00\n€4\,50\n\n\nBalconata Laterale balaustra vis. ridotta\n€29\,00\n€4\,30\n\n\n\n  \n\nACQUISTA ORA
URL:https://www.teatroolimpico.it/evento/lillo-e-greg-movie-erculeo-2/
CATEGORIES:Stagione 2025-2026
ATTACH;FMTTYPE=image/png:https://www.teatroolimpico.it/wp-content/uploads/2025/03/LILLO_GRAFICA2025.png
END:VEVENT
BEGIN:VEVENT
DTSTART;TZID=UTC:20260401T203000
DTEND;TZID=UTC:20260401T223000
DTSTAMP:20260421T230906
CREATED:20250725T143931Z
LAST-MODIFIED:20260318T142657Z
UID:9048-1775075400-1775082600@www.teatroolimpico.it
SUMMARY:Claudio GREG Gregori - Celebrity Roast
DESCRIPTION:Non una passione di facciata\, ma una relazione totalizzante\, viscerale\, coltivata per tutta la vita. La musica Greg la ascolta\, la studia\, la smonta e la ricompone\, la vive e la respira da quando ha memoria. Ed è proprio da questo universo sonoro personale — vasto\, raffinato e sorprendentemente popolare — che nasce Greg Celebrity Roast\, una serata evento che è insieme concerto\, racconto\, gioco teatrale e dichiarazione d’amore alla grande musica del Novecento. \nSul palco\, Greg apre al pubblico le porte del suo mondo musicale: dall’esplosivo Rock’n’Roll degli anni ’50 alle armonizzazioni vertiginose dei Beach Boys\, dal swing elegante dei grandi crooner come Dean Martin\, Bobby Darin e Frank Sinatra fino alle atmosfere sofisticate e malinconiche di Burt Bacharach. Un viaggio sonoro ricco\, colto ma mai elitario\, attraversato con ironia\, competenza e un piacere contagioso. \nAd accompagnarlo\, una grandiosa orchestra al completo di fiati e archi\, diretta con piglio deciso e brillante dal M°Attilio Di Giovanni\, e il dialogo musicale con la voce intensa e raffinata di Ilaria Della Bidia\, partner ideale per dare corpo ed emozione a un repertorio senza tempo. Il tutto arricchito da ospiti a sorpresa\, chiamati a “roastare” — affettuosamente ma senza sconti — il protagonista della serata. \nGreg si mette in gioco\, si espone\, si prende in giro. Le sue battute caustiche\, il suo umorismo surreale e intelligente\, il continuo scarto tra musica “alta” e comicità dissacrante trasformano lo spettacolo in un’esperienza viva\, imprevedibile\, mai autoreferenziale. \nCHI È GREG: \nClaudio Greg Gregori è uno dei volti più riconoscibili e trasversali dello spettacolo italiano: comico\, musicista\, attore\, autore. Storico membro del duo Lillo & Greg\, ha attraversato con successo teatro\, radio\, televisione e cinema\, costruendo una carriera fondata su un’intelligenza comica fuori dagli schemi e su una solidissima formazione musicale\, spesso meno conosciuta dal grande pubblico ma centrale nella sua identità artistica. Polistrumentista\, cultore maniacale dei suoni vintage e delle grandi orchestrazioni\, Greg ha sempre fatto convivere comicità e musica con naturalezza\, trasformandole in un linguaggio unico. \n\nSpettacolo ore 20.30 \n\n\n\n\nPrezzi\n\n\nSettore\nPrezzo intero\nPrevendita\nPrezzo 3-12 anni\nPrevendita 3-12 anni\n\n\n\n\nLa prevendita sarà sempre richiesta al momento dell’emissione del biglietto\n\n\n\n\nPoltronissima Gold\n€30\,00\n€4\,50\n€18\,00\n€2\,70\n\n\nPoltronissima Laterale\n€27\,00\n€4\,10\n€16\,20\n€2\,40\n\n\nPoltrona\n€24\,00\n€3\,60\n€14\,40\n€2\,20\n\n\nBalconata\n€20\,00\n€3\,00\n€12\,00\n€1\,80\n\n\nBalconata balaustra vis. ridotta\n€19\,00\n€2\,90\n€11\,40\n€1\,70\n\n\n\n\nACQUISTA ORA
URL:https://www.teatroolimpico.it/evento/claudio-greg-gregori-celebrity-roast/
CATEGORIES:Stagione 2025-2026
ATTACH;FMTTYPE=image/png:https://www.teatroolimpico.it/wp-content/uploads/2025/07/GREG_1920_SCALE.png
END:VEVENT
END:VCALENDAR