BEGIN:VCALENDAR
VERSION:2.0
PRODID:-//Teatro Olimpico - ECPv5.15.0.1//NONSGML v1.0//EN
CALSCALE:GREGORIAN
METHOD:PUBLISH
X-WR-CALNAME:Teatro Olimpico
X-ORIGINAL-URL:https://www.teatroolimpico.it
X-WR-CALDESC:Events for Teatro Olimpico
REFRESH-INTERVAL;VALUE=DURATION:PT1H
X-Robots-Tag:noindex
X-PUBLISHED-TTL:PT1H
BEGIN:VTIMEZONE
TZID:UTC
BEGIN:STANDARD
TZOFFSETFROM:+0000
TZOFFSETTO:+0000
TZNAME:UTC
DTSTART:20260101T000000
END:STANDARD
END:VTIMEZONE
BEGIN:VEVENT
DTSTART;VALUE=DATE:20260302
DTEND;VALUE=DATE:20260303
DTSTAMP:20260422T010206
CREATED:20250923T150406Z
LAST-MODIFIED:20250926T154151Z
UID:9120-1772409600-1772495999@www.teatroolimpico.it
SUMMARY:Eugenio Finardi - Tutto '75 - '25
DESCRIPTION:Per festeggiare cinquant’anni dal suo primo album\, Eugenio Finardi torna con un nuovo tour e un nuovo disco intitolato TUTTO. \nDopo il successo di Euphonia Suite\, con ottanta date in tre anni\, Finardi presenta uno spettacolo in cui propone le canzoni più significative del suo vasto repertorio\, ripercorrendo mezzo secolo di carriera che lo ha consacrato come uno degli artisti più originali della Canzone d’Autore italiana. \nAccanto ai grandi successi\, non mancheranno brani tratti dal nuovo album omonimo\, un lavoro che stupisce per sonorità innovative e per la creatività inesauribile di un artista capace di raccontare il presente con lucidità e profondità. Sul palco\, insieme a lui\, tre talentuosi musicisti con cui crea atmosfere coinvolgenti e mai prevedibili. \nCon il passare degli anni\, la voce di Eugenio è diventata uno strumento duttile e raffinato\, capace di trasmettere emozioni profonde attraverso testi che toccano temi universali. Ciò che continua a distinguere Finardi è la sua spontaneità e la capacità di instaurare un autentico dialogo con il pubblico\, rendendo ogni concerto un’esperienza unica. \nSpettacolo ore 20.30 \n\n\n\n\nPrezzi\n\n\nSettore\nPrezzo intero\nPrevendita\n\n\n\n\nLa prevendita sarà sempre richiesta al momento dell’emissione del biglietto\n\n\n\n\nPoltronissima Gold\n€40\,00\n€6\,00\n\n\nPoltronissima Laterale\n€35\,00\n€5\,30\n\n\nPoltrona\n€30\,00\n€4\,50\n\n\nBalconata\n€25\,00\n€3\,80\n\n\nBalconata balaustra vis. ridotta\n€24\,00\n€3\,60\n\n\nBalconata Laterale\n€24\,00\n€3\,60\n\n\nBalconata Laterale balaustra vis. ridotta\n€22\,00\n€3\,30\n\n\n\n\nACQUISTA ORA
URL:https://www.teatroolimpico.it/evento/eugenio-finardi-tutto-75-25/
CATEGORIES:Stagione 2025-2026
ATTACH;FMTTYPE=image/jpeg:https://www.teatroolimpico.it/wp-content/uploads/2025/09/FINARDI_1920.jpg
END:VEVENT
END:VCALENDAR