BEGIN:VCALENDAR
VERSION:2.0
PRODID:-//Teatro Olimpico - ECPv5.15.0.1//NONSGML v1.0//EN
CALSCALE:GREGORIAN
METHOD:PUBLISH
X-WR-CALNAME:Teatro Olimpico
X-ORIGINAL-URL:https://www.teatroolimpico.it
X-WR-CALDESC:Events for Teatro Olimpico
REFRESH-INTERVAL;VALUE=DURATION:PT1H
X-Robots-Tag:noindex
X-PUBLISHED-TTL:PT1H
BEGIN:VTIMEZONE
TZID:UTC
BEGIN:STANDARD
TZOFFSETFROM:+0000
TZOFFSETTO:+0000
TZNAME:UTC
DTSTART:20260101T000000
END:STANDARD
END:VTIMEZONE
BEGIN:VEVENT
DTSTART;TZID=UTC:20260223T203000
DTEND;TZID=UTC:20260223T223000
DTSTAMP:20260422T010119
CREATED:20250718T081117Z
LAST-MODIFIED:20260118T142542Z
UID:9003-1771878600-1771885800@www.teatroolimpico.it
SUMMARY:Beijing Academy Chinese Classical Dance Company - Celeste Armonia
DESCRIPTION:Un viaggio alla ricerca della perfezione e della bellezza\, un inno alla grazia e all’eroicità di una cultura millenaria tra riti propiziatori della primavera e affascinanti riferimenti alla cosmogonia taoista in cui tutte le cose ritornano all’Uno e alla sua armonia cosmica. Una danza che affonda nelle origini di una Cina autentica e incredibilmente poetica in un incessante bisogno di arrivare alla Luna e alle sue leggende. Un invito a perdersi in questa “Celeste armonia” in cui il gesto si fa racconto e l’Oriente diventa tangibile in tutto il suo splendore. \nCon il patrocinio dell’Ambasciata della Repubblica Popolare Cinese e del Capodanno Cinese 2026 \n👉Clicca qui per guardare il trailer👈 \nSpettacolo ore 20.30 \n\n\n\nPrezzi\n\n\nSettore\nPrezzo intero\nPrevendita\nPrezzo 3-12 anni\nPrevendita 3-12 anni\n\n\n\n\nLa prevendita sarà sempre richiesta al momento dell’emissione del biglietto\n\n\n\n\nPoltronissima Gold\n€49\,00\n€7\,30\n–\n–\n\n\nPoltronissima Laterale\n€42\,00\n€6\,30\n€16\,80\n€2\,50\n\n\nPoltrona\n€38\,00\n€5\,70\n€15\,20\n€2\,20\n\n\nBalconata\n€38\,00\n€5\,70\n€15\,20\n€2\,20\n\n\nBalconata balaustra vis. ridotta\n€33\,00\n€5\,00\n€13\,20\n€2\,00\n\n\nBalconata Laterale\n€33\,00\n€5\,00\n€13\,20\n€2\,00\n\n\nBalconata Laterale balaustra vis. ridotta\n€27\,00\n€4\,00\n€10\,80\n€1\,60\n\n\n\n\nACQUISTA ORA
URL:https://www.teatroolimpico.it/evento/beijing-academy-chinese-classical-dance-company-celeste-armonia/
CATEGORIES:Stagione 2025-2026
ATTACH;FMTTYPE=image/jpeg:https://www.teatroolimpico.it/wp-content/uploads/2025/07/BEIJING_1920_loghi.jpg
END:VEVENT
END:VCALENDAR