BEGIN:VCALENDAR
VERSION:2.0
PRODID:-//Teatro Olimpico - ECPv5.15.0.1//NONSGML v1.0//EN
CALSCALE:GREGORIAN
METHOD:PUBLISH
X-WR-CALNAME:Teatro Olimpico
X-ORIGINAL-URL:https://www.teatroolimpico.it
X-WR-CALDESC:Events for Teatro Olimpico
REFRESH-INTERVAL;VALUE=DURATION:PT1H
X-Robots-Tag:noindex
X-PUBLISHED-TTL:PT1H
BEGIN:VTIMEZONE
TZID:UTC
BEGIN:STANDARD
TZOFFSETFROM:+0000
TZOFFSETTO:+0000
TZNAME:UTC
DTSTART:20250101T000000
END:STANDARD
END:VTIMEZONE
BEGIN:VEVENT
DTSTART;VALUE=DATE:20251211
DTEND;VALUE=DATE:20251215
DTSTAMP:20260422T061430
CREATED:20250508T105413Z
LAST-MODIFIED:20251109T182532Z
UID:8745-1765411200-1765756799@www.teatroolimpico.it
SUMMARY:Lo Schiaccianoci - Balletto di Milano
DESCRIPTION:Il Balletto di Milano firma una sorprendente rivisitazione del celebre capolavoro natalizio\, fondendo la magia della tradizione classica con l’eleganza senza tempo dello stile Art Déco. Costumi scintillanti\, scenografie sontuose e un tocco rétro trasformano ogni scena in un autentico gioiello visivo. \nLo Schiaccianoci del Balletto di Milano è molto più di un balletto: è un viaggio emozionante in un mondo di sogno\, dove l’eleganza rétro incontra la magia natalizia. Un connubio perfetto per incantare occhi\, cuore e anima. \nSpettacolo in collaborazione con Accademia Filarmonica Romana. \n\nSpettacoli giovedì e venerdì ore 20.30\, sabato ore 16.30 e 20.30\, domenica ore 16.00 \n\n\n\nPrezzi\n\n\nSettore\nPrezzo intero\nPrevendita\nPrezzo 3-12 anni\nPrevendita 3-12 anni\n\n\n\n\nLa prevendita sarà sempre richiesta al momento dell’emissione del biglietto\n\n\n\n\nPoltronissima Gold\n€43\,00\n€6\,50\n—\n—\n\n\nPoltronissima Laterale\n€39\,00\n€5\,90\n€27\,30\n€4\,10\n\n\nPoltrona\n€38\,00\n€5\,70\n€26\,60\n€4\,00\n\n\nBalconata\n€38\,00\n€5\,70\n€26\,60\n€4\,00\n\n\nBalconata balaustra vis. ridotta\n€34\,00\n€5\,10\n€23\,80\n€3\,60\n\n\nBalconata Laterale\n€31\,00\n€4\,70\n€21\,70\n€3\,30\n\n\nBalconata Laterale balaustra vis. ridotta\n€25\,00\n€3\,80\n€17\,50\n€2\,60\n\n\n\n  \n\nACQUISTA ORA
URL:https://www.teatroolimpico.it/evento/lo-schiaccianoci/
CATEGORIES:Stagione 2025-2026
ATTACH;FMTTYPE=image/jpeg:https://www.teatroolimpico.it/wp-content/uploads/2025/05/SCHIACCIA2526_1920.jpg
END:VEVENT
END:VCALENDAR