BEGIN:VCALENDAR
VERSION:2.0
PRODID:-//Teatro Olimpico - ECPv5.15.0.1//NONSGML v1.0//EN
CALSCALE:GREGORIAN
METHOD:PUBLISH
X-WR-CALNAME:Teatro Olimpico
X-ORIGINAL-URL:https://www.teatroolimpico.it
X-WR-CALDESC:Events for Teatro Olimpico
REFRESH-INTERVAL;VALUE=DURATION:PT1H
X-Robots-Tag:noindex
X-PUBLISHED-TTL:PT1H
BEGIN:VTIMEZONE
TZID:UTC
BEGIN:STANDARD
TZOFFSETFROM:+0000
TZOFFSETTO:+0000
TZNAME:UTC
DTSTART:20250101T000000
END:STANDARD
END:VTIMEZONE
BEGIN:VEVENT
DTSTART;VALUE=DATE:20251201
DTEND;VALUE=DATE:20251204
DTSTAMP:20260422T075855
CREATED:20250225T204150Z
LAST-MODIFIED:20250226T202412Z
UID:8650-1764547200-1764806399@www.teatroolimpico.it
SUMMARY:Canto Libero - Omaggio alle canzoni di Battisti e Mogol "Il tour del decennale"
DESCRIPTION:Uno spettacolo acclamato da ormai 10 anni nei teatri italiani. Un tuffo nelle canzoni più belle del mitico duo che ha cambiato la storia della musica italiana\, interpretate  magicamente da una band di 10 musicisti straordinari in uno spettacolo curato nei minimi particolari. \nCanto Libero: non un semplice concerto ma un grande spettacolo che omaggia il periodo d’oro della storica accoppiata Mogol – Battisti. Sul palco\, un ensemble di musicisti affiatati\, che portano avanti questo comune progetto con grande determinazione. \nLa band propone uno spettacolo che omaggia sì Battisti e Mogol\, ma che va ben oltre alla semplice esecuzione di cover dei brani dei classici del repertorio dei due: Canto Libero\, infatti\, rilegge gli originali mantenendo una certa aderenza ma cercando di non risultare semplice copia\, mettendoci la propria personalità e sensibilità musicale e facendo emergere anche tutta l’anima blues e rock che Battisti aveva. \nSpettacoli ore 20.30 \n\n\n\n\nPrezzi\n\n\nSettore\nPrezzo intero\nPrevendita\n\n\n\n\nLa prevendita sarà sempre richiesta al momento dell’emissione del biglietto\n\n\n\n\nPoltronissima Gold\n€38\,00\n€5\,70\n\n\nPoltronissima Laterale\n€34\,00\n€5\,10\n\n\nPoltrona\n€30\,00\n€4\,50\n\n\nBalconata\n€30\,00\n€4\,50\n\n\nBalconata balaustra vis. ridotta\n€28\,00\n€4\,20\n\n\nBalconata Laterale\n€24\,00\n€3\,60\n\n\nBalconata Laterale balaustra vis. ridotta\n€22\,00\n€3\,30\n\n\n\n  \n\nACQUISTA ORA
URL:https://www.teatroolimpico.it/evento/canto-libero-omaggio-alle-canzoni-di-battisti-e-mogol-il-tour-del-decennale/
CATEGORIES:Stagione 2025-2026
ATTACH;FMTTYPE=image/jpeg:https://www.teatroolimpico.it/wp-content/uploads/2025/02/CANTO-LIBERO2025_1920.jpg
END:VEVENT
END:VCALENDAR