BEGIN:VCALENDAR
VERSION:2.0
PRODID:-//Teatro Olimpico - ECPv5.15.0.1//NONSGML v1.0//EN
CALSCALE:GREGORIAN
METHOD:PUBLISH
X-WR-CALNAME:Teatro Olimpico
X-ORIGINAL-URL:https://www.teatroolimpico.it
X-WR-CALDESC:Events for Teatro Olimpico
REFRESH-INTERVAL;VALUE=DURATION:PT1H
X-Robots-Tag:noindex
X-PUBLISHED-TTL:PT1H
BEGIN:VTIMEZONE
TZID:UTC
BEGIN:STANDARD
TZOFFSETFROM:+0000
TZOFFSETTO:+0000
TZNAME:UTC
DTSTART:20250101T000000
END:STANDARD
END:VTIMEZONE
BEGIN:VEVENT
DTSTART;TZID=UTC:20251118T203000
DTEND;TZID=UTC:20251118T223000
DTSTAMP:20260422T094100
CREATED:20250627T082122Z
LAST-MODIFIED:20251010T155316Z
UID:8879-1763497800-1763505000@www.teatroolimpico.it
SUMMARY:Mario Calabresi - Anni '70. Terrore e Diritti
DESCRIPTION:NUOVA DATA – 18 NOVEMBRE \nGli Anni Settanta sono stati anni di sangue\, di bombe e di morti\, ma sono stati anche anni di conquiste civili e di diritti. il decennio più lungo del Novecento è quello in cui sono avvenuti i cambiamenti più dirompenti nel nostro Paese. L’Italia si è trasformata sotto la minaccia costante degli attentati; ha cambiato pelle dentro il terrore dei sequestri; ha trovato nuove consapevolezze mentre intorno cadevano le certezze. \nCon la colonna sonora delle canzoni che hanno accompagnato i momenti più significativi\, questo spettacolo racconta le ombre e le luci degli Anni Settanta attraverso le storie\, le voci e le immagini di chi li ha vissuti. \n“Anni Settanta\, Terrore e Diritti”\, è un progetto teatrale scritto da Mario Calabresi\, Benedetta Tobagi e Sara Poma\, con un racconto inedito e personale di Marco Damilano e con la regia di Bruno Fornasari. I protagonisti si alterneranno sul palco per raccontare un periodo decisivo della storia del nostro Paese e per dare voce a una riflessione profonda e potente su un decennio segnato da drammatici attentati e fondamentali conquiste sociali e civili. \nGli anni ’70 sono stati un decennio di contrasti estremi: da un lato\, il terrore delle stragi politiche e dei gruppi armati\, dall’altro le battaglie per i diritti civili e le riforme che hanno cambiato la società italiana. “Anni Settanta. Terrore e Diritti” esplora queste contraddizioni\, raccontando un periodo che ha definito la nostra storia recente. Attraverso la narrazione\, le immagini e la musica\, il pubblico sarà immerso nelle storie di chi ha realmente vissuto quegli eventi. \n“Da molto tempo\, penso che bisognerebbe raccontare bene gli Anni Settanta\, farlo in un modo un po’ diverso\, attraverso le storie\, attraverso il racconto dei cambiamenti sociali. – racconta Mario Calabresi – Così ho pensato che il teatro potesse essere un modo giusto per raggiungere chi è più giovane\, ma anche chi ha voglia di capire più a fondo che cosa è successo nel decennio più tragico ma anche più fecondo della nostra storia repubblicana. Gli Anni Settanta sono stati anni di sangue\, di bombe e di morti\, ma sono stati anche anni di conquiste civili e di diritti”. \nSpettacolo ore 20.30 \n\n\n\nPrezzi\n\n\nSettore\nPrezzo intero\nPrevendita\n\n\n\n\nLa prevendita sarà sempre richiesta al momento dell’emissione del biglietto\n\n\n\n\nPoltronissima Gold\n€32\,50\n€6\,50\n\n\nPoltronissima Laterale\n€32\,50\n€6\,50\n\n\nPoltrona\n€28\,50\n€5\,50\n\n\nBalconata\n€28\,50\n€5\,50\n\n\nBalconata balaustra vis. ridotta\n€28\,50\n€5\,50\n\n\nBalconata Laterale\n€24\,20\n€4\,80\n\n\nBalconata Laterale balaustra vis. ridotta\n€24\,20\n€4\,80\n\n\n\n\nACQUISTA ORA
URL:https://www.teatroolimpico.it/evento/mario-calabresi-anni-70-terrore-e-diritti/
CATEGORIES:Stagione 2025-2026
ATTACH;FMTTYPE=image/jpeg:https://www.teatroolimpico.it/wp-content/uploads/2025/06/CALABRESI_1920_18NOV.jpg
END:VEVENT
END:VCALENDAR