BEGIN:VCALENDAR
VERSION:2.0
PRODID:-//Teatro Olimpico - ECPv5.15.0.1//NONSGML v1.0//EN
CALSCALE:GREGORIAN
METHOD:PUBLISH
X-WR-CALNAME:Teatro Olimpico
X-ORIGINAL-URL:https://www.teatroolimpico.it
X-WR-CALDESC:Events for Teatro Olimpico
REFRESH-INTERVAL;VALUE=DURATION:PT1H
X-Robots-Tag:noindex
X-PUBLISHED-TTL:PT1H
BEGIN:VTIMEZONE
TZID:UTC
BEGIN:STANDARD
TZOFFSETFROM:+0000
TZOFFSETTO:+0000
TZNAME:UTC
DTSTART:20250101T000000
END:STANDARD
END:VTIMEZONE
BEGIN:VEVENT
DTSTART;TZID=UTC:20251117T203000
DTEND;TZID=UTC:20251117T223000
DTSTAMP:20260422T094024
CREATED:20250714T133837Z
LAST-MODIFIED:20250902T105444Z
UID:8979-1763411400-1763418600@www.teatroolimpico.it
SUMMARY:In Viaggio con gli Inti Illimani
DESCRIPTION:C’è un treno immaginario che attraversa il mondo intero collegando l’Italia con il Cile. Il treno dei desideri passa per Firenze\, Roma\, Bucarest e Berlino e in ognuna delle fermate sale qualcuno. Su questo treno magico il cantautore fiorentino Giulio Wilson e lo scrittore Federico Bonadonna incontrano Jorge e Marcelo Coulon fondatori del complesso cileno degli Inti Illimani. Attraverso un caleidoscopio di canzoni e ricordi\, i quattro raccontano in musica e (poche) parole\, i sessant’anni di attività del gruppo: dal primo disco del 1967 fino ad Agua inciso con il cantautore fiorentino\, passando da Violeta Parra a Victor Jara\, dal golpe del 1973 all’esilio fino al ritorno in patria. In questo spettacolo teatrale\, il treno delle emozioni ci porta sulle ali del condor ad attraversare le Ande dove risuonano gli antichi strumenti precolombiani come i flauti di pan\, il rondador\, il charango\, per poi immergerci nelle canzoni diventate veri e propri inni generazionali: da Gracias a la vida a Vale la pena\, da El Aparecido a El Pueblo Unido Jamas serà vencido.  \nIn questo spettacolo teatrale della durata di 90 minuti si dipana la leggenda del gruppo musicale che ha fatto la storia mondiale della cultura.   \nSpettacolo ore 20.30 \n\n\n\n\nPrezzi\n\n\nSettore\nPrezzo intero\nPrevendita\n\n\n\n\nLa prevendita sarà sempre richiesta al momento dell’emissione del biglietto\n\n\n\n\nPoltronissima Gold\n€39\,00\n€6\,00\n\n\nPoltronissima Laterale\n€35\,00\n€5\,00\n\n\nPoltrona\n€29\,10\n€4\,40\n\n\n\n\nACQUISTA ORA
URL:https://www.teatroolimpico.it/evento/in-viaggio-con-gli-inti-illimani/
CATEGORIES:Stagione 2025-2026
ATTACH;FMTTYPE=image/jpeg:https://www.teatroolimpico.it/wp-content/uploads/2025/07/INTI_1920.jpg
END:VEVENT
END:VCALENDAR