BEGIN:VCALENDAR
VERSION:2.0
PRODID:-//Teatro Olimpico - ECPv5.15.0.1//NONSGML v1.0//EN
CALSCALE:GREGORIAN
METHOD:PUBLISH
X-WR-CALNAME:Teatro Olimpico
X-ORIGINAL-URL:https://www.teatroolimpico.it
X-WR-CALDESC:Events for Teatro Olimpico
REFRESH-INTERVAL;VALUE=DURATION:PT1H
X-Robots-Tag:noindex
X-PUBLISHED-TTL:PT1H
BEGIN:VTIMEZONE
TZID:UTC
BEGIN:STANDARD
TZOFFSETFROM:+0000
TZOFFSETTO:+0000
TZNAME:UTC
DTSTART:20250101T000000
END:STANDARD
END:VTIMEZONE
BEGIN:VEVENT
DTSTART;VALUE=DATE:20251113
DTEND;VALUE=DATE:20251117
DTSTAMP:20260422T094136
CREATED:20250625T160731Z
LAST-MODIFIED:20250714T103104Z
UID:8862-1762992000-1763337599@www.teatroolimpico.it
SUMMARY:Il Lago dei Cigni - Roma City Ballet Company
DESCRIPTION:Considerato l’icona dei balletti classici\, IL LAGO DEI CIGNI\, è il titolo di balletto più rappresentato al mondo. Una storia d’amore\, tradimento e trionfo del bene sul male\, su una delle partiture musicali più belle mai scritte. La coreografia richiede\, nella sua esecuzione\, grande tecnica e abilità dei ballerini. La rappresentazione dei personaggi\, in particolare nel confronto tra la purezza del Cigno Bianco e l’oscurità del Cigno Nero sono diventati i grand pas de deux più conosciuti della storia del balletto. \nQuesta versione firmata da Luciano Cannito\, basata sulla versione originale di Petipa e prodotta da Fabrizio di Fiore Entertainment per Roma City Ballet Company\, è una versione dove per la prima volta nella storia del balletto classico l’Intelligenza Artificiale sarà utilizzata per ricreare il mondo immaginifico del Principe Sigfrid e della sua amata Odette… Scopriremo dunque in che modo l’IA ha elaborato le informazioni universamente condivise\, per riprodurre il castello\, il bosco ed il lago più famosi della danza classica di tutti i tempi… \nQuesta edizione si avvarrà della partecipazione di artisti ospiti internazionali dello Staatsballett Berlin. \nI costumi sono firmati da Silvia Califano\, la scenografia virtuale creata da  Maurizio Gaibisso\, le luci sono disegnate da  Valerio Tiberi\, la consulenza del set tecnologico è di Italo Grassi. \nSpettacolo in collaborazione con Accademia Filarmonica Romana. \n\n\n\n        \n\n                            \n                                \n                                        Produzione                    \n                                                \n                                        Fabrizio Di Fiore Entertainment                    \n                                        \n                            \n                                \n                                        Regia                    \n                                                \n                                        Luciano Cannito                    \n                                        \n                            \n                                \n                                        Coreografia                    \n                                                \n                                        Marius Petipa                    \n                                        \n                            \n                                \n                                        Artisti                    \n                                                \n                                        Roma City Ballet Company                    \n                                        \n                            \n                                \n                                        Costumi                    \n                                                \n                                        Silvia Califano                    \n                                        \n                            \n                                \n                                        Scene Virtuali                    \n                                                \n                                        Maurizio Gaibisso                    \n                                        \n                            \n                                \n                                        Musiche                    \n                                                \n                                        Pëtr Il'ič Čajkovskij                    \n                                        \n                            \n                                \n                                        Luci                    \n                                                \n                                        Valerio Tiberi                    \n                                        \n                            \n                                \n                                        Consulenza sul set tecnologico                    \n                                                \n                                        Italo Grassi                    \n                                        \n                            \n                                \n                                        Durata                    \n                                                \n                                        90 minuti (con intervallo)                    \n                                        \n                    \n\n\nSpettacoli giovedì e venerdì ore 20.30\, sabato ore 16.30 e 20.30\, domenica ore 17.30 \n\n\n\n\nPrezzi\n\n\nSettore\nPrezzo intero\nPrevendita\nPrezzo 3-12 anni\nPrevendita 3-12 anni\n\n\n\n\nLa prevendita sarà sempre richiesta al momento dell’emissione del biglietto\nBiglietti con riduzione 3-12 anni acquistabili presso il botteghino\n\n\n\n\nPoltronissima Gold\n€50\,00\n€7\,50\n–\n–\n\n\nPoltronissima Laterale\n€45\,00\n€6\,80\n€31\,50\n€4\,70\n\n\nPoltrona\n€37\,00\n€5\,60\n€25\,90\n€3\,90\n\n\nBalconata\n€37\,00\n€5\,60\n€25\,90\n€3\,90\n\n\nBalconata balaustra vis. ridotta\n€32\,00\n€4\,80\n€22\,40\n€3\,40\n\n\nBalconata Laterale\n€30\,00\n€4\,50\n€21\,00\n€3\,20\n\n\nBalconata Laterale balaustra vis. ridotta\n€29\,00\n€4\,40\n€20\,30\n€3\,00\n\n\n\n\nACQUISTA ORA
URL:https://www.teatroolimpico.it/evento/il-lago-dei-cigni-roma-city-ballet-company/
CATEGORIES:Stagione 2025-2026
ATTACH;FMTTYPE=image/jpeg:https://www.teatroolimpico.it/wp-content/uploads/2025/06/LAGO_1920-1.jpg
END:VEVENT
END:VCALENDAR