BEGIN:VCALENDAR
VERSION:2.0
PRODID:-//Teatro Olimpico - ECPv5.15.0.1//NONSGML v1.0//EN
CALSCALE:GREGORIAN
METHOD:PUBLISH
X-WR-CALNAME:Teatro Olimpico
X-ORIGINAL-URL:https://www.teatroolimpico.it
X-WR-CALDESC:Events for Teatro Olimpico
REFRESH-INTERVAL;VALUE=DURATION:PT1H
X-Robots-Tag:noindex
X-PUBLISHED-TTL:PT1H
BEGIN:VTIMEZONE
TZID:UTC
BEGIN:STANDARD
TZOFFSETFROM:+0000
TZOFFSETTO:+0000
TZNAME:UTC
DTSTART:20250101T000000
END:STANDARD
END:VTIMEZONE
BEGIN:VEVENT
DTSTART;VALUE=DATE:20251103
DTEND;VALUE=DATE:20251106
DTSTAMP:20260422T094140
CREATED:20250218T163938Z
LAST-MODIFIED:20251017T151140Z
UID:8640-1762128000-1762387199@www.teatroolimpico.it
SUMMARY:Legend The Show
DESCRIPTION:Il primo grande omaggio orchestrale a Michael Jackson con la voce straordinaria di Wendel Gama. \nDopo il sold out in Italia e in Europa\, torna finalmente in scena LEGEND – THE SHOW con un nuovo tour che si preannuncia ancora più spettacolare\, ricco di sorprese e novità: nuove coreografie\, nuovi arrangiamenti orchestrali\, effetti speciali inediti e momenti pensati per emozionare come mai prima. \nRivivi le più grandi hit di Michael Jackson\, da Billie Jean a Thriller\, da Smooth Criminal a Man in the Mirror\, passando per Beat It\, Black or White\, The Way You Make Me Feel e tante altre. Un’esperienza unica dove la musica immortale del Re del Pop incontra la potenza di un’orchestra dal vivo e l’energia travolgente di Wendel Gama\, per uno spettacolo che ti farà ballare\, sognare e rivivere la leggenda. \n﻿  \n\n\n\n        \n\n                            \n                                \n                                        Produzione                    \n                                                \n                                        Produzioni MIZA                    \n                                        \n                            \n                                \n                                        Autore e Artisti                    \n                                                \n                                        Fabrizio Amilcare\, Wendel Gama                    \n                                        \n                            \n                                \n                                        Regia                    \n                                                \n                                        Fabrizio Amilcare                    \n                                        \n                            \n                                \n                                        Costumi                    \n                                                \n                                        Fabrizio Amilcare\, Sara Carrera                    \n                                        \n                            \n                                \n                                        Scene                    \n                                                \n                                        Fabrizio Amilcare\, Sara Carrera                    \n                                        \n                            \n                                \n                                        Musiche                    \n                                                \n                                        Fabrizio Amilcare\, Fabrizio Russo\, Francesco Ricci                    \n                                        \n                            \n                                \n                                        Luci                    \n                                                \n                                        Fabrizio Amilcare\, Fabrizio Russo                    \n                                        \n                            \n                                \n                                        Coreografie                    \n                                                \n                                        Sara Carrera                    \n                                        \n                            \n                                \n                                        Orchestrazioni                    \n                                                \n                                        Francesco Ricci                    \n                                        \n                            \n                                \n                                        Durata                    \n                                                \n                                        120 minuti (con intervallo)                    \n                                        \n                    \n\n\nSpettacoli ore 20.30 \n\n\n\nPrezzi\n\n\nSettore\nPrezzo intero\nPrevendita\nPrezzo 3-12 anni\nPrevendita 3-12 anni\n\n\n\n\nLa prevendita sarà sempre richiesta al momento dell’emissione del biglietto\n\n\n\n\nPoltronissima Gold\n€45\,00\n€6\,70\n–\n–\n\n\nPoltronissima Laterale\n€39\,00\n€5\,80\n€27\,30\n€4\,10\n\n\nPoltrona\n€35\,00\n€5\,20\n€24\,50\n€3\,70\n\n\nBalconata\n€35\,00\n€5\,20\n€24\,50\n€3\,70\n\n\nBalconata balaustra vis. ridotta\n€32\,00\n€4\,80\n€22\,40\n€3\,30\n\n\nBalconata Laterale\n€30\,00\n€4\,50\n€21\,00\n€3\,10\n\n\nBalconata Laterale balaustra vis. ridotta\n€27\,00\n€4\,00\n€18\,90\n€2\,80\n\n\n\n  \n\nACQUISTA ORA
URL:https://www.teatroolimpico.it/evento/michael-the-show-2/
CATEGORIES:Stagione 2025-2026
ATTACH;FMTTYPE=image/jpeg:https://www.teatroolimpico.it/wp-content/uploads/2025/02/LEGEND_1920.jpg
END:VEVENT
END:VCALENDAR