BEGIN:VCALENDAR
VERSION:2.0
PRODID:-//Teatro Olimpico - ECPv5.15.0.1//NONSGML v1.0//EN
CALSCALE:GREGORIAN
METHOD:PUBLISH
X-WR-CALNAME:Teatro Olimpico
X-ORIGINAL-URL:https://www.teatroolimpico.it
X-WR-CALDESC:Events for Teatro Olimpico
REFRESH-INTERVAL;VALUE=DURATION:PT1H
X-Robots-Tag:noindex
X-PUBLISHED-TTL:PT1H
BEGIN:VTIMEZONE
TZID:UTC
BEGIN:STANDARD
TZOFFSETFROM:+0000
TZOFFSETTO:+0000
TZNAME:UTC
DTSTART:20250101T000000
END:STANDARD
END:VTIMEZONE
BEGIN:VEVENT
DTSTART;VALUE=DATE:20251015
DTEND;VALUE=DATE:20251027
DTSTAMP:20260422T113220
CREATED:20241002T153848Z
LAST-MODIFIED:20250919T133032Z
UID:8394-1760486400-1761523199@www.teatroolimpico.it
SUMMARY:Rome Film Fest 20ᵃ Edizione
DESCRIPTION:Il Teatro Olimpico è felice di annunciare che sarà Partner Culturale e luogo della ventesima edizione della Festa del Cinema di Roma che si terrà dal 15 al 26 ottobre 2025. \nLa manifestazione è riconosciuta ufficialmente dalla FIAPF (Fédération Internationale des Associations de Producteurs de Films) e si svolgerà presso l’Auditorium Parco della Musica che ospiterà le principali sale di proiezione e il lungo red carpet\, uno dei più grandi al mondo. Il programma coinvolgerà inoltre altri luoghi e realtà culturali della Capitale.\nDal 2022\, la Festa del Cinema ha introdotto nel suo regolamento un concorso internazionale: i film saranno giudicati da una giuria composta da professionisti del mondo del cinema\, della cultura e delle arti. Il programma ospiterà anche sezioni non competitive\, gli Incontri con il pubblico\, eventi\, proiezioni speciali e omaggi.\nLa natura della Festa del Cinema è nella sintesi tra una programmazione di qualità e una fruizione popolare: il pubblico\, al quale sono rivolti la stragrande maggioranza degli eventi in programma\, gioca la parte del protagonista. Particolare attenzione è dedicata alla politica dei prezzi che prevede anche la presenza di numerosi eventi a ingresso gratuito. \nInfo e biglietti: www.romacinemafest.it \n\n\nSCOPRI DI PIÙ
URL:https://www.teatroolimpico.it/evento/rome-film-fest-20%e1%b5%83-edizione/
CATEGORIES:Stagione 2025-2026
ATTACH;FMTTYPE=image/jpeg:https://www.teatroolimpico.it/wp-content/uploads/2024/10/RFF-25_1920x1080.jpg
END:VEVENT
END:VCALENDAR