BEGIN:VCALENDAR
VERSION:2.0
PRODID:-//Teatro Olimpico - ECPv5.15.0.1//NONSGML v1.0//EN
CALSCALE:GREGORIAN
METHOD:PUBLISH
X-WR-CALNAME:Teatro Olimpico
X-ORIGINAL-URL:https://www.teatroolimpico.it
X-WR-CALDESC:Events for Teatro Olimpico
REFRESH-INTERVAL;VALUE=DURATION:PT1H
X-Robots-Tag:noindex
X-PUBLISHED-TTL:PT1H
BEGIN:VTIMEZONE
TZID:UTC
BEGIN:STANDARD
TZOFFSETFROM:+0000
TZOFFSETTO:+0000
TZNAME:UTC
DTSTART:20250101T000000
END:STANDARD
END:VTIMEZONE
BEGIN:VEVENT
DTSTART;VALUE=DATE:20250927
DTEND;VALUE=DATE:20251006
DTSTAMP:20260422T133102
CREATED:20250522T102434Z
LAST-MODIFIED:20250925T143420Z
UID:8778-1758931200-1759708799@www.teatroolimpico.it
SUMMARY:La nascita di Roma
DESCRIPTION:Lo spettacolo racconta le mitiche origini dell’Urbe\, attraverso tre episodi che hanno come protagonisti tre diverse coppie fratelli.\nNel primo Numitore e Amulio\, figli del Re Proca\, il quale\, in punto di morte\, lascia loro l’incombenza di decidere dell’eredità con questa unica raccomandazione: Amulio dovrà dividere\, Numitore dovrà scegliere…\nSiamo all’alba della storia di Roma\, e infatti Alba è anche i luogo dove questa storia ha inizio\, in un periodo in cui Roma ancora non c’era. \nAdatto per bambini dai 6 anni in su \nUna produzione originale Politeama srl\nRegia e adattamento di Gigi Palla \nCon\nGabriel Durastanti\nAdriano Exacoustos\nValentina Marziali\nGigi Palla\nGabriela Praticò \nMusiche e canzoni originali Alessandro Cercato\nCostumi Susanna Proietti \n\nAVVISO IMPORTANTE: A causa di importanti interventi di manutenzione in zona Flaminio\, Acea Ato 2 ha comunicato che dalle ore 4 del 28/09 fino alle ore 3.30 del 29/09 è prevista la sospensione del flusso idrico che potrebbe comportare mancanza di acqua e/o abbassamenti di pressione. Pertanto i servizi igienici potrebbero non essere disponibili per la replica del 28/09.  \n\nSpettacoli 27 e 28 settembre\, 4 e 5 ottobre ore 16.30 \n\n\n\n\nPrezzi\n\n\nSettore\nPrezzo intero\nPrevendita\n\n\n\n\nLa prevendita sarà sempre richiesta al momento dell’emissione del biglietto\n\n\n\n\nPoltronissima Gold\n€13\,00\n€2\,00\n\n\nPoltronissima Laterale\n€10\,40\n€1\,60\n\n\nPoltrona\n€8\,70\n€1\,30\n\n\n\n  \n\nACQUISTA ORA
URL:https://www.teatroolimpico.it/evento/la-nascita-di-roma/
CATEGORIES:Stagione 2025-2026
ATTACH;FMTTYPE=image/png:https://www.teatroolimpico.it/wp-content/uploads/2025/05/la-nascita-di-roma-1920x1080_SCALE.png
END:VEVENT
END:VCALENDAR