BEGIN:VCALENDAR
VERSION:2.0
PRODID:-//Teatro Olimpico - ECPv5.15.0.1//NONSGML v1.0//EN
CALSCALE:GREGORIAN
METHOD:PUBLISH
X-WR-CALNAME:Teatro Olimpico
X-ORIGINAL-URL:https://www.teatroolimpico.it
X-WR-CALDESC:Events for Teatro Olimpico
REFRESH-INTERVAL;VALUE=DURATION:PT1H
X-Robots-Tag:noindex
X-PUBLISHED-TTL:PT1H
BEGIN:VTIMEZONE
TZID:UTC
BEGIN:STANDARD
TZOFFSETFROM:+0000
TZOFFSETTO:+0000
TZNAME:UTC
DTSTART:20250101T000000
END:STANDARD
END:VTIMEZONE
BEGIN:VEVENT
DTSTART;TZID=UTC:20250925T210000
DTEND;TZID=UTC:20250925T223000
DTSTAMP:20260422T133053
CREATED:20250406T131110Z
LAST-MODIFIED:20250407T142857Z
UID:8699-1758834000-1758839400@www.teatroolimpico.it
SUMMARY:Gianluca Gotto - Le tre vie del Benessere
DESCRIPTION:Gianluca Gotto torna a teatro con un talk sulla “scienza della vita”: l’Ayurveda.\nDopo il successo della precedente tournée\, Gianluca Gotto torna sul palco con un nuovo talk dedicato all’Ayurveda\, l’antichissimo sistema di conoscenze che insegna a prevenire e curare i malesseri del corpo\, della mente e dello spirito. In un’epoca segnata dalla frenesia e dallo stress\, questa millenaria saggezza indiana offre strumenti pratici per ritrovare equilibrio e benessere\, a partire da un principio fondamentale: conoscere sé stessi e vivere in armonia con la propria natura.\nPiù di un semplice evento\, sarà un’occasione di ispirazione\, condivisione e crescita personale.\nOltre al talk della durata di un’ora e mezza\, ogni tappa includerà un momento di domande e dialogo aperto con il pubblico. \nSpettacolo ore 21 \n\n\n\n\nPrezzi\n\n\nSettore\nPrezzo intero\nPrevendita\n\n\n\n\nLa prevendita sarà sempre richiesta al momento dell’emissione del biglietto\n\n\n\n\nPoltronissima Gold\n€40\,00\n€6\,00\n\n\nPoltronissima Laterale\n€37\,00\n€5\,50\n\n\nPoltrona\n€32\,00\n€4\,80\n\n\nBalconata\n€30\,00\n€4\,50\n\n\nBalconata balaustra vis. ridotta\n€29\,00\n€4\,30\n\n\nBalconata Laterale\n€26\,00\n€3\,90\n\n\nBalconata Laterale balaustra vis. ridotta\n€24\,40\n€3\,60\n\n\n\n  \n\nACQUISTA ORA
URL:https://www.teatroolimpico.it/evento/gianluca-gotto-le-tre-vie-del-benessere/
CATEGORIES:Stagione 2025-2026
ATTACH;FMTTYPE=image/jpeg:https://www.teatroolimpico.it/wp-content/uploads/2025/04/social_GOTTO_1200x600.jpg
END:VEVENT
END:VCALENDAR