BEGIN:VCALENDAR
VERSION:2.0
PRODID:-//Teatro Olimpico - ECPv5.15.0.1//NONSGML v1.0//EN
CALSCALE:GREGORIAN
METHOD:PUBLISH
X-WR-CALNAME:Teatro Olimpico
X-ORIGINAL-URL:https://www.teatroolimpico.it
X-WR-CALDESC:Events for Teatro Olimpico
REFRESH-INTERVAL;VALUE=DURATION:PT1H
X-Robots-Tag:noindex
X-PUBLISHED-TTL:PT1H
BEGIN:VTIMEZONE
TZID:UTC
BEGIN:STANDARD
TZOFFSETFROM:+0000
TZOFFSETTO:+0000
TZNAME:UTC
DTSTART:20250101T000000
END:STANDARD
END:VTIMEZONE
BEGIN:VEVENT
DTSTART;TZID=UTC:20250914T180000
DTEND;TZID=UTC:20250914T200000
DTSTAMP:20260422T133049
CREATED:20241220T172141Z
LAST-MODIFIED:20250723T130056Z
UID:8582-1757872800-1757880000@www.teatroolimpico.it
SUMMARY:Daniel Lumera - L'arte della meditazione - Un sentiero verso la salute\, il benessere e la realizzazione
DESCRIPTION:“Il 14 settembre a Roma faremo un passo oltre La Meraviglia dell’Essere\, integrando la saggezza della meditazione con le più recenti scoperte neuroscientifiche e il sapere delle antiche tradizioni. Un’esperienza immersiva per risvegliare presenza\, chiarezza e una qualità di benessere più profonda e consapevole. Per questo\, il titolo dell’evento diventa L’Arte della Meditazione.” [Daniel Lumera] \nL’arte millenaria della meditazione attraverso un talk esperienziale con uno dei massimi esperti internazionali. Cos’è e cosa non è meditare? In che modo questi stati contemplativi rallentano i processi di invecchiamento\, riducono l’infiammazione nel corpo\, incidono profondamente sulla salute mentale e sulle abilità cognitive? Come possono essere sperimentati facilmente e inseriti nella propria quotidianità? Queste sono alcune delle domande che verranno esplorate in questo talk trasformativo con Daniel Lumera. \nEsploreremo come la meditazione agisce sul corpo e sulla mente: riducendo lo stress\, aiutando a controllare l’ansia e a combattere la depressione\, rallentando  l’invecchiamento biologico\, abbassando l’infiammazione sistemica e potenziando la memoria\, la lucidità\, la creatività e la concentrazione. \nMa non ci fermeremo alla superficie. \nGrazie a questo evento ispirativo sarà inoltre possibile vivere un’esperienza collettiva di meditazione\, respirazione e consapevolezza guidata da Daniel Lumera: autore di bestseller\, docente e riferimento internazionale nel campo del benessere intrapersonale\, interpersonale e collettivo\, e nella pratica della meditazione. \nSpettacolo ore 18 \n\n\n\nPrezzi\n\n\nSettore\nPrezzo intero\nPrevendita\n\n\n\n\nCommissione online €2\,00\n\n\nLa prevendita sarà sempre richiesta al momento dell’emissione del biglietto\n\n\n\n\nPoltronissima Centrale\n€30\,50\n€4\,50\n\n\nPoltronissima Laterale\n€29\,00\n€4\,00\n\n\nPoltrona\n€27\,00\n€4\,00\n\n\nBalconata\n€27\,00\n€4\,00\n\n\nBalconata Laterale\n€25\,00\n€3\,50\n\n\n\n  \n\nACQUISTA ORA
URL:https://www.teatroolimpico.it/evento/daniel-lumera-la-meraviglia-dellessere/
CATEGORIES:Stagione 2025-2026
ATTACH;FMTTYPE=image/jpeg:https://www.teatroolimpico.it/wp-content/uploads/2024/12/LUMERA2_1920.jpg
END:VEVENT
END:VCALENDAR