BEGIN:VCALENDAR
VERSION:2.0
PRODID:-//Teatro Olimpico - ECPv5.15.0.1//NONSGML v1.0//EN
CALSCALE:GREGORIAN
METHOD:PUBLISH
X-WR-CALNAME:Teatro Olimpico
X-ORIGINAL-URL:https://www.teatroolimpico.it
X-WR-CALDESC:Events for Teatro Olimpico
REFRESH-INTERVAL;VALUE=DURATION:PT1H
X-Robots-Tag:noindex
X-PUBLISHED-TTL:PT1H
BEGIN:VTIMEZONE
TZID:UTC
BEGIN:STANDARD
TZOFFSETFROM:+0000
TZOFFSETTO:+0000
TZNAME:UTC
DTSTART:20250101T000000
END:STANDARD
END:VTIMEZONE
BEGIN:VEVENT
DTSTART;TZID=UTC:20250520T093000
DTEND;TZID=UTC:20250520T133000
DTSTAMP:20260422T205542
CREATED:20250311T160857Z
LAST-MODIFIED:20250311T160918Z
UID:8663-1747733400-1747747800@www.teatroolimpico.it
SUMMARY:Opera Domani - Falstaff. Gli allegri giocattoli di Windsor
DESCRIPTION:OPERA RISERVATA ALLE SCUOLE | ASLICO – OPERA DOMANI XXIX EDIZIONE \nda Falstaff.\nMusica di Giuseppe Verdi\nAdattamento drammaturgico Andrea Piazza\ncon Cantanti vincitori e finalisti delle ultime edizioni del Concorso AsLiCo \nDirettore Massimo Fiocchi Malaspina\nRegia Andrea Piazza\nScene Alice Vanini\nCostumi Rosario Martone\nOrchestra 1813\nNuovo allestimento Produzione AsLiCo\nin coproduzione con Opéra Grand Avignon\nOpera domani – XXIX edizione \nDurata spettacolo: 70 minuti \nSpettacolo organizzato da Accademia Filarmonica Romana \nSpettacoli ore 9.15 e 11.15 \nBiglietto 10 Euro : Per i familiari dei ragazzi delle scuole che partecipano al progetto fino ad esaurimento posti disponibili \n\nACQUISTA ORA
URL:https://www.teatroolimpico.it/evento/opera-domani-falstaff-gli-allegri-giocattoli-di-windsor/
CATEGORIES:Stagione 2024-2025
ATTACH;FMTTYPE=image/png:https://www.teatroolimpico.it/wp-content/uploads/2025/03/FALSTAFF.png
END:VEVENT
END:VCALENDAR