BEGIN:VCALENDAR
VERSION:2.0
PRODID:-//Teatro Olimpico - ECPv5.15.0.1//NONSGML v1.0//EN
CALSCALE:GREGORIAN
METHOD:PUBLISH
X-WR-CALNAME:Teatro Olimpico
X-ORIGINAL-URL:https://www.teatroolimpico.it
X-WR-CALDESC:Events for Teatro Olimpico
REFRESH-INTERVAL;VALUE=DURATION:PT1H
X-Robots-Tag:noindex
X-PUBLISHED-TTL:PT1H
BEGIN:VTIMEZONE
TZID:UTC
BEGIN:STANDARD
TZOFFSETFROM:+0000
TZOFFSETTO:+0000
TZNAME:UTC
DTSTART:20250101T000000
END:STANDARD
END:VTIMEZONE
BEGIN:VEVENT
DTSTART;TZID=UTC:20250513T203000
DTEND;TZID=UTC:20250513T220000
DTSTAMP:20260422T205544
CREATED:20240306T115353Z
LAST-MODIFIED:20250510T135204Z
UID:7626-1747168200-1747173600@www.teatroolimpico.it
SUMMARY:Paolo Crepet - Mordere il cielo
DESCRIPTION:Inutile negarlo\, girarci attorno. Viviamo tra nuove guerre\, migrazioni di massa\, povertà che si ammassano nelle grandi città\, vecchie e nuove droghe dilagano\, ansie e angosce trovano insuete espressività. Come se un’antica cicatrice interiore fosse tornata a condizionare il tempo presente. \nEppure molti continuano a cercare\, forse proprio perché l’eclissi della ragione coglie un’umanità sempre più smarrita. Proprio adesso che una parte del pianeta pensava di aver conosciuto benessere e allungamento della vita\, mi chiedo dove siano andate a finire le nostre emozioni\, perché in tanti tendono a relegarsi in una solitudine che accomuna giovani e adulti\, vecchi e bambini. Siamo all’età dell’insensibilità? \nIl rischio c’è ed è sempre più forte. Occorre parlare di questa potenziale eclissi di una parte della nostra sfera emotiva\, le complicità e le omissioni che tendono a tradire l’identità più profonda di ogni essere umano. \nPer tornare a “mordere il cielo” occorre ritrovare il coraggio di nuove eresie\, rinnovare ribellioni per inseguire le nostre unicità\, diffidando di quella grigia normalità dietro la quale si nasconde il sinistro rumore della neutralizzazione dell’anima.   \n________ \nvi informiamo che a causa degli Internazionali di tennis il traffico sarà molto intenso quindi vi consigliamo di arrivare per tempo a teatro. \n________ \nSpettacolo ore 20.30 \nDurata circa 90 min senza intervallo \n\n\n\n\nPrezzi\n\n\nSettore\nPrezzo intero\nPrevendita\nPrezzo 3-12 anni\nPrevendita 3-12 anni\n\n\n\n\nCommissione online €2\,00\n\n\nLa prevendita sarà sempre richiesta al momento dell’emissione del biglietto\n\n\n\n\nPoltronissima Centrale\n€38\,00\n€5\,50\n–\n–\n\n\nPoltronissima Laterale\n€36\,00\n€5\,00\n€26\,00\n€3\,50\n\n\nPoltrona\n€34\,00\n€5\,00\n€24\,00\n€3\,50\n\n\nBalconata\n€34\,00\n€5\,00\n€24\,00\n€3\,50\n\n\nBalconata Laterale\n€30\,00\n€4\,00\n€21\,00\n€3\,00\n\n\n\n  \n\nACQUISTA ORA
URL:https://www.teatroolimpico.it/evento/paolo-crepet-mordere-il-cielo-2/
CATEGORIES:Stagione 2024-2025
ATTACH;FMTTYPE=image/jpeg:https://www.teatroolimpico.it/wp-content/uploads/2024/03/CREPET_SITO_nuovadata.jpg
END:VEVENT
END:VCALENDAR