BEGIN:VCALENDAR
VERSION:2.0
PRODID:-//Teatro Olimpico - ECPv5.15.0.1//NONSGML v1.0//EN
CALSCALE:GREGORIAN
METHOD:PUBLISH
X-WR-CALNAME:Teatro Olimpico
X-ORIGINAL-URL:https://www.teatroolimpico.it
X-WR-CALDESC:Events for Teatro Olimpico
REFRESH-INTERVAL;VALUE=DURATION:PT1H
X-Robots-Tag:noindex
X-PUBLISHED-TTL:PT1H
BEGIN:VTIMEZONE
TZID:UTC
BEGIN:STANDARD
TZOFFSETFROM:+0000
TZOFFSETTO:+0000
TZNAME:UTC
DTSTART:20250101T000000
END:STANDARD
END:VTIMEZONE
BEGIN:VEVENT
DTSTART;VALUE=DATE:20250507
DTEND;VALUE=DATE:20250512
DTSTAMP:20260422T210638
CREATED:20240611T153628Z
LAST-MODIFIED:20250324T142031Z
UID:8001-1746576000-1747007999@www.teatroolimpico.it
SUMMARY:Pink Floyd Legend - The Wall
DESCRIPTION:Cinque serate evento con la messa in scena integrale della straordinaria Opera Rock.\nGià venduti oltre 3000 biglietti. \nDopo il grande successo della Pink Floyd Legend Week dello scorso anno\, che ha registrato 7500 spettatori\, i Pink Floyd Legend tornano con un evento unico: la messa in scena integrale di The Wall\, il celebre concept album dei Pink Floyd\, in programma per cinque date consecutive dal 7 all’11 maggio 2025. \nLo spettacolo sarà una vera e propria opera rock dal vivo\, che unirà musica\, teatro e immagini. Sul palco prenderà vita la costruzione in tempo reale del leggendario muro\, elemento centrale della narrazione dell’opera\, che sarà eretto e abbattuto nel corso della performance\, riproducendo fedelmente lo storico spettacolo dei Pink Floyd. A rendere ancora più immersivo l’evento contribuiranno performer\, proiezioni video mapping e straordinari effetti visivi\, creando un’esperienza multisensoriale di grande impatto. Inoltre\, saranno presenti scenografie e oggetti di scena fedelmente riprodotti\, ispirati a quelli utilizzati dai Pink Floyd nel tour originale di The Wall e in quello più recente di Roger Waters. \nI Pink Floyd Legend\, noti per la loro interpretazione fedele e coinvolgente del repertorio floydiano\, sono Fabio Castaldi (voce e basso)\, Alessandro Errichetti (voce e chitarre)\, Simone Temporali (voce e tastiere) ed Emanuele Esposito (batteria). \nL’evento è prodotto da Gilda Petronelli di Menti Associate\, il management che cura ogni produzione dei Legend\, e organizzato in collaborazione con il Teatro Olimpico\, uno dei luoghi storici della musica\, del balletto e del teatro a Roma. \nI biglietti sono disponibili su Ticketone.it\, teatroolimpico.it e presso il botteghino del Teatro Olimpico. \nPINK FLOYD LEGEND: Negli ultimi quattro anni\, i Pink Floyd Legend hanno portato i loro spettacoli davanti a oltre 150.000 spettatori. Ogni tour\, firmato Menti Associate\, è stato un evento imperdibile: da Atom Heart Mother con coro e orchestra a The Dark Side of the Moon – 50th Anniversary Tour\, da Live at Pompeii con strumenti vintage originali all’evento per i 40 anni di Animals\, con una spettacolare riproduzione della Battersea Power Station in mapping 3D. SHINE Pink Floyd Moon\, l’opera rock di Micha van Hoecke\, ha visto i Legend esibirsi insieme a Raffaele Paganini e ai danzatori della Compagnia Daniele Cipriani. Negli anni la band ha ospitato sul palco musicisti e collaboratori dei Pink Floyd come Guy Pratt\, Ron Geesin (con cui si sono esibiti davanti a più di 3000 spettatori alla Cavea del Parco della Musica di Roma)\, Gary Wallis\, Durga McBroom\, Claudia Fontaine e Harry Waters\, con il quale hanno eseguito The Final Cut in un evento speciale dedicato agli 80 anni dello Sbarco di Anzio. L’attesissima messa in scena di The Wall al Teatro Olimpico rappresenta un ulteriore tassello nella straordinaria carriera della band: una produzione spettacolare che trasporterà il pubblico dentro l’universo narrativo e musicale del capolavoro floydiano. \nREGIA Fabio Castaldi\nAUTORI Pink Floyd\nMUSICHE Pink Floyd Legend\nPRODUZIONE Menti Associate\nLUCI Ivan Lattanzi – Event Project Group\nINGEGNERE DEL SUONO Maurizio Capitini \nDurata 120 min  \nSpettacoli dal mercoledì al sabato ore 20.30\, domenica ore 17.30 \n\n\n\n\nPrezzi\n\n\nSettore\nPrezzo intero\nPrevendita\nPrezzo under 25\nPrevendita under 25\n\n\n\n\nCommissione online €2\,50\n\n\nLa prevendita sarà sempre richiesta al momento dell’emissione del biglietto\n\n\n\n\nPoltronissima Centrale\n€45\,50\n€6\,50\n€32\,00\n€4\,50\n\n\nPoltronissima Laterale\n€40\,00\n€6\,00\n€28\,00\n€4\,00\n\n\nPoltrona\n€34\,00\n€5\,00\n€24\,00\n€3\,50\n\n\nBalconata\n€34\,00\n€5\,00\n€24\,00\n€3\,50\n\n\nBalconata Laterale\n€29\,00\n€4\,00\n€20\,00\n€3\,00\n\n\n\n  \n\nACQUISTA ORA
URL:https://www.teatroolimpico.it/evento/pink-floyd-legend-the-wall/
CATEGORIES:Stagione 2024-2025
ATTACH;FMTTYPE=image/jpeg:https://www.teatroolimpico.it/wp-content/uploads/2024/06/PFL_1920_V2.jpg
END:VEVENT
END:VCALENDAR