BEGIN:VCALENDAR
VERSION:2.0
PRODID:-//Teatro Olimpico - ECPv5.15.0.1//NONSGML v1.0//EN
CALSCALE:GREGORIAN
METHOD:PUBLISH
X-WR-CALNAME:Teatro Olimpico
X-ORIGINAL-URL:https://www.teatroolimpico.it
X-WR-CALDESC:Events for Teatro Olimpico
REFRESH-INTERVAL;VALUE=DURATION:PT1H
X-Robots-Tag:noindex
X-PUBLISHED-TTL:PT1H
BEGIN:VTIMEZONE
TZID:UTC
BEGIN:STANDARD
TZOFFSETFROM:+0000
TZOFFSETTO:+0000
TZNAME:UTC
DTSTART:20250101T000000
END:STANDARD
END:VTIMEZONE
BEGIN:VEVENT
DTSTART;VALUE=DATE:20250427
DTEND;VALUE=DATE:20250429
DTSTAMP:20260422T205616
CREATED:20240712T130620Z
LAST-MODIFIED:20250104T152940Z
UID:8147-1745712000-1745884799@www.teatroolimpico.it
SUMMARY:LIVEPLAY - Coldplay Experience
DESCRIPTION:I LIVEPLAY sono il tributo ai Coldplay di riferimento in Italia ed Europa\, in attività dal 2013 con numerose tournée nazionali ed internazionali.\nL’idea di fondo è di superare il concetto di “semplice tribute band”\, offrendo al pubblico uno spettacolo non solo musicale ma anche visivo ed emotivo\, ricco di costumi\, scenografie ed effetti speciali che possano coinvolgere lo spettatore a 360 gradi.\nScenografie e strumentazioni all’avanguardia\, ledwall\, light e laser show\, effetti speciali e braccialetti led sincronizzati con la musica live: uno show esclusivo ed indimenticabile! \nSpettacoli 27 aprile ore 19\, 28 aprile ore 20.30 \n\n\n\n\nPrezzi\n\n\nSettore\nPrezzo intero\nPrevendita\nPrezzo 3-12 anni\nPrevendita 3-12 anni\n\n\n\n\nCommissione online €2\,00\n\n\nLa prevendita sarà sempre richiesta al momento dell’emissione del biglietto\n\n\n\n\nPoltronissima Centrale\n€34\,00\n€5\,00\n–\n–\n\n\nPoltronissima Laterale\n€31\,00\n€4\,50\n€22\,00\n€3\,00\n\n\nPoltrona\n€27\,00\n€4\,00\n€19\,00\n€2\,50\n\n\nBalconata\n€27\,00\n€4\,00\n€19\,00\n€2\,50\n\n\nBalconata Laterale\n€23\,00\n€3\,00\n€16\,00\n€2\,00\n\n\n\n  \n\nACQUISTA ORA
URL:https://www.teatroolimpico.it/evento/liveplay-coldplay-experience/
CATEGORIES:Stagione 2024-2025
ATTACH;FMTTYPE=image/jpeg:https://www.teatroolimpico.it/wp-content/uploads/2024/07/LIVEPLAY_SITO_nodata.jpg
END:VEVENT
END:VCALENDAR