BEGIN:VCALENDAR
VERSION:2.0
PRODID:-//Teatro Olimpico - ECPv5.15.0.1//NONSGML v1.0//EN
CALSCALE:GREGORIAN
METHOD:PUBLISH
X-WR-CALNAME:Teatro Olimpico
X-ORIGINAL-URL:https://www.teatroolimpico.it
X-WR-CALDESC:Events for Teatro Olimpico
REFRESH-INTERVAL;VALUE=DURATION:PT1H
X-Robots-Tag:noindex
X-PUBLISHED-TTL:PT1H
BEGIN:VTIMEZONE
TZID:UTC
BEGIN:STANDARD
TZOFFSETFROM:+0000
TZOFFSETTO:+0000
TZNAME:UTC
DTSTART:20250101T000000
END:STANDARD
END:VTIMEZONE
BEGIN:VEVENT
DTSTART;TZID=UTC:20250424T203000
DTEND;TZID=UTC:20250424T223000
DTSTAMP:20260422T225137
CREATED:20240919T104306Z
LAST-MODIFIED:20241129T164229Z
UID:8380-1745526600-1745533800@www.teatroolimpico.it
SUMMARY:SHAMZY- Testa di Caos
DESCRIPTION:Nel secondo spettacolo teatrale del celebre comico del web\, Shamzy affronta temi di attualità e situazioni quotidiane\, trasformando ogni argomento in un’occasione per sorprendere e divertire\, mescolando irriverenza\, sincerità e improvvisazione in un vortice di comicità esagerata! Volgare\, provocatorio\, canzonatorio… ma questo spettacolo ha anche dei difetti. \nConsigliato a chi\, come lui\, in fondo non è altro che una Testa di Caos \n\nSpettacolo ore 20.30 \n\n\n\n\nPrezzi\n\n\nSettore\nPrezzo intero\nPrevendita\nPrezzo 3-12 anni\nPrevendita 3-12 anni\n\n\n\n\nCommissione online €2\,00\n\n\nLa prevendita sarà sempre richiesta al momento dell’emissione del biglietto\n\n\n\n\nPoltronissima Centrale\n€30\,50\n€4\,50\n–\n–\n\n\nPoltronissima Laterale\n€29\,00\n€4\,00\n€20\,50\n€3\,00\n\n\nPoltrona\n€27\,00\n€4\,00\n€19\,00\n€2\,50\n\n\nBalconata\n€27\,00\n€4\,00\n€19\,00\n€2\,50\n\n\nBalconata Laterale\n€25\,00\n€3\,50\n€17\,50\n€2\,50\n\n\n\n  \n\nACQUISTA ORA
URL:https://www.teatroolimpico.it/evento/shamzy-testa-di-caos/
CATEGORIES:Stagione 2024-2025
ATTACH;FMTTYPE=image/jpeg:https://www.teatroolimpico.it/wp-content/uploads/2024/09/SHAMZY_SITO.jpg
END:VEVENT
END:VCALENDAR