BEGIN:VCALENDAR
VERSION:2.0
PRODID:-//Teatro Olimpico - ECPv5.15.0.1//NONSGML v1.0//EN
CALSCALE:GREGORIAN
METHOD:PUBLISH
X-WR-CALNAME:Teatro Olimpico
X-ORIGINAL-URL:https://www.teatroolimpico.it
X-WR-CALDESC:Events for Teatro Olimpico
REFRESH-INTERVAL;VALUE=DURATION:PT1H
X-Robots-Tag:noindex
X-PUBLISHED-TTL:PT1H
BEGIN:VTIMEZONE
TZID:UTC
BEGIN:STANDARD
TZOFFSETFROM:+0000
TZOFFSETTO:+0000
TZNAME:UTC
DTSTART:20250101T000000
END:STANDARD
END:VTIMEZONE
BEGIN:VEVENT
DTSTART;VALUE=DATE:20250418
DTEND;VALUE=DATE:20250421
DTSTAMP:20260422T225139
CREATED:20240610T085008Z
LAST-MODIFIED:20241129T163939Z
UID:7967-1744934400-1745193599@www.teatroolimpico.it
SUMMARY:Incanti
DESCRIPTION:Dopo il successo della scorsa stagione\, la grande magia torna al Teatro Olimpico dal 18 al 20 aprile! \nINCANTI – lo spettacolo di illusionismo più atteso dell’anno – vede in scena sei dei più giovani e più premiati illusionisti italiani che si alterneranno sul palco nell’arco di una serata all’insegna della magia del teatro. \nPrendendo le mosse dalle riflessioni di alcuni dei più grandi autori del teatro\, tra cui Shakespeare\, Goethe\, Pirandello e altri\, il pubblico sarà chiamato a risvegliare il «fanciullino» che ciascuno di noi è stato per riscoprire nelle piccole cose la capacità di meravigliarci di ciò che troppo spesso diamo per scontato. \nUno spettacolo capace di far sognare i più piccoli e di far riflettere i più grandi grazie ad un nuovo modo di presentare l’illusionismo a teatro che abbandona una volta per tutte le scatole ricoperte di paillettes\, i cappelli a cilindro\, i conigli\, le colombe e le ballerine semi-nude\, per mettere in scena la nostra umanità e\, con essa\, le nostre speranze e le nostre disillusioni. \nLo spettacolo è consigliato a partire dagli 8 anni in su. \n\nREGIA Andrea Rizzolini\nAUTORE Andrea Rizzolini\nASSISTENTE ALLA REGIA E ALLA DRAMMATURGIA Pietro Venesia\nSCENE Laura Benzi\nMUSICHE Federico Venturini\nPRODUZIONE Officine dell’Incanto\nLUCI Andrea Rizzolini \nDurata 90 min (senza intervallo) \n\n\nSpettacoli venerdì e sabato  ore 16.30 e 20.30\, domenica ore 18 \n\n\nPrezzi\n\n\nSettore\nPrezzo intero\nPrevendita\nPrezzo 3-12 anni\nPrevendita 3-12 anni\n\n\n\n\nCommissione online €1\,50\n\n\nLa prevendita sarà sempre richiesta al momento dell’emissione del biglietto\n\n\n\n\nPoltronissima VIP\n€48\,00\n€7\,00\n–\n–\n\n\nPoltronissima Centrale\n€40\,00\n€6\,00\n€22\,70\n€3\,30\n\n\nPoltronissima Laterale\n€35\,00\n€5\,00\n€20\,00\n€3\,00\n\n\nPoltrona\n€30\,50\n€4\,50\n€17\,50\n€2\,50\n\n\nBalconata\n€30\,50\n€4\,50\n€17\,50\n€2\,50\n\n\nBalconata Laterale\n€24\,50\n€3\,50\n€14\,00\n€2\,00\n\n\n\n  \n\nACQUISTA ORA
URL:https://www.teatroolimpico.it/evento/incanti-2/
CATEGORIES:Stagione 2024-2025
ATTACH;FMTTYPE=image/jpeg:https://www.teatroolimpico.it/wp-content/uploads/2024/05/Olimpico-1124x806-1.jpg
END:VEVENT
END:VCALENDAR