BEGIN:VCALENDAR
VERSION:2.0
PRODID:-//Teatro Olimpico - ECPv5.15.0.1//NONSGML v1.0//EN
CALSCALE:GREGORIAN
METHOD:PUBLISH
X-WR-CALNAME:Teatro Olimpico
X-ORIGINAL-URL:https://www.teatroolimpico.it
X-WR-CALDESC:Events for Teatro Olimpico
REFRESH-INTERVAL;VALUE=DURATION:PT1H
X-Robots-Tag:noindex
X-PUBLISHED-TTL:PT1H
BEGIN:VTIMEZONE
TZID:UTC
BEGIN:STANDARD
TZOFFSETFROM:+0000
TZOFFSETTO:+0000
TZNAME:UTC
DTSTART:20250101T000000
END:STANDARD
END:VTIMEZONE
BEGIN:VEVENT
DTSTART;VALUE=DATE:20250312
DTEND;VALUE=DATE:20250324
DTSTAMP:20260423T005158
CREATED:20240521T093522Z
LAST-MODIFIED:20250201T210156Z
UID:7900-1741737600-1742774399@www.teatroolimpico.it
SUMMARY:Sapore di Mare - Il Musical
DESCRIPTION:IL CELEBRE FILM DEI FRATELLI VANZINA ARRIVA PER LA PRIMA VOLTA A TEATRO CON LE PIÙ BELLE CANZONI ITALIANE DEI FAVOLOSI ANNI 60.  \nUn viaggio evocativo nel cuore degli Anni ’60\, fra amori estivi\, spensieratezza e melodie senza tempo: debutta sui palcoscenici italiani\, per la prima volta\, “Sapore di Mare – Il Musical”\, lo show che trasporta il pubblico nelle atmosfere inconfondibili delle estati versiliesi\, ispirato all’iconico film cult che ha segnato un’intera generazione. \nAlveare Produzioni insieme a Savà Produzioni Creative e Gli Ipocriti Melina Balsamo\, sono lieti di proporre in prima assoluta al pubblico italiano Sapore di Mare – Il musical\, una produzione teatrale completamente originale adattata da Enrico Vanzina e Fausto Brizzi e con la regia di Maurizio Colombi. \nFilm cult della commedia italiana\, diretto da Carlo Vanzina e con sceneggiatura di Carlo ed Enrico Vanzina\, Sapore di mare diventa finalmente un jukebox musical destinato a far cantare e ballare tutti i suoi spettatori sui brani più celebri del canzoniere italiano\, tutt’oggi scolpiti nella memoria collettiva e cuore pulsante del nostro patrimonio musicale. \n“Sapore di mare” è ancora oggi uno dei film più amati dal pubblico italiano per aver contribuito a creare un’immagine romantica e nostalgica di quella favolosa stagione.\nCon una colonna sonora intrigante\, interamente basata sui grandi successi dell’epoca come “Il Cielo in una stanza” di Gino Paoli interpretata da Mina\, “Una rotonda sul mare” di Fred Bongusto\, “Nessuno mi può giudicare” di Caterina Caselli\, “Non son degno di te” di Gianni Morandi e altre trenta hits\, “Sapore di mare” è da sempre considerato il miglior film dei Vanzina\, un successo eclatante ai botteghini con un incasso di oltre 10 miliardi di lire. \nA teatro\, un cast d’eccezione darà vita ai personaggi dell’indimenticabile estate del 1964 vissuta a Forte dei Marmi fra bravate\, innamoramenti e avventure amorose. \nFatima Trotta vestirà i panni della dolce e sognante Marina Pinardi (interpretata nel film da Marina Suma)\, il volto di un amore puro e indimenticabile\, la ragazza della porta accanto che fa battere i cuori e racchiude la magia di un’estate che profuma di sogni e speranze.\nPaolo Ruffini vestirà i panni del carismatico Cecco il Fotografo\, un ruolo qui completamente reinventato per raccontare le trame e gli intrecci dei protagonisti. Un narratore romantico\, che con la sua raffinata ironia\, sottolineerà la nostalgia dei grandi amori perduti e dell’inconsapevolezza della gioventù. \nEDOARDO PIACENTE – LUCA CARRARO\nGIULIA CARRA – ADRIANA BALESTRA\nLUCA QUARCHIONI – GIANNI\nLORENZO TOGNOCCHI – FELICINO CARRARO\nMARTA MELCHIORRE – SUSAN HUNT\nPAKY VICENTI – PAOLO PINARDI (Fratello di Marina)\nPAOLO BARILLARI – MORINO IL BAGNINO\nANNA FORIA – SELVAGGIA BINETTI\nCARLOTTA SIBILLA – GIORGIA\nELISA FILACE – LUCIA PINARDI\nGIUSEPPE GALIZIA – COMMENDATOR CARRARO\nRENATO TOGNOCCHI – DOTTOR BALESTRA\nALEX BOTTA – MAURIZIO\nPIETRO MASCHERONI – MARCHESINO PUCCI\nFRANCESCO BIANCHINI – MARCHESINO PUCCI\nCLAUDIA CAMPOLONGO – MEDICO\, PRESENTATRICE\, CANTANTE\, TASTIERISTA\nMARTA BITTI – ENSEMBLE \nREGIA Maurizio Colombi\nAUTORI Enrico Vanzina\, Fausto Brizzi\, Maurizio Colombi\nSCENE Clara Abbruzzese\nDIRETTORE MUSICALE Davide Magnabosco\nPRODUZIONE Alveare Produzioni – Savà Produzioni Creative e Gli Ipocriti Melina Balsamo su licenza esclusiva di Redvelvet srl e Dean Film srl\nLUCI Valerio Tiberi \n\nSpettacoli dal martedì al venerdì ore 20.30\, sabato ore 16.30 e 20.30\, domenica 16 marzo ore 18\, domenica 23 marzo ore 17 \n\n\n\n\nPrezzi\n\n\nSettore\nPrezzo intero\nPrevendita\nPrezzo 3-12 anni\nPrevendita 3-12 anni\n\n\n\n\nCommissione online €2\,00\n\n\nLa prevendita sarà sempre richiesta al momento dell’emissione del biglietto\n\n\n\n\nPoltronissima Centrale\n€65\,00\n€8\,00\n–\n–\n\n\nPoltronissima Laterale\n€55\,50\n€7\,00\n€44\,50\n€6\,00\n\n\nPoltrona\n€49\,00\n€7\,00\n€39\,00\n€5\,50\n\n\nBalconata\n€49\,00\n€7\,00\n€39\,00\n€5\,50\n\n\nBalconata Laterale\n€41\,00\n€6\,00\n€33\,00\n€4\,80\n\n\n\n  \n\nACQUISTA ORA
URL:https://www.teatroolimpico.it/evento/sapore-di-mare-il-musical/
CATEGORIES:Stagione 2024-2025
ATTACH;FMTTYPE=image/jpeg:https://www.teatroolimpico.it/wp-content/uploads/2024/05/SAPORE_1920_2.jpg
END:VEVENT
END:VCALENDAR