BEGIN:VCALENDAR
VERSION:2.0
PRODID:-//Teatro Olimpico - ECPv5.15.0.1//NONSGML v1.0//EN
CALSCALE:GREGORIAN
METHOD:PUBLISH
X-WR-CALNAME:Teatro Olimpico
X-ORIGINAL-URL:https://www.teatroolimpico.it
X-WR-CALDESC:Events for Teatro Olimpico
REFRESH-INTERVAL;VALUE=DURATION:PT1H
X-Robots-Tag:noindex
X-PUBLISHED-TTL:PT1H
BEGIN:VTIMEZONE
TZID:UTC
BEGIN:STANDARD
TZOFFSETFROM:+0000
TZOFFSETTO:+0000
TZNAME:UTC
DTSTART:20250101T000000
END:STANDARD
END:VTIMEZONE
BEGIN:VEVENT
DTSTART;TZID=UTC:20250224T203000
DTEND;TZID=UTC:20250224T223000
DTSTAMP:20260423T004407
CREATED:20240704T141224Z
LAST-MODIFIED:20250131T141330Z
UID:8077-1740429000-1740436200@www.teatroolimpico.it
SUMMARY:Erminio Sinni - E tu davanti a me e Omaggio alla musica italiana
DESCRIPTION:Un concerto evento con i suoi più grandi successi personali\, alternati alle canzoni  che hanno fatta la storia della musica Italiana come “La sera dei Miracoli “ \, “Mille giorni di te e di me” e tante altre in cui mostrerà la sua enorme sensibilità artistica e interpretativa. \nIl vincitore della prima edizione di The Voice Senior assieme alla sua storica band ed ad un orchestra di archi diretta dal Maestro Attilio di Giovanni\,  è pronto a incantare il pubblico del Teatro Olimpico con concerto carico di emozione per festeggiare assieme la sua grande carriera di esecutore a autore. \n\nSpettacolo  ore 20.30 \n\n\n\n\n\nPrezzi\n\n\nSettore\nPrezzo intero\nPrevendita\nPrezzo under 35 anni\nPrevendita under 35 anni\n\n\n\n\nCommissione online €1\,50\n\n\nLa prevendita sarà sempre richiesta al momento dell’emissione del biglietto\n\n\n\n\nPoltronissima Centrale\n€31\,50\n€4\,50\n–\n–\n\n\nPoltronissima Laterale\n€29\,00\n€4\,00\n€19\,50\n€2\,50\n\n\nPoltrona\n€25\,50\n€3\,50\n€17\,50\n€2\,50\n\n\nBalconata\n€17\,50\n€2\,50\n€17\,50\n€2\,50\n\n\n\n  \n\nACQUISTA ORA
URL:https://www.teatroolimpico.it/evento/erminio-sinni-e-tu-davanti-a-me/
CATEGORIES:Stagione 2024-2025
ATTACH;FMTTYPE=image/png:https://www.teatroolimpico.it/wp-content/uploads/2024/07/Erminio_Sinni_1124X806.png
END:VEVENT
END:VCALENDAR