BEGIN:VCALENDAR
VERSION:2.0
PRODID:-//Teatro Olimpico - ECPv5.15.0.1//NONSGML v1.0//EN
CALSCALE:GREGORIAN
METHOD:PUBLISH
X-WR-CALNAME:Teatro Olimpico
X-ORIGINAL-URL:https://www.teatroolimpico.it
X-WR-CALDESC:Events for Teatro Olimpico
REFRESH-INTERVAL;VALUE=DURATION:PT1H
X-Robots-Tag:noindex
X-PUBLISHED-TTL:PT1H
BEGIN:VTIMEZONE
TZID:UTC
BEGIN:STANDARD
TZOFFSETFROM:+0000
TZOFFSETTO:+0000
TZNAME:UTC
DTSTART:20240101T000000
END:STANDARD
END:VTIMEZONE
BEGIN:VEVENT
DTSTART;VALUE=DATE:20241120
DTEND;VALUE=DATE:20241202
DTSTAMP:20260423T075322
CREATED:20240521T134201Z
LAST-MODIFIED:20241130T141959Z
UID:7905-1732060800-1733097599@www.teatroolimpico.it
SUMMARY:Massimo Lopez Tullio Solenghi - Dove eravamo rimasti
DESCRIPTION:COMUNICAZIONE IMPORTANTE \nSi avvisano i gentili spettatori che lo spettacolo “Dove eravamo rimasti” di oggi 30 novembre ore 16.30 è stato annullato a causa di un lieve infortunio occorso a Massimo Lopez.\nI biglietti verranno rimborsati interamente nei prossimi giorni secondo modalità che verranno presto comunicate.\nAndrà regolarmente in scena la replica delle ore 20.30. \n_______________________ \nLa sensazione più esaltante del loro ultimo spettacolo\, “Massimo Lopez e Tullio Solenghi Show” è stata quella di avere in sala ogni sera non soltanto un pubblico empatico e festoso\, ma una sorta di famiglia allargata\, dei veri e propri parenti che hanno condiviso alcuni momenti di un’incredibile avventura scenica con frammenti della loro vita. Ed ecco che subito subentra l’idea di ripartire proprio da questa splendida sinergia\, “Dove eravamo rimasti” non è un titolo lasciato al caso.\nQuesto  nuovo spettacolo proporrà numeri/sketch/brani musicali/contributi video\, con alcuni picchi di comicità come una lectio magistralis di Sgarbi/Lopez\, un affettuoso omaggio all’avanspettacolo ed il confronto Mattarella/ Papa Bergoglio\, inseriti nella nostra ormai collaudata dimensione dello Show.\nIl filo conduttore sarà quello di una chiacchierata tra amici\, la famiglia allargata di cui sopra\, che collegherà i vari momenti di spettacolo.\nLa band del maestro Gabriele Comeglio sarà ancora una volta sul palco\, irrinunciabile “spalla” della cornice musicale.\nL’intento è quello di stupire ed emozionare ancora una volta quei meravigliosi “parenti” seduti giù in platea. \nDurata: 100 minuti \nSpettacoli dal mercoledì al sabato ore 20.30\, sabato 30 novembre ore 16.30 e 20.30\, domenica ore 17.30 \n\n\n\n\nPrezzi\n\n\nSettore\nPrezzo intero\nPrevendita\nPrezzo 3-12 anni\nPrevendita 3-12 anni\n\n\n\n\nCommissione online €2\,00\n\n\nLa prevendita sarà sempre richiesta al momento dell’emissione del biglietto\n\n\n\n\nPoltronissima Centrale\n€40\,00\n€6\,00\n–\n–\n\n\nPoltronissima Laterale\n€37\,00\n€5\,50\n€25\,00\n€3\,50\n\n\nPoltrona\n€30\,00\n€4\,50\n€21\,00\n€3\,00\n\n\nBalconata\n€30\,00\n€4\,50\n€21\,00\n€3\,00\n\n\nBalconata Laterale\n€27\,00\n€4\,00\n€19\,00\n€2\,50\n\n\n\n  \n\nACQUISTA ORA
URL:https://www.teatroolimpico.it/evento/solenghi-lopez-dove-eravamo-rimasti/
CATEGORIES:Stagione 2024-2025
ATTACH;FMTTYPE=image/jpeg:https://www.teatroolimpico.it/wp-content/uploads/2024/05/SOLENGHI_LOPEZ-SITO.jpg
END:VEVENT
END:VCALENDAR