BEGIN:VCALENDAR
VERSION:2.0
PRODID:-//Teatro Olimpico - ECPv5.15.0.1//NONSGML v1.0//EN
CALSCALE:GREGORIAN
METHOD:PUBLISH
X-WR-CALNAME:Teatro Olimpico
X-ORIGINAL-URL:https://www.teatroolimpico.it
X-WR-CALDESC:Events for Teatro Olimpico
REFRESH-INTERVAL;VALUE=DURATION:PT1H
X-Robots-Tag:noindex
X-PUBLISHED-TTL:PT1H
BEGIN:VTIMEZONE
TZID:UTC
BEGIN:STANDARD
TZOFFSETFROM:+0000
TZOFFSETTO:+0000
TZNAME:UTC
DTSTART:20240101T000000
END:STANDARD
END:VTIMEZONE
BEGIN:VEVENT
DTSTART;TZID=UTC:20241106T210000
DTEND;TZID=UTC:20241106T223000
DTSTAMP:20260423T074617
CREATED:20240802T131454Z
LAST-MODIFIED:20241030T164632Z
UID:8237-1730926800-1730932200@www.teatroolimpico.it
SUMMARY:ANAT Gran Galà 2024
DESCRIPTION:Chi c’è dietro la carriera brillante di un artista? Ve lo siete mai chiesti? Arriva al Teatro Olimpico un intero galà che festeggia la figura professionale dell’agente\, una grande festa con artisti sensazionali che sono la rappresentazione dell’ottimo operato di ANAT\, Associazione Nazionale Agenti Teatrali e Spettacolo. Un inno alle arti e a chi scova il talento per le strade del mondo. \n﻿ \nAnat è un’associazione di categoria che riunisce Impresari\, Manager\, Organizzatori di eventi e\, in generale\, gli Operatori del settore radio-televisivo e dello spettacolo. L’associazione promuove gli interessi della categoria che rappresenta\, facendosi promotrice presso le Istituzioni di tutte quelle istanze e problematiche che\, di volta in volta\, emergono dal dialogo interno tra gli associati. Inoltre organizza corsi e stage di formazione per i giovani che vogliono avvicinarsi alla professione di agenti di spettacolo. Questo nella convinzione dell’importanza della professionalità e preparazione di ogni singola figura professionale. \nPresentano David Romano e Antonella Ponziani \nInterverranno \nAntonio Mezzancella\nMarco Marzocca\nCarmine Faraco\nAnnalisa Minetti\nMarco Morandi\nLittle Tony’s Family\nDanilo Amerio\nDaniele Si Nasce (Vincitore Tali e Quali)\nAgostino Penna (Vincitore Tale e Quale Show)\nAndrea Paris (Vincitore Tù sì que vales)\nStefano Sani\nDavide Rossi (X Factor)\nLos Locos\nKelly Joice\nEnrico Capuano\nMariella Nava\nDr Gam\nGigione \n\nSpettacolo ore 21.00 \n\n\n\n\nPrezzi\n\n\nSettore\nPrezzo intero\nPrevendita\nPrezzo 3-12 anni\nPrevendita 3-12 anni\n\n\n\n\nLa prevendita sarà sempre richiesta al momento dell’emissione del biglietto\n\n\n\n\nPoltronissima Centrale\n€30\,00\n€4\,50\n–\n–\n\n\nPoltronissima Laterale\n€27\,00\n€4\,00\n€16\,00\n€2\,00\n\n\nPoltrona\n€25\,00\n€3\,50\n€15\,00\n€2\,00\n\n\nBalconata\n€25\,00\n€3\,50\n€15\,00\n€2\,00\n\n\nBalconata Laterale\n€22\,00\n€3\,00\n€14\,00\n€2\,00\n\n\n\n  \n\nACQUISTA ORA
URL:https://www.teatroolimpico.it/evento/anat-gran-gala-2024/
CATEGORIES:Stagione 2024-2025
ATTACH;FMTTYPE=image/jpeg:https://www.teatroolimpico.it/wp-content/uploads/2024/08/ANAT_SITO.jpg
END:VEVENT
END:VCALENDAR