BEGIN:VCALENDAR
VERSION:2.0
PRODID:-//Teatro Olimpico - ECPv5.15.0.1//NONSGML v1.0//EN
CALSCALE:GREGORIAN
METHOD:PUBLISH
X-WR-CALNAME:Teatro Olimpico
X-ORIGINAL-URL:https://www.teatroolimpico.it
X-WR-CALDESC:Events for Teatro Olimpico
REFRESH-INTERVAL;VALUE=DURATION:PT1H
X-Robots-Tag:noindex
X-PUBLISHED-TTL:PT1H
BEGIN:VTIMEZONE
TZID:UTC
BEGIN:STANDARD
TZOFFSETFROM:+0000
TZOFFSETTO:+0000
TZNAME:UTC
DTSTART:20240101T000000
END:STANDARD
END:VTIMEZONE
BEGIN:VEVENT
DTSTART;VALUE=DATE:20241001
DTEND;VALUE=DATE:20241003
DTSTAMP:20260423T094059
CREATED:20240124T134245Z
LAST-MODIFIED:20240826T135608Z
UID:7490-1727740800-1727913599@www.teatroolimpico.it
SUMMARY:Stefano Nazzi - Indagini Live
DESCRIPTION:Il grande successo ottenuto dal podcast ha spinto il giornalista e scrittore STEFANO NAZZI\, a portare dal vivo “INDAGINI”. \nStefano Nazzi è un giornalista e ha lavorato per importanti testate nazionali. Si è sempre occupato di cronaca\, seguendo i casi più conosciuti e di maggiore risonanza\, ma anche vicende meno note. Oggi racconta la cronaca e l’attualità per Il Post. È ideatore e autore di Indagini\, ai primi posti delle classifiche dei podcast\, e autore de Il volto del male (Mondadori\, 2023)\, un libro che racconta la storia di persone che hanno ucciso altre persone ma non solo\, racconta chi erano prima\, come sono arrivate a uccidere\, e che cosa è successo dopo. \nSi avvisa il gentile pubblico che la data del 2 ottobre è già sold out\, pertanto è disponibile all’acquisto la replica del 1° ottobre al link in basso (acquista ora). \nSpettacolo ore 20.30 \nDurata: 90 min senza intervallo.  \n\n\n\nPrezzi\n\n\nSettore\nPrezzo intero\nPrevendita\n\n\n\n\nLa prevendita sarà sempre richiesta al momento dell’emissione del biglietto\n\n\n\n\nPoltronissima Centrale\n€35\,00\n€5\,00\n\n\nPoltronissima Laterale\n€30\,00\n€4\,50\n\n\nPoltrona\n€28\,00\n€4\,00\n\n\nBalconata\n€25\,00\n€3\,50\n\n\nBalconata Laterale\n€22\,00\n€3\,00\n\n\n\n\nLa prevendita sarà sempre richiesta al momento dell’emissione del biglietto\n  \n\nACQUISTA ORA
URL:https://www.teatroolimpico.it/evento/stefano-nazzi-indagini-live-2/
CATEGORIES:Stagione 2024-2025
ATTACH;FMTTYPE=image/jpeg:https://www.teatroolimpico.it/wp-content/uploads/2023/12/Stefano-Nazzi-ph-Stefania-Casellato.jpg
END:VEVENT
END:VCALENDAR