BEGIN:VCALENDAR
VERSION:2.0
PRODID:-//Teatro Olimpico - ECPv5.15.0.1//NONSGML v1.0//EN
CALSCALE:GREGORIAN
METHOD:PUBLISH
X-WR-CALNAME:Teatro Olimpico
X-ORIGINAL-URL:https://www.teatroolimpico.it
X-WR-CALDESC:Events for Teatro Olimpico
REFRESH-INTERVAL;VALUE=DURATION:PT1H
X-Robots-Tag:noindex
X-PUBLISHED-TTL:PT1H
BEGIN:VTIMEZONE
TZID:UTC
BEGIN:STANDARD
TZOFFSETFROM:+0000
TZOFFSETTO:+0000
TZNAME:UTC
DTSTART:20240101T000000
END:STANDARD
END:VTIMEZONE
BEGIN:VEVENT
DTSTART;TZID=UTC:20240524T203000
DTEND;TZID=UTC:20240524T223000
DTSTAMP:20260425T173444
CREATED:20230907T064406Z
LAST-MODIFIED:20240105T174420Z
UID:7174-1716582600-1716589800@www.teatroolimpico.it
SUMMARY:ROBERTO LIPARI -...E HO DETTO TUTTO
DESCRIPTION:“..E ho detto tutto” è l’espressione tipicamente usata da chi vuole mettere un punto ad una discussione\, ma è anche un modo per rafforzare ciò che si dice. In questo secondo caso diventa il correlativo di “sono convinto di ciò che ho detto”. Roberto Lipari utilizza tale frase nella sua duplice accezione. Lo spettacolo è concepito come una vera e propria discussione in cui Roberto esprime\, con la sua ormai nota comicità\, un punto di vista sul mondo che ci circonda\, portando avanti le sue convinzioni e aggiungendone di nuove. Riprende infatti il suo repertorio comico rafforzando i principi\, esprimendo nuovi punti di vista alla luce della trasformazione che la nostra società sta vivendo negli ultimi anni. Una trasformazione che ha coinvolto la quotidianità di tutti noi disegnando una società fluida nella quale sono nate nuove prospettive sui grandi temi quali l’ecologia\, l’economia\, la scuola\, i vecchi e i nuovi media.\nCon la sua comicità Roberto attraverserà le storture e i paradossi di questa nuova società con lo sguardo leggero e disincantato. Dietro la risata\, l’analisi e la riflessione offrono nuovi spazi e nuovi punti di vista. \nDurata: 120 min \nSpettacolo ore 21.00 \n\n\n\n\nPREZZI \n(escluso diritto di prevendita)\n\n\n\nPoltronissima centrale\n      35\,00 €\n\n\nPoltronissima laterale\n      30\,50 €\n\n\nPoltrona\n      27\,50 €\n\n\nBalconata centrale\n      27\,50 €\n\n\nBalconata laterale\n      22\,00 €\n\n\nRidotto 3-12 anni\n      17\,50 €\n\n\n\n  \n\nACQUISTA ORA
URL:https://www.teatroolimpico.it/evento/roberto-lipari-e-ho-detto-tutto/
CATEGORIES:Stagione 2023-2024
ATTACH;FMTTYPE=image/jpeg:https://www.teatroolimpico.it/wp-content/uploads/2023/09/LIPARI-SITO.jpg
END:VEVENT
END:VCALENDAR