BEGIN:VCALENDAR
VERSION:2.0
PRODID:-//Teatro Olimpico - ECPv5.15.0.1//NONSGML v1.0//EN
CALSCALE:GREGORIAN
METHOD:PUBLISH
X-WR-CALNAME:Teatro Olimpico
X-ORIGINAL-URL:https://www.teatroolimpico.it
X-WR-CALDESC:Events for Teatro Olimpico
REFRESH-INTERVAL;VALUE=DURATION:PT1H
X-Robots-Tag:noindex
X-PUBLISHED-TTL:PT1H
BEGIN:VTIMEZONE
TZID:UTC
BEGIN:STANDARD
TZOFFSETFROM:+0000
TZOFFSETTO:+0000
TZNAME:UTC
DTSTART:20240101T000000
END:STANDARD
END:VTIMEZONE
BEGIN:VEVENT
DTSTART;TZID=UTC:20240523T203000
DTEND;TZID=UTC:20240523T220000
DTSTAMP:20260425T173445
CREATED:20240510T153300Z
LAST-MODIFIED:20240510T172059Z
UID:7875-1716496200-1716501600@www.teatroolimpico.it
SUMMARY:CONTAMINAZIONI - SUONI DAL MEDITERRANEO
DESCRIPTION:“CONTAMINAZIONI” SUONI DEL MEDITERRANEO  \nIL MEDITERRANEO E’ TERRA DI FRONTIERA. \nL’evento musicale consiste in una performance della Band “MUSICANTI  ENSAMBLE“  che si esibirà live\, accompagnando la storia musicale di PINO DANIELE dove la Musica risulta una continua contaminazione di Suoni del mondo e proponendo gli arrangiamenti originali\, secondo la rigorosa direzione artistica di Fabio Massimo Colasanti\, stretto collaboratore di Pino Daniele per più di vent’anni. \nSeguirà la Performance di Tony Esposito\, accompagnato da artisti della musica Classica del Neapolitan Brass Quintet e dalla Banda del Sol\, un “evento” unico. \nTony Esposito realizzerà una particolare “performance”: un progetto artistico musicale denominato “Tribal/Classic”: Tony Esposito e i Musicisti che l’accompagnano eseguiranno dei Brani di Musica Classica in una Versione “Tribal”. \nSpettacolo giovedì 23 maggio ore 20.30 \nDurata: circa 90 min \n\nACQUISTA ORA
URL:https://www.teatroolimpico.it/evento/contaminazioni-suoni-dal-mediterraneo/
CATEGORIES:Stagione 2023-2024
ATTACH;FMTTYPE=image/jpeg:https://www.teatroolimpico.it/wp-content/uploads/2024/05/CONTAMINAZIONI.jpg
END:VEVENT
END:VCALENDAR