BEGIN:VCALENDAR
VERSION:2.0
PRODID:-//Teatro Olimpico - ECPv5.15.0.1//NONSGML v1.0//EN
CALSCALE:GREGORIAN
METHOD:PUBLISH
X-WR-CALNAME:Teatro Olimpico
X-ORIGINAL-URL:https://www.teatroolimpico.it
X-WR-CALDESC:Events for Teatro Olimpico
REFRESH-INTERVAL;VALUE=DURATION:PT1H
X-Robots-Tag:noindex
X-PUBLISHED-TTL:PT1H
BEGIN:VTIMEZONE
TZID:UTC
BEGIN:STANDARD
TZOFFSETFROM:+0000
TZOFFSETTO:+0000
TZNAME:UTC
DTSTART:20240101T000000
END:STANDARD
END:VTIMEZONE
BEGIN:VEVENT
DTSTART;TZID=UTC:20240521T090000
DTEND;TZID=UTC:20240521T110000
DTSTAMP:20260425T172932
CREATED:20240201T170445Z
LAST-MODIFIED:20240325T100203Z
UID:7520-1716282000-1716289200@www.teatroolimpico.it
SUMMARY:ASLICO - TURANDOT. ENIGMI AL MUSEO da Turandot
DESCRIPTION:TURANDOT. ENIGMI AL MUSEO da Turandot \nOPERA RISERVATA ALLE SCUOLE | ASLICO – OPERA DOMANI XXVIII EDIZIONE \nTEATRO OLIMPICO \nSi rinnova la collaborazione con Opera Education\, che da anni realizza progetti di formazione musicale\, producendo spettacoli di teatro musicale e di opera lirica per bambini e per le loro famiglie. Uno spettacolo partecipativo in equilibrio tra opera e teatro in cui il giovane pubblico è invitato a cantare un’aria e interagire con gli interpreti con coreografie e lavori preparati in classe. \nTurandot è una favola disseminata di misteri e momenti evocativi che trasportano il pubblico in una Cina magica e grandiosa: enigmi\, principi d’oriente\, gong del destino\, boia\, palazzi imperiali\, sono tutti elementi che concorrono a narrare la storia della Principessa dal cuore di ghiaccio. Questa vicenda viene ambientata tra le sale di un museo dove il mondo di Turandot prenderà vita da statue\, vasi\, costumi tradizionali e antiche stampe. Calaf è un giovane visitatore del museo il quale rimane affascinato dal dipinto della principessa conservato in una cassa e pronto per essere esposto. Ecco che dopo la lettura di un vecchio manoscritto con la legge di Pechino da parte della guida del museo\, la vicenda prenderà forma. Calaf insieme a suo padre e Liù saranno catapultati nel misterioso mondo di Turandot che altro non aspetta di trovare il vero amore per essere liberata e ricordata per sempre. Nel corso dell’opera\, Calaf\, con l’aiuto di Ping\, Pong e Pang\, tre statue dell’esercito di terracotta\, cercherà di risolvere i tre enigmi per riuscire ad arrivare a Turandot e sposarla. I tre enigmi rappresentano una prova di intelligenza\, saggezza e comprensione per coloro che cercano di conquistare Turandot. Essi sottolineano l’importanza di andare oltre l’apparenza e di penetrare nel significato più profondo delle emozioni umane. Attraverso la risoluzione degli enigmi\, il protagonista dimostra infatti la sua abilità nel comprendere i veri valori dell’amore\, della compassione e della redenzione. La fine di Liù\, l’amica devota di Calaf\, assume un significato particolare. Per proteggere il segreto dell’identità di Calaf\, Liù si trasforma in una statua di porcellana\, diventando un simbolo eterno di lealtà e dedizione. Anche il finale della nostra versione offre un epilogo sorprendente: Calaf\, infatuato di Turandot\, si unisce a lei diventando parte del dipinto stesso. Questo simbolo di unione eterna e immortalità rappresenta il trionfo dei sentimenti sull’ostacolo e sulla fredda corazza della principessa e del mondo esterno. L’ambientazione nel museo dona a Turandot una nuova dimensione\, in cui il passato e il presente si fondono\, trasportando il pubblico in un viaggio di emozioni\, bellezza e riflessione. È infatti un luogo simbolo che da apparentemente statico si trasforma in un luogo di bellezza e racconto attivo. \nACQUISTA ORA \nmartedì 21 maggio 2024 ore: 09:15 e 11.15 \nDurata: 70 min (senza intervallo) \nBiglietto 10 Euro : Per i familiari dei ragazzi delle scuole che partecipano al progetto fino ad esaurimento posti disponibili
URL:https://www.teatroolimpico.it/evento/turandot-enigmi-al-museo/
CATEGORIES:Stagione 2023-2024
ATTACH;FMTTYPE=image/jpeg:https://www.teatroolimpico.it/wp-content/uploads/2024/02/sito-copia.jpg
END:VEVENT
END:VCALENDAR